Workbook

Sheet Muni comments
A1: Activity ID | B1: WBS | C1: Project Name | D1: Activity Name | E1: Footage | F1: Main Start | G1: Main Finish | H1: Service Start | I1: Service Finish | J1: Restoration Start | K1: Restoration Finish | L1: Comments
A2: Muni9510 | B2: PROJ-0951-MUN-2.24.1.2 | C2: 2021 GRP - Municipality | D2: Install Main - Abington Ave (1) (ANO W Warren Ave & W Warren Ave) | E2: 100 | F2: =IFERROR(VLOOKUP(B2,Main!$B:$G,5,FALSE),"") -> 44489 | G2: =IFERROR(VLOOKUP(B2,Main!$B:$G,6,FALSE),"") -> 44489 | H2: =IFERROR(VLOOKUP(B2,Service!$B:$G,5,FALSE),"") | I2: =IFERROR(VLOOKUP(B2,Service!$B:$G,6,FALSE),"") | J2: =IFERROR(VLOOKUP(B2,Rest!$B:$F,5,FALSE),"") -> 44491 | K2: =IFERROR(VLOOKUP(B2,Rest!$B:$G,6,FALSE),"") -> 44491 | L2: No Services in this segement
A3: Muni9590 | B3: PROJ-0951-MUN-2.25.1.2 | C3: 2021 GRP - Municipality | D3: Install Main - Abington Ave (2) (W Warren Ave & ASO W Warren Ave) | E3: 110 | F3: =IFERROR(VLOOKUP(B3,Main!$B:$G,5,FALSE),"") -> 44496 | G3: =IFERROR(VLOOKUP(B3,Main!$B:$G,6,FALSE),"") -> 44496 | H3: =IFERROR(VLOOKUP(B3,Service!$B:$G,5,FALSE),"") | I3: =IFERROR(VLOOKUP(B3,Service!$B:$G,6,FALSE),"") | J3: =IFERROR(VLOOKUP(B3,Rest!$B:$F,5,FALSE),"") -> 44501 | K3: =IFERROR(VLOOKUP(B3,Rest!$B:$G,6,FALSE),"") -> 44501 | L3: No Services in this segement
A4: Muni7430 | B4: PROJ-0951-MUN-2.4.1.2 | C4: 2021 GRP - Municipality | D4: Install Main - ANO Chicago (Griggs & Wyoming) | E4: 968 | F4: =IFERROR(VLOOKUP(B4,Main!$B:$G,5,FALSE),"") -> 06-24-21 A | G4: =IFERROR(VLOOKUP(B4,Main!$B:$G,6,FALSE),"") -> 06-30-21 A | H4: =IFERROR(VLOOKUP(B4,Service!$B:$G,5,FALSE),"") -> 44459 | I4: =IFERROR(VLOOKUP(B4,Service!$B:$G,6,FALSE),"") -> 44459 | J4: =IFERROR(VLOOKUP(B4,Rest!$B:$F,5,FALSE),"") -> 44461 | K4: =IFERROR(VLOOKUP(B4,Rest!$B:$G,6,FALSE),"") -> 44461
A5: Muni9670 | B5: PROJ-0951-MUN-2.26.1.2 | C5: 2021 GRP - Municipality | D5: Install Main - ANO W Warren Ave (1) (26' WWPL Archdale St & Archdale St) | E5: 75 | F5: =IFERROR(VLOOKUP(B5,Main!$B:$G,5,FALSE),"") -> 44516 | G5: =IFERROR(VLOOKUP(B5,Main!$B:$G,6,FALSE),"") -> 44516 | H5: =IFERROR(VLOOKUP(B5,Service!$B:$G,5,FALSE),"") | I5: =IFERROR(VLOOKUP(B5,Service!$B:$G,6,FALSE),"") | J5: =IFERROR(VLOOKUP(B5,Rest!$B:$F,5,FALSE),"") -> 44519 | K5: =IFERROR(VLOOKUP(B5,Rest!$B:$G,6,FALSE),"") -> 44519 | L5: No Services in this segement
A6: Muni11590 | B6: PROJ-0951-MUN-2.26.2.2 | C6: 2021 GRP - Municipality | D6: Install Main - ANO W Warren Ave (1) (Archdale St & Clayburn St) | E6: 850 | F6: =IFERROR(VLOOKUP(B6,Main!$B:$G,5,FALSE),"") -> 44461 | G6: =IFERROR(VLOOKUP(B6,Main!$B:$G,6,FALSE),"") -> 44466 | H6: =IFERROR(VLOOKUP(B6,Service!$B:$G,5,FALSE),"") -> 44468 | I6: =IFERROR(VLOOKUP(B6,Service!$B:$G,6,FALSE),"") -> 44481 | J6: =IFERROR(VLOOKUP(B6,Rest!$B:$F,5,FALSE),"") -> 44483 | K6: =IFERROR(VLOOKUP(B6,Rest!$B:$G,6,FALSE),"") -> 44483
A7: Muni11750 | B7: PROJ-0951-MUN-2.26.4.2 | C7: 2021 GRP - Municipality | D7: Install Main - ANO W Warren Ave (1) (Asbury Park & St Marys St) | E7: 540 | F7: =IFERROR(VLOOKUP(B7,Main!$B:$G,5,FALSE),"") -> 44476 | G7: =IFERROR(VLOOKUP(B7,Main!$B:$G,6,FALSE),"") -> 44481 | H7: =IFERROR(VLOOKUP(B7,Service!$B:$G,5,FALSE),"") -> 44483 | I7: =IFERROR(VLOOKUP(B7,Service!$B:$G,6,FALSE),"") -> 44496 | J7: =IFERROR(VLOOKUP(B7,Rest!$B:$F,5,FALSE),"") -> 44498 | K7: =IFERROR(VLOOKUP(B7,Rest!$B:$G,6,FALSE),"") -> 44498
A8: Muni11670 | B8: PROJ-0951-MUN-2.26.3.2 | C8: 2021 GRP - Municipality | D8: Install Main - ANO W Warren Ave (1) (Clayburn St & Woodmont Ave) | E8: 1305 | F8: =IFERROR(VLOOKUP(B8,Main!$B:$G,5,FALSE),"") -> 44468 | G8: =IFERROR(VLOOKUP(B8,Main!$B:$G,6,FALSE),"") -> 44474 | H8: =IFERROR(VLOOKUP(B8,Service!$B:$G,5,FALSE),"") -> 44476 | I8: =IFERROR(VLOOKUP(B8,Service!$B:$G,6,FALSE),"") -> 44489 | J8: =IFERROR(VLOOKUP(B8,Rest!$B:$F,5,FALSE),"") -> 44491 | K8: =IFERROR(VLOOKUP(B8,Rest!$B:$G,6,FALSE),"") -> 44491
A9: Muni11830 | B9: PROJ-0951-MUN-2.26.5.2 | C9: 2021 GRP - Municipality | D9: Install Main - ANO W Warren Ave (1) (Southfield Rd & 18' WWPL Archdale St) | E9: 185 | F9: =IFERROR(VLOOKUP(B9,Main!$B:$G,5,FALSE),"") -> 11-12-21* | G9: =IFERROR(VLOOKUP(B9,Main!$B:$G,6,FALSE),"") -> 44512 | H9: =IFERROR(VLOOKUP(B9,Service!$B:$G,5,FALSE),"") | I9: =IFERROR(VLOOKUP(B9,Service!$B:$G,6,FALSE),"") | J9: =IFERROR(VLOOKUP(B9,Rest!$B:$F,5,FALSE),"") -> 44517 | K9: =IFERROR(VLOOKUP(B9,Rest!$B:$G,6,FALSE),"") -> 44517 | L9: No Services in this segement
A10: Muni11910 | B10: PROJ-0951-MUN-2.27.2.2 | C10: 2021 GRP - Municipality | D10: Install Main - ANO W Warren Ave (4) (EOM Penrod St & Rosemont Ave) | E10: 280 | F10: =IFERROR(VLOOKUP(B10,Main!$B:$G,5,FALSE),"") -> 11-08-21* | G10: =IFERROR(VLOOKUP(B10,Main!$B:$G,6,FALSE),"") -> 44510 | H10: =IFERROR(VLOOKUP(B10,Service!$B:$G,5,FALSE),"") | I10: =IFERROR(VLOOKUP(B10,Service!$B:$G,6,FALSE),"") | J10: =IFERROR(VLOOKUP(B10,Rest!$B:$F,5,FALSE),"") -> 44515 | K10: =IFERROR(VLOOKUP(B10,Rest!$B:$G,6,FALSE),"") -> 44515 | L10: No Services in this segement
A11: Muni9750 | B11: PROJ-0951-MUN-2.27.1.2 | C11: 2021 GRP - Municipality | D11: Install Main - ANO W Warren Ave (4) (Rosemont Ave & 25' EEPL Ashton Ave) | E11: 395 | F11: =IFERROR(VLOOKUP(B11,Main!$B:$G,5,FALSE),"") -> 44512 | G11: =IFERROR(VLOOKUP(B11,Main!$B:$G,6,FALSE),"") -> 44517 | H11: =IFERROR(VLOOKUP(B11,Service!$B:$G,5,FALSE),"") | I11: =IFERROR(VLOOKUP(B11,Service!$B:$G,6,FALSE),"") | J11: =IFERROR(VLOOKUP(B11,Rest!$B:$F,5,FALSE),"") -> 44522 | K11: =IFERROR(VLOOKUP(B11,Rest!$B:$G,6,FALSE),"") -> 44522 | L11: No Services in this segement
A12: Muni9830 | B12: PROJ-0951-MUN-2.28.1.2 | C12: 2021 GRP - Municipality | D12: Install Main - Archdale St (2) (ANO W Warren Ave & W Warren Ave) | E12: 105 | F12: =IFERROR(VLOOKUP(B12,Main!$B:$G,5,FALSE),"") -> 44518 | G12: =IFERROR(VLOOKUP(B12,Main!$B:$G,6,FALSE),"") -> 44518 | H12: =IFERROR(VLOOKUP(B12,Service!$B:$G,5,FALSE),"") | I12: =IFERROR(VLOOKUP(B12,Service!$B:$G,6,FALSE),"") | J12: =IFERROR(VLOOKUP(B12,Rest!$B:$F,5,FALSE),"") -> 44524 | K12: =IFERROR(VLOOKUP(B12,Rest!$B:$G,6,FALSE),"") -> 44524 | L12: No Services in this segement
A13: Muni9910 | B13: PROJ-0951-MUN-2.29.1.2 | C13: 2021 GRP - Municipality | D13: Install Main - Archdale St (3) (W Warren Ave & ASO W Warren Ave) | E13: 105 | F13: =IFERROR(VLOOKUP(B13,Main!$B:$G,5,FALSE),"") -> 44524 | G13: =IFERROR(VLOOKUP(B13,Main!$B:$G,6,FALSE),"") -> 44524 | H13: =IFERROR(VLOOKUP(B13,Service!$B:$G,5,FALSE),"") | I13: =IFERROR(VLOOKUP(B13,Service!$B:$G,6,FALSE),"") | J13: =IFERROR(VLOOKUP(B13,Rest!$B:$F,5,FALSE),"") -> 44530 | K13: =IFERROR(VLOOKUP(B13,Rest!$B:$G,6,FALSE),"") -> 44530 | L13: No Services in this segement
A14: Muni9990 | B14: PROJ-0951-MUN-2.30.1.2 | C14: 2021 GRP - Municipality | D14: Install Main - Asbury Park (2) (ANO W Warren Ave & W Warren Ave) | E14: 105 | F14: =IFERROR(VLOOKUP(B14,Main!$B:$G,5,FALSE),"") -> 44523 | G14: =IFERROR(VLOOKUP(B14,Main!$B:$G,6,FALSE),"") -> 44523 | H14: =IFERROR(VLOOKUP(B14,Service!$B:$G,5,FALSE),"") | I14: =IFERROR(VLOOKUP(B14,Service!$B:$G,6,FALSE),"") | J14: =IFERROR(VLOOKUP(B14,Rest!$B:$F,5,FALSE),"") -> 44529 | K14: =IFERROR(VLOOKUP(B14,Rest!$B:$G,6,FALSE),"") -> 44529 | L14: No Services in this segement
A15: Muni10070 | B15: PROJ-0951-MUN-2.31.1.2 | C15: 2021 GRP - Municipality | D15: Install Main - Asbury Park (3) (W Waren Ave & ASO W Warren Ave) | E15: 115 | F15: =IFERROR(VLOOKUP(B15,Main!$B:$G,5,FALSE),"") -> 44516 | G15: =IFERROR(VLOOKUP(B15,Main!$B:$G,6,FALSE),"") -> 44516 | H15: =IFERROR(VLOOKUP(B15,Service!$B:$G,5,FALSE),"") | I15: =IFERROR(VLOOKUP(B15,Service!$B:$G,6,FALSE),"") | J15: =IFERROR(VLOOKUP(B15,Rest!$B:$F,5,FALSE),"") -> 44518 | K15: =IFERROR(VLOOKUP(B15,Rest!$B:$G,6,FALSE),"") -> 44518 | L15: No Services in this segement
A16: Muni8150 | B16: PROJ-0951-MUN-2.7.1.2 | C16: 2021 GRP - Municipality | D16: Install Main - Ash (Vinewood & Roosevelt) | E16: 715 | F16: =IFERROR(VLOOKUP(B16,Main!$B:$G,5,FALSE),"") -> 05-17-21 A | G16: =IFERROR(VLOOKUP(B16,Main!$B:$G,6,FALSE),"") -> 05-24-21 A | H16: =IFERROR(VLOOKUP(B16,Service!$B:$G,5,FALSE),"") -> 08-30-21 A | I16: =IFERROR(VLOOKUP(B16,Service!$B:$G,6,FALSE),"") -> 09-01-21 A | J16: =IFERROR(VLOOKUP(B16,Rest!$B:$F,5,FALSE),"") -> 44461 | K16: =IFERROR(VLOOKUP(B16,Rest!$B:$G,6,FALSE),"") -> 44461
A17: Muni7990 | B17: PROJ-0951-MUN-2.11.1.2 | C17: 2021 GRP - Municipality | D17: Install Main - ASO Chicago (Pinehurst & Birwood) | E17: 665 | F17: =IFERROR(VLOOKUP(B17,Main!$B:$G,5,FALSE),"") -> 07-12-21 A | G17: =IFERROR(VLOOKUP(B17,Main!$B:$G,6,FALSE),"") -> 07-19-21 A | H17: =IFERROR(VLOOKUP(B17,Service!$B:$G,5,FALSE),"") -> 44459 | I17: =IFERROR(VLOOKUP(B17,Service!$B:$G,6,FALSE),"") -> 44459 | J17: =IFERROR(VLOOKUP(B17,Rest!$B:$F,5,FALSE),"") -> 44461 | K17: =IFERROR(VLOOKUP(B17,Rest!$B:$G,6,FALSE),"") -> 44461
A18: Muni8470 | B18: PROJ-0951-MUN-2.16.1.2 | C18: 2021 GRP - Municipality | D18: Install Main - ASO Michigan (At Vinewood) | E18: 5 | F18: =IFERROR(VLOOKUP(B18,Main!$B:$G,5,FALSE),"") -> 06-08-21 A | G18: =IFERROR(VLOOKUP(B18,Main!$B:$G,6,FALSE),"") -> 06-08-21 A | H18: =IFERROR(VLOOKUP(B18,Service!$B:$G,5,FALSE),"") | I18: =IFERROR(VLOOKUP(B18,Service!$B:$G,6,FALSE),"") | J18: =IFERROR(VLOOKUP(B18,Rest!$B:$F,5,FALSE),"") -> 44460 | K18: =IFERROR(VLOOKUP(B18,Rest!$B:$G,6,FALSE),"") -> 44460 | L18: No Services in this segement
A19: Muni12070 | B19: PROJ-0951-MUN-2.32.3.2 | C19: 2021 GRP - Municipality | D19: Install Main - ASO W Warren Ave (1) (24' EWPL Archdale St & 4' WEPL Archdale St) | E19: 40 | F19: =IFERROR(VLOOKUP(B19,Main!$B:$G,5,FALSE),"") -> 09-20-21* | G19: =IFERROR(VLOOKUP(B19,Main!$B:$G,6,FALSE),"") -> 44459 | H19: =IFERROR(VLOOKUP(B19,Service!$B:$G,5,FALSE),"") | I19: =IFERROR(VLOOKUP(B19,Service!$B:$G,6,FALSE),"") | J19: =IFERROR(VLOOKUP(B19,Rest!$B:$F,5,FALSE),"") -> 44462 | K19: =IFERROR(VLOOKUP(B19,Rest!$B:$G,6,FALSE),"") -> 44462 | L19: No Services in this segement
A20: Muni11990 | B20: PROJ-0951-MUN-2.32.2.2 | C20: 2021 GRP - Municipality | D20: Install Main - ASO W Warren Ave (1) (Archdale St & St Marys St) | E20: 2950 | F20: =IFERROR(VLOOKUP(B20,Main!$B:$G,5,FALSE),"") -> 44483 | G20: =IFERROR(VLOOKUP(B20,Main!$B:$G,6,FALSE),"") -> 44502 | H20: =IFERROR(VLOOKUP(B20,Service!$B:$G,5,FALSE),"") -> 44504 | I20: =IFERROR(VLOOKUP(B20,Service!$B:$G,6,FALSE),"") -> 44517 | J20: =IFERROR(VLOOKUP(B20,Rest!$B:$F,5,FALSE),"") -> 44519 | K20: =IFERROR(VLOOKUP(B20,Rest!$B:$G,6,FALSE),"") -> 44519
A21: Muni10150 | B21: PROJ-0951-MUN-2.32.1.2 | C21: 2021 GRP - Municipality | D21: Install Main - ASO W Warren Ave (1) (Southfield Rd & Archdale St) | E21: 275 | F21: =IFERROR(VLOOKUP(B21,Main!$B:$G,5,FALSE),"") -> 44504 | G21: =IFERROR(VLOOKUP(B21,Main!$B:$G,6,FALSE),"") -> 44504 | H21: =IFERROR(VLOOKUP(B21,Service!$B:$G,5,FALSE),"") -> 44508 | I21: =IFERROR(VLOOKUP(B21,Service!$B:$G,6,FALSE),"") -> 44519 | J21: =IFERROR(VLOOKUP(B21,Rest!$B:$F,5,FALSE),"") -> 44523 | K21: =IFERROR(VLOOKUP(B21,Rest!$B:$G,6,FALSE),"") -> 44523
A22: Muni7910 | B22: PROJ-0951-MUN-2.10.1.2 | C22: 2021 GRP - Municipality | D22: Install Main - Birwood (Chicago & ASO Chicago) | E22: 118 | F22: =IFERROR(VLOOKUP(B22,Main!$B:$G,5,FALSE),"") -> 07-12-21 A | G22: =IFERROR(VLOOKUP(B22,Main!$B:$G,6,FALSE),"") -> 07-12-21 A | H22: =IFERROR(VLOOKUP(B22,Service!$B:$G,5,FALSE),"") -> 44459 | I22: =IFERROR(VLOOKUP(B22,Service!$B:$G,6,FALSE),"") -> 44459 | J22: =IFERROR(VLOOKUP(B22,Rest!$B:$F,5,FALSE),"") -> 44461 | K22: =IFERROR(VLOOKUP(B22,Rest!$B:$G,6,FALSE),"") -> 44461
A23: Muni7270 | B23: PROJ-0951-MUN-2.2.1.2 | C23: 2021 GRP - Municipality | D23: Install Main - Chicago 2 (Wyoming & EOM) | E23: 210 | F23: =IFERROR(VLOOKUP(B23,Main!$B:$G,5,FALSE),"") -> 07-09-21 A | G23: =IFERROR(VLOOKUP(B23,Main!$B:$G,6,FALSE),"") -> 07-13-21 A | H23: =IFERROR(VLOOKUP(B23,Service!$B:$G,5,FALSE),"") -> 44459 | I23: =IFERROR(VLOOKUP(B23,Service!$B:$G,6,FALSE),"") -> 44459 | J23: =IFERROR(VLOOKUP(B23,Rest!$B:$F,5,FALSE),"") -> 44461 | K23: =IFERROR(VLOOKUP(B23,Rest!$B:$G,6,FALSE),"") -> 44461
A24: Muni10230 | B24: PROJ-0951-MUN-2.33.1.2 | C24: 2021 GRP - Municipality | D24: Install Main - Clayburn St (1) (23' NNPL ANO W Warren Ave & 5' NSPL ANO W Warren Ave) | E24: 45 | F24: =IFERROR(VLOOKUP(B24,Main!$B:$G,5,FALSE),"") | G24: =IFERROR(VLOOKUP(B24,Main!$B:$G,6,FALSE),"") | H24: =IFERROR(VLOOKUP(B24,Service!$B:$G,5,FALSE),"") | I24: =IFERROR(VLOOKUP(B24,Service!$B:$G,6,FALSE),"") | J24: =IFERROR(VLOOKUP(B24,Rest!$B:$F,5,FALSE),"") | K24: =IFERROR(VLOOKUP(B24,Rest!$B:$G,6,FALSE),"") | L24: No Services in this segement
A25: Muni12150 | B25: PROJ-0951-MUN-2.33.2.2 | C25: 2021 GRP - Municipality | D25: Install Main - Clayburn St (1) (ANO W Warren Ave & W Warren Ave) | E25: 110 | F25: =IFERROR(VLOOKUP(B25,Main!$B:$G,5,FALSE),"") | G25: =IFERROR(VLOOKUP(B25,Main!$B:$G,6,FALSE),"") | H25: =IFERROR(VLOOKUP(B25,Service!$B:$G,5,FALSE),"") | I25: =IFERROR(VLOOKUP(B25,Service!$B:$G,6,FALSE),"") | J25: =IFERROR(VLOOKUP(B25,Rest!$B:$F,5,FALSE),"") | K25: =IFERROR(VLOOKUP(B25,Rest!$B:$G,6,FALSE),"") | L25: No Services in this segement
A26: Muni10470 | B26: PROJ-0951-MUN-2.36.1.2 | C26: 2021 GRP - Municipality | D26: Install Main - Grandmont Ave (2) (W Warren Ave & ASO W Warren Ave) | E26: 110 | F26: =IFERROR(VLOOKUP(B26,Main!$B:$G,5,FALSE),"") -> 44502 | G26: =IFERROR(VLOOKUP(B26,Main!$B:$G,6,FALSE),"") -> 44502 | H26: =IFERROR(VLOOKUP(B26,Service!$B:$G,5,FALSE),"") | I26: =IFERROR(VLOOKUP(B26,Service!$B:$G,6,FALSE),"") | J26: =IFERROR(VLOOKUP(B26,Rest!$B:$F,5,FALSE),"") -> 44505 | K26: =IFERROR(VLOOKUP(B26,Rest!$B:$G,6,FALSE),"") -> 44505 | L26: No Services in this segement
A27: Muni7510 | B27: PROJ-0951-MUN-2.5.1.2 | C27: 2021 GRP - Municipality | D27: Install Main - Griggs (ANO Chicago & Chicago) | E27: 95 | F27: =IFERROR(VLOOKUP(B27,Main!$B:$G,5,FALSE),"") -> 06-24-21 A | G27: =IFERROR(VLOOKUP(B27,Main!$B:$G,6,FALSE),"") -> 06-30-21 A | H27: =IFERROR(VLOOKUP(B27,Service!$B:$G,5,FALSE),"") -> 44459 | I27: =IFERROR(VLOOKUP(B27,Service!$B:$G,6,FALSE),"") -> 44459 | J27: =IFERROR(VLOOKUP(B27,Rest!$B:$F,5,FALSE),"") -> 44461 | K27: =IFERROR(VLOOKUP(B27,Rest!$B:$G,6,FALSE),"") -> 44461
A28: Muni8550 | B28: PROJ-0951-MUN-2.17.1.2 | C28: 2021 GRP - Municipality | D28: Install Main - Hubbard (West Grand Blvd & Michigan) | E28: 701 | F28: =IFERROR(VLOOKUP(B28,Main!$B:$G,5,FALSE),"") -> 06-10-21 A | G28: =IFERROR(VLOOKUP(B28,Main!$B:$G,6,FALSE),"") -> 06-16-21 A | H28: =IFERROR(VLOOKUP(B28,Service!$B:$G,5,FALSE),"") -> 44459 | I28: =IFERROR(VLOOKUP(B28,Service!$B:$G,6,FALSE),"") -> 44470 | J28: =IFERROR(VLOOKUP(B28,Rest!$B:$F,5,FALSE),"") -> 44475 | K28: =IFERROR(VLOOKUP(B28,Rest!$B:$G,6,FALSE),"") -> 44475
A29: Muni8790 | B29: PROJ-0951-MUN-2.20.1.2 | C29: 2021 GRP - Municipality | D29: Install Main - Lahser (Santa Clara & Mcnichols) | E29: 725 | F29: =IFERROR(VLOOKUP(B29,Main!$B:$G,5,FALSE),"") -> 05-31-21 A | G29: =IFERROR(VLOOKUP(B29,Main!$B:$G,6,FALSE),"") -> 06-17-21 A | H29: =IFERROR(VLOOKUP(B29,Service!$B:$G,5,FALSE),"") -> 44459 | I29: =IFERROR(VLOOKUP(B29,Service!$B:$G,6,FALSE),"") -> 44470 | J29: =IFERROR(VLOOKUP(B29,Rest!$B:$F,5,FALSE),"") -> 44475 | K29: =IFERROR(VLOOKUP(B29,Rest!$B:$G,6,FALSE),"") -> 44475
A30: Muni12230 | B30: PROJ-0951-MUN-2.37.2.2 | C30: 2021 GRP - Municipality | D30: Install Main - Longacre St (2) (ANO W Warren Ave & W Warren Ave) | E30: 115 | F30: =IFERROR(VLOOKUP(B30,Main!$B:$G,5,FALSE),"") | G30: =IFERROR(VLOOKUP(B30,Main!$B:$G,6,FALSE),"") | H30: =IFERROR(VLOOKUP(B30,Service!$B:$G,5,FALSE),"") | I30: =IFERROR(VLOOKUP(B30,Service!$B:$G,6,FALSE),"") | J30: =IFERROR(VLOOKUP(B30,Rest!$B:$F,5,FALSE),"") | K30: =IFERROR(VLOOKUP(B30,Rest!$B:$G,6,FALSE),"") | L30: No Services in this segement
A31: Muni10550 | B31: PROJ-0951-MUN-2.37.1.2 | C31: 2021 GRP - Municipality | D31: Install Main - Longacre St (2) (EOM & ANO W Warren Ave) | E31: 290 | F31: =IFERROR(VLOOKUP(B31,Main!$B:$G,5,FALSE),"") | G31: =IFERROR(VLOOKUP(B31,Main!$B:$G,6,FALSE),"") | H31: =IFERROR(VLOOKUP(B31,Service!$B:$G,5,FALSE),"") | I31: =IFERROR(VLOOKUP(B31,Service!$B:$G,6,FALSE),"") | J31: =IFERROR(VLOOKUP(B31,Rest!$B:$F,5,FALSE),"") | K31: =IFERROR(VLOOKUP(B31,Rest!$B:$G,6,FALSE),"")
A32: Muni10630 | B32: PROJ-0951-MUN-2.38.1.2 | C32: 2021 GRP - Municipality | D32: Install Main - Longacre St (3) (W Warren Ave & ASO W Warren Ave) | E32: 115 | F32: =IFERROR(VLOOKUP(B32,Main!$B:$G,5,FALSE),"") -> 44480 | G32: =IFERROR(VLOOKUP(B32,Main!$B:$G,6,FALSE),"") -> 44480 | H32: =IFERROR(VLOOKUP(B32,Service!$B:$G,5,FALSE),"") | I32: =IFERROR(VLOOKUP(B32,Service!$B:$G,6,FALSE),"") | J32: =IFERROR(VLOOKUP(B32,Rest!$B:$F,5,FALSE),"") -> 44483 | K32: =IFERROR(VLOOKUP(B32,Rest!$B:$G,6,FALSE),"") -> 44483 | L32: No Services in this segement
A33: Muni8950 | B33: PROJ-0951-MUN-2.13.2.2 | C33: 2021 GRP - Municipality | D33: Install Main - Magnolia (Mckinley & Roosevelt) | E33: 328 | F33: =IFERROR(VLOOKUP(B33,Main!$B:$G,5,FALSE),"") -> 06-25-21 A | G33: =IFERROR(VLOOKUP(B33,Main!$B:$G,6,FALSE),"") -> 06-30-21 A | H33: =IFERROR(VLOOKUP(B33,Service!$B:$G,5,FALSE),"") | I33: =IFERROR(VLOOKUP(B33,Service!$B:$G,6,FALSE),"") | J33: =IFERROR(VLOOKUP(B33,Rest!$B:$F,5,FALSE),"") -> 44460 | K33: =IFERROR(VLOOKUP(B33,Rest!$B:$G,6,FALSE),"") -> 44460 | L33: No Services in this segement
A34: Muni8230 | B34: PROJ-0951-MUN-2.13.1.2 | C34: 2021 GRP - Municipality | D34: Install Main - Magnolia (Vinewood & Mckinley) | E34: 424 | F34: =IFERROR(VLOOKUP(B34,Main!$B:$G,5,FALSE),"") -> 06-29-21 A | G34: =IFERROR(VLOOKUP(B34,Main!$B:$G,6,FALSE),"") -> 06-30-21 A | H34: =IFERROR(VLOOKUP(B34,Service!$B:$G,5,FALSE),"") -> 44459 | I34: =IFERROR(VLOOKUP(B34,Service!$B:$G,6,FALSE),"") -> 44470 | J34: =IFERROR(VLOOKUP(B34,Rest!$B:$F,5,FALSE),"") -> 44475 | K34: =IFERROR(VLOOKUP(B34,Rest!$B:$G,6,FALSE),"") -> 44475
A35: Muni9350 | B35: PROJ-0951-MUN-2.18.2.2 | C35: 2021 GRP - Municipality | D35: Install Main - Mckinley (Magnolia & West Grand Blvd) | E35: 606 | F35: =IFERROR(VLOOKUP(B35,Main!$B:$G,5,FALSE),"") -> 06-22-21 A | G35: =IFERROR(VLOOKUP(B35,Main!$B:$G,6,FALSE),"") -> 06-24-21 A | H35: =IFERROR(VLOOKUP(B35,Service!$B:$G,5,FALSE),"") -> 44459 | I35: =IFERROR(VLOOKUP(B35,Service!$B:$G,6,FALSE),"") -> 44470 | J35: =IFERROR(VLOOKUP(B35,Rest!$B:$F,5,FALSE),"") -> 44475 | K35: =IFERROR(VLOOKUP(B35,Rest!$B:$G,6,FALSE),"") -> 44475
A36: Muni8630 | B36: PROJ-0951-MUN-2.18.1.2 | C36: 2021 GRP - Municipality | D36: Install Main - Mckinley (NO Magnolia & Magnolia) | E36: 234 | F36: =IFERROR(VLOOKUP(B36,Main!$B:$G,5,FALSE),"") -> 06-23-21 A | G36: =IFERROR(VLOOKUP(B36,Main!$B:$G,6,FALSE),"") -> 06-28-21 A | H36: =IFERROR(VLOOKUP(B36,Service!$B:$G,5,FALSE),"") -> 44459 | I36: =IFERROR(VLOOKUP(B36,Service!$B:$G,6,FALSE),"") -> 44470 | J36: =IFERROR(VLOOKUP(B36,Rest!$B:$F,5,FALSE),"") -> 44474 | K36: =IFERROR(VLOOKUP(B36,Rest!$B:$G,6,FALSE),"") -> 44474
A37: Muni10710 | B37: PROJ-0951-MUN-2.39.1.2 | C37: 2021 GRP - Municipality | D37: Install Main - Memorial St (1) (ANO W Warren Ave & W Warren Ave) | E37: 100 | F37: =IFERROR(VLOOKUP(B37,Main!$B:$G,5,FALSE),"") | G37: =IFERROR(VLOOKUP(B37,Main!$B:$G,6,FALSE),"") | H37: =IFERROR(VLOOKUP(B37,Service!$B:$G,5,FALSE),"") | I37: =IFERROR(VLOOKUP(B37,Service!$B:$G,6,FALSE),"") | J37: =IFERROR(VLOOKUP(B37,Rest!$B:$F,5,FALSE),"") -> 44474 | K37: =IFERROR(VLOOKUP(B37,Rest!$B:$G,6,FALSE),"") -> 44474 | L37: Schedule show no main in this segement just Resto may be this is carryover or so.
A38: Muni10790 | B38: PROJ-0951-MUN-2.40.1.2 | C38: 2021 GRP - Municipality | D38: Install Main - Memorial St (2) (W Warren Ave & ASO W Warren Ave) | E38: 110 | F38: =IFERROR(VLOOKUP(B38,Main!$B:$G,5,FALSE),"") | G38: =IFERROR(VLOOKUP(B38,Main!$B:$G,6,FALSE),"") | H38: =IFERROR(VLOOKUP(B38,Service!$B:$G,5,FALSE),"") | I38: =IFERROR(VLOOKUP(B38,Service!$B:$G,6,FALSE),"") | J38: =IFERROR(VLOOKUP(B38,Rest!$B:$F,5,FALSE),"") -> 44474 | K38: =IFERROR(VLOOKUP(B38,Rest!$B:$G,6,FALSE),"") -> 44474 | L38: Schedule show no main in this segement just Resto may be this is carryover or so.
A39: Muni7830 | B39: PROJ-0951-MUN-2.9.1.2 | C39: 2021 GRP - Municipality | D39: Install Main - Mendota (Chicago & ASO Chicago) | E39: 118 | F39: =IFERROR(VLOOKUP(B39,Main!$B:$G,5,FALSE),"") -> 07-13-21 A | G39: =IFERROR(VLOOKUP(B39,Main!$B:$G,6,FALSE),"") -> 07-13-21 A | H39: =IFERROR(VLOOKUP(B39,Service!$B:$G,5,FALSE),"") -> 44459 | I39: =IFERROR(VLOOKUP(B39,Service!$B:$G,6,FALSE),"") -> 44459 | J39: =IFERROR(VLOOKUP(B39,Rest!$B:$F,5,FALSE),"") -> 44461 | K39: =IFERROR(VLOOKUP(B39,Rest!$B:$G,6,FALSE),"") -> 44461
A40: Muni10870 | B40: PROJ-0951-MUN-2.41.1.2 | C40: 2021 GRP - Municipality | D40: Install Main - Mettetal St (3) (W Warren Ave & ASO W Warren Ave) | E40: 115 | F40: =IFERROR(VLOOKUP(B40,Main!$B:$G,5,FALSE),"") -> 44516 | G40: =IFERROR(VLOOKUP(B40,Main!$B:$G,6,FALSE),"") -> 44516 | H40: =IFERROR(VLOOKUP(B40,Service!$B:$G,5,FALSE),"") | I40: =IFERROR(VLOOKUP(B40,Service!$B:$G,6,FALSE),"") | J40: =IFERROR(VLOOKUP(B40,Rest!$B:$F,5,FALSE),"") -> 44518 | K40: =IFERROR(VLOOKUP(B40,Rest!$B:$G,6,FALSE),"") -> 44518 | L40: No Services in this segement
...

Sheet Residential Paving
A1: Activity ID | B1: WBS | C1: Project Name | D1: Activity Name | E1: Footage | F1: Main Start | G1: Main Finish | H1: Service Start | I1: Service Finish | J1: Resto Start | K1: Resto Finish
A2: EDET1 50657 | B2: GRP-2021-ED1.37.1.2 | C2: 2021 GRP - East Detroit 1 | D2: Install Main - Yorkshire Rd (2) (Waveney St & Mack Ave) | E2: 2610 | F2: =IFERROR(VLOOKUP(B2,Main!$B:$F,5,FALSE),"") -> 01-04-21 A | G2: =IFERROR(VLOOKUP(B2,Main!$B:$G,6,FALSE),"") -> 01-12-21 A | H2: =IFERROR(VLOOKUP(B2,Service!$B:$F,5,FALSE),"") -> 01-19-21 A | I2: =IFERROR(VLOOKUP(B2,Service!$B:$G,6,FALSE),"") -> 02-22-21 A | J2: =IFERROR(VLOOKUP(B2,Rest!$B:$F,5,FALSE),"") -> 05-18-21 A | K2: =IFERROR(VLOOKUP(B2,Rest!$B:$G,6,FALSE),"") -> 05-26-21 A
A3: EDET1 50643 | B3: GRP-2021-ED1.22.1.2 | C3: 2021 GRP - East Detroit 1 | D3: Install Main - Bishop St (2) (Waveney St & Mack Ave) | E3: 1400 | F3: =IFERROR(VLOOKUP(B3,Main!$B:$F,5,FALSE),"") -> 01-04-21 A | G3: =IFERROR(VLOOKUP(B3,Main!$B:$G,6,FALSE),"") -> 01-07-21 A | H3: =IFERROR(VLOOKUP(B3,Service!$B:$F,5,FALSE),"") -> 02-01-21 A | I3: =IFERROR(VLOOKUP(B3,Service!$B:$G,6,FALSE),"") -> 03-09-21 A | J3: =IFERROR(VLOOKUP(B3,Rest!$B:$F,5,FALSE),"") -> 05-04-21 A | K3: =IFERROR(VLOOKUP(B3,Rest!$B:$G,6,FALSE),"") -> 05-26-21 A
A4: EDET1 50640 | B4: GRP-2021-ED1.19.1.2 | C4: 2021 GRP - East Detroit 1 | D4: Install Main - Audubon Rd (2) (E Warrern Ave & Waveney St) | E4: 1765 | F4: =IFERROR(VLOOKUP(B4,Main!$B:$F,5,FALSE),"") -> 02-01-21 A | G4: =IFERROR(VLOOKUP(B4,Main!$B:$G,6,FALSE),"") -> 03-09-21 A | H4: =IFERROR(VLOOKUP(B4,Service!$B:$F,5,FALSE),"") -> 03-29-21 A | I4: =IFERROR(VLOOKUP(B4,Service!$B:$G,6,FALSE),"") -> 05-03-21 A | J4: =IFERROR(VLOOKUP(B4,Rest!$B:$F,5,FALSE),"") -> 05-27-21 A | K4: =IFERROR(VLOOKUP(B4,Rest!$B:$G,6,FALSE),"") -> 05-28-21 A
A5: NCDET - 5220 | B5: NEWPROJ-6.3.2.2 | C5: 2020 GRP - Carry Over - North Central Detroit 3 | D5: Install Main - Birwood (ANO Fenkell & Fenkell) - "Only to be installed if services cannot be moved to the alley" | E5: 104 | F5: =IFERROR(VLOOKUP(B5,Main!$B:$F,5,FALSE),"") -> 02-02-21 A | G5: =IFERROR(VLOOKUP(B5,Main!$B:$G,6,FALSE),"") -> 02-02-21 A | H5: =IFERROR(VLOOKUP(B5,Service!$B:$F,5,FALSE),"") | I5: =IFERROR(VLOOKUP(B5,Service!$B:$G,6,FALSE),"") | J5: =IFERROR(VLOOKUP(B5,Rest!$B:$F,5,FALSE),"") -> 44462 | K5: =IFERROR(VLOOKUP(B5,Rest!$B:$G,6,FALSE),"") -> 44468
A6: CDET2-1535 | B6: GRP-2021-CDet2.2.1.2 | C6: 2021 GRP - Central Detroit 2 | D6: Install Main - Glynn 1 (Dexter & Linwood) | E6: 2624 | F6: =IFERROR(VLOOKUP(B6,Main!$B:$F,5,FALSE),"") -> 02-02-21 A | G6: =IFERROR(VLOOKUP(B6,Main!$B:$G,6,FALSE),"") -> 02-23-21 A | H6: =IFERROR(VLOOKUP(B6,Service!$B:$F,5,FALSE),"") -> 03-11-21 A | I6: =IFERROR(VLOOKUP(B6,Service!$B:$G,6,FALSE),"") -> 04-12-21 A | J6: =IFERROR(VLOOKUP(B6,Rest!$B:$F,5,FALSE),"") -> 06-22-21 A | K6: =IFERROR(VLOOKUP(B6,Rest!$B:$G,6,FALSE),"") -> 07-21-21 A
A7: EDET1 50656 | B7: GRP-2021-ED1.36.1.2 | C7: 2021 GRP - East Detroit 1 | D7: Install Main - Yorkshire Rd (1) (E Warrern Ave & Waveney St) | E7: 1775 | F7: =IFERROR(VLOOKUP(B7,Main!$B:$F,5,FALSE),"") -> 02-22-21 A | G7: =IFERROR(VLOOKUP(B7,Main!$B:$G,6,FALSE),"") -> 02-26-21 A | H7: =IFERROR(VLOOKUP(B7,Service!$B:$F,5,FALSE),"") -> 03-24-21 A | I7: =IFERROR(VLOOKUP(B7,Service!$B:$G,6,FALSE),"") -> 03-31-21 A | J7: =IFERROR(VLOOKUP(B7,Rest!$B:$F,5,FALSE),"") -> 05-26-21 A | K7: =IFERROR(VLOOKUP(B7,Rest!$B:$G,6,FALSE),"") -> 05-26-21 A
A8: EDET1 504716 | B8: GRP-2021-ED1.18.5.2 | C8: 2021 GRP - East Detroit 1 | D8: Install Main - E Warren Ave (3) (Cadieux Dr & ASO E Warren Ave) | E8: 110 | F8: =IFERROR(VLOOKUP(B8,Main!$B:$F,5,FALSE),"") -> 03-05-21 A | G8: =IFERROR(VLOOKUP(B8,Main!$B:$G,6,FALSE),"") -> 03-05-21 A | H8: =IFERROR(VLOOKUP(B8,Service!$B:$F,5,FALSE),"") -> 44459 | I8: =IFERROR(VLOOKUP(B8,Service!$B:$G,6,FALSE),"") -> 44459 | J8: =IFERROR(VLOOKUP(B8,Rest!$B:$F,5,FALSE),"") -> 44463 | K8: =IFERROR(VLOOKUP(B8,Rest!$B:$G,6,FALSE),"") -> 44468
A9: EDET1 505196 | B9: GRP-2021-ED1.18.11.2 | C9: 2021 GRP - East Detroit 1 | D9: Install Main - E Warren Ave (3) S (Bishop St & Grayton St) | E9: 315 | F9: =IFERROR(VLOOKUP(B9,Main!$B:$F,5,FALSE),"") -> 03-08-21 A | G9: =IFERROR(VLOOKUP(B9,Main!$B:$G,6,FALSE),"") -> 03-09-21 A | H9: =IFERROR(VLOOKUP(B9,Service!$B:$F,5,FALSE),"") -> 44459 | I9: =IFERROR(VLOOKUP(B9,Service!$B:$G,6,FALSE),"") -> 44459 | J9: =IFERROR(VLOOKUP(B9,Rest!$B:$F,5,FALSE),"") -> 44462 | K9: =IFERROR(VLOOKUP(B9,Rest!$B:$G,6,FALSE),"") -> 44467
A10: EDET1 501120 | B10: GRP-2021-ED1.74.1.2 | C10: 2021 GRP - East Detroit 1 | D10: Install Main - Buckingham Ave (2) (Waveney St & Mack Ave) | E10: 2600 | F10: =IFERROR(VLOOKUP(B10,Main!$B:$F,5,FALSE),"") -> 03-11-21 A | G10: =IFERROR(VLOOKUP(B10,Main!$B:$G,6,FALSE),"") -> 03-17-21 A | H10: =IFERROR(VLOOKUP(B10,Service!$B:$F,5,FALSE),"") -> 06-18-21 A | I10: =IFERROR(VLOOKUP(B10,Service!$B:$G,6,FALSE),"") -> 06-21-21 A | J10: =IFERROR(VLOOKUP(B10,Rest!$B:$F,5,FALSE),"") -> 06-02-21 A | K10: =IFERROR(VLOOKUP(B10,Rest!$B:$G,6,FALSE),"") -> 44467
A11: EDET1 503756 | B11: GRP-2021-ED1.69.3.2 | C11: 2021 GRP - East Detroit 1 | D11: Install Main - Bedford St (1) (E Warren Ave & Waveney St) East | E11: 1820 | F11: =IFERROR(VLOOKUP(B11,Main!$B:$F,5,FALSE),"") -> 03-18-21 A | G11: =IFERROR(VLOOKUP(B11,Main!$B:$G,6,FALSE),"") -> 03-23-21 A | H11: =IFERROR(VLOOKUP(B11,Service!$B:$F,5,FALSE),"") -> 04-12-21 A | I11: =IFERROR(VLOOKUP(B11,Service!$B:$G,6,FALSE),"") -> 05-19-21 A | J11: =IFERROR(VLOOKUP(B11,Rest!$B:$F,5,FALSE),"") -> 05-27-21 A | K11: =IFERROR(VLOOKUP(B11,Rest!$B:$G,6,FALSE),"") -> 06-07-21 A
A12: EDET1 507396 | B12: GRP-2021-ED1.69.1.2 | C12: 2021 GRP - East Detroit 1 | D12: Install Main - Bedford St (1) (E Warren Ave & Waveney St) West | E12: 1820 | F12: =IFERROR(VLOOKUP(B12,Main!$B:$F,5,FALSE),"") -> 03-22-21 A | G12: =IFERROR(VLOOKUP(B12,Main!$B:$G,6,FALSE),"") -> 03-30-21 A | H12: =IFERROR(VLOOKUP(B12,Service!$B:$F,5,FALSE),"") | I12: =IFERROR(VLOOKUP(B12,Service!$B:$G,6,FALSE),"") | J12: =IFERROR(VLOOKUP(B12,Rest!$B:$F,5,FALSE),"") -> 05-27-21 A | K12: =IFERROR(VLOOKUP(B12,Rest!$B:$G,6,FALSE),"") -> 06-07-21 A
A13: EDET1 50469 | B13: GRP-2021-ED1.18.1.2 | C13: 2021 GRP - East Detroit 1 | D13: Install Main - E Warren Ave (3) S (Bishop St & Grayton St) | E13: 315 | F13: =IFERROR(VLOOKUP(B13,Main!$B:$F,5,FALSE),"") -> 04-12-21 A | G13: =IFERROR(VLOOKUP(B13,Main!$B:$G,6,FALSE),"") -> 04-28-21 A | H13: =IFERROR(VLOOKUP(B13,Service!$B:$F,5,FALSE),"") -> 44459 | I13: =IFERROR(VLOOKUP(B13,Service!$B:$G,6,FALSE),"") -> 44459 | J13: =IFERROR(VLOOKUP(B13,Rest!$B:$F,5,FALSE),"") -> 44466 | K13: =IFERROR(VLOOKUP(B13,Rest!$B:$G,6,FALSE),"") -> 44469
... A105: RR1 11371 | B105: GRP-2021-FR.65.1.2 | C105: 2021 GRP - Field Recommendation | D105: Install Main - Rohns (Mack & Goethe) | E105: 891 | F105: =IFERROR(VLOOKUP(B105,Main!$B:$F,5,FALSE),"") -> 06-22-21 A | G105: =IFERROR(VLOOKUP(B105,Main!$B:$G,6,FALSE),"") -> 06-24-21 A | H105: =IFERROR(VLOOKUP(B105,Service!$B:$F,5,FALSE),"") -> 44459 | I105: =IFERROR(VLOOKUP(B105,Service!$B:$G,6,FALSE),"") -> 44459 | J105: =IFERROR(VLOOKUP(B105,Rest!$B:$F,5,FALSE),"") -> 44463 | K105: =IFERROR(VLOOKUP(B105,Rest!$B:$G,6,FALSE),"") -> 44468

Sheet Speed Hump
A1: OBJECTID1 | B1: Join_Count | C1: TARGET_FID | D1: OBJECTID | E1: RDNAME | F1: FROMDESC | G1: TODESC | H1: Activity ID | I1: WBS | J1: Activity Name | K1: Main Start | L1: Main Finish | M1: Selected_Blocks | N1: COUNT | O1: site_status | P1: Id | Q1: Agency | R1: Phase | S1: Activity | T1: Project_ID | U1: Length | V1: Contract | W1: Proj_Type | X1: Street | Y1: From_ | Z1: To | AA1: Start_Date | AB1: End_Date | AC1: Contact | AD1: Phone | AE1: Email | AF1: Pub_Contac | AG1: Pub_Phone | AH1: Pub_Web | AI1: Last_Updat | AJ1: Datum | AK1: Municipali | AL1: Name | AM1: Name_1 | AN1: Shape__Area | AO1: Shape__Length | AP1: Shape_Length | AQ1: Service Start | AR1: Service Finish | AS1: Restoration Start | AT1: Restoration Finish
A2: 1 | B2: 1 | C2: 2 | D2: 2329 | E2: Binder St | F2: E Lantz St | G2: E Outer Dr | H2: NDET3-7515 | I2: GRP-2021-ND3.63.1.2 | J2: =IFERROR(VLOOKUP(H2,[1]Sheet1!$A:$H,3,FALSE),"") -> Elevate Main - Binder St (1) (8 Mile Rd (M102) & E Outer Dr) | K2: =IFERROR(VLOOKUP('Speed Hump'!H2,Main!$A:$G,6,FALSE),"") -> 06-21-21 A | L2: =IFERROR(VLOOKUP('Speed Hump'!H2,Main!$A:$G,7,FALSE),"") -> 06-29-21 A | M2: Yes | N2: 2 | O2: Will be Installed 2021 | P2: 0 | Q2: DTE Gas - GRP | R2: Design - Planning | S2: Gas Main Renewal | T2: SEGRID2021NDet3 | W2: 2021 MGA Grid | X2: Multiple | Y2: Multiple | Z2: Multiple | AA2: 44197 | AB2: 44561 | AC2: Dan Sand | AD2: 734-444-5737 | AE2: daniel.sand@dteenergy.com | AI2: 5/5/2020 | AJ2: NAD 1983 | AK2: Detroit | AL2: North Detroit 3 (NDet3) | AM2: NDet3 | AN2: 9178519.1 | AO2: 14104.415 | AP2: 342.33958 | AQ2: =IFERROR(VLOOKUP(I2,Service!$B:$G,5,FALSE),"") -> 06-18-21 A | AR2: =IFERROR(VLOOKUP(I2,Service!$B:$G,6,FALSE),"") -> 06-21-21 A | AS2: =IFERROR(VLOOKUP(I2,Rest!$B:$G,5,FALSE),"") -> 44463 | AT2: =IFERROR(VLOOKUP(I2,Rest!$B:$G,6,FALSE),"") -> 44468
A3: 2 | B3: 1 | C3: 11 | D3: 3965 | E3: Mitchell St | F3: E 7 Mile Rd | G3: Emery St | H3: NDET3-6795 | I3: GRP-2021-ND3.79.1.2 | J3: =IFERROR(VLOOKUP(H3,[1]Sheet1!$A:$H,3,FALSE),"") -> Elevate Main - Mitchell St (2) (E Outer Dr & ANO 7 Mile Rd) | K3: =IFERROR(VLOOKUP('Speed Hump'!H3,Main!$A:$G,6,FALSE),"") -> 10-06-21* | L3: =IFERROR(VLOOKUP('Speed Hump'!H3,Main!$A:$G,7,FALSE),"") -> 44483 | M3: Yes | N3: 2 | O3: Will be Installed 2021 | P3: 0 | Q3: DTE Gas - GRP | R3: Design - Planning | S3: Gas Main Renewal | T3: SEGRID2021NDet3 | W3: 2021 MGA Grid | X3: Multiple | Y3: Multiple | Z3: Multiple | AA3: 44197 | AB3: 44561 | AC3: Dan Sand | AD3: 734-444-5737 | AE3: daniel.sand@dteenergy.com | AI3: 5/5/2020 | AJ3: NAD 1983 | AK3: Detroit | AL3: North Detroit 3 (NDet3) | AM3: NDet3 | AN3: 9178519.1 | AO3: 14104.415 | AP3: 394.72841 | AQ3: =IFERROR(VLOOKUP(I3,Service!$B:$G,5,FALSE),"") -> 44462 | AR3: =IFERROR(VLOOKUP(I3,Service!$B:$G,6,FALSE),"") -> 44474 | AS3: =IFERROR(VLOOKUP(I3,Rest!$B:$G,5,FALSE),"") -> 44490 | AT3: =IFERROR(VLOOKUP(I3,Rest!$B:$G,6,FALSE),"") -> 44495
A4: 5 | B4: 1 | C4: 25 | D4: 962 | E4: Binder St | F4: E Remington St | G4: E Winchester Ave | H4: NDET3-7515 | I4: GRP-2021-ND3.63.1.2 | J4: =IFERROR(VLOOKUP(H4,[1]Sheet1!$A:$H,3,FALSE),"") -> Elevate Main - Binder St (1) (8 Mile Rd (M102) & E Outer Dr) | K4: =IFERROR(VLOOKUP('Speed Hump'!H4,Main!$A:$G,6,FALSE),"") -> 06-21-21 A | L4: =IFERROR(VLOOKUP('Speed Hump'!H4,Main!$A:$G,7,FALSE),"") -> 06-29-21 A | M4: Yes | N4: 2 | O4: Will be Installed 2021 | P4: 0 | Q4: DTE Gas - GRP | R4: Design - Planning | S4: Gas Main Renewal | T4: SEGRID2021NDet3 | W4: 2021 MGA Grid | X4: Multiple | Y4: Multiple | Z4: Multiple | AA4: 44197 | AB4: 44561 | AC4: Dan Sand | AD4: 734-444-5737 | AE4: daniel.sand@dteenergy.com | AI4: 5/5/2020 | AJ4: NAD 1983 | AK4: Detroit | AL4: North Detroit 3 (NDet3) | AM4: NDet3 | AN4: 9178519.1 | AO4: 14104.415 | AP4: 373.64104 | AQ4: =IFERROR(VLOOKUP(I4,Service!$B:$G,5,FALSE),"") -> 06-18-21 A | AR4: =IFERROR(VLOOKUP(I4,Service!$B:$G,6,FALSE),"") -> 06-21-21 A | AS4: =IFERROR(VLOOKUP(I4,Rest!$B:$G,5,FALSE),"") -> 44463 | AT4: =IFERROR(VLOOKUP(I4,Rest!$B:$G,6,FALSE),"") -> 44468
A5: 10 | B5: 1 | C5: 62 | D5: 2310 | E5: Sunset St | F5: E Lantz St | G5: E Outer Dr | H5: NDET3-6790 | I5: GRP-2021-ND3.61.1.2 | J5: =IFERROR(VLOOKUP(H5,[1]Sheet1!$A:$H,3,FALSE),"") -> Elevate Main - Sunset St (1) (8 Mile Rd (M102) & E Outer Dr) | K5: =IFERROR(VLOOKUP('Speed Hump'!H5,Main!$A:$G,6,FALSE),"") -> 06-03-21 A | L5: =IFERROR(VLOOKUP('Speed Hump'!H5,Main!$A:$G,7,FALSE),"") -> 06-04-21 A | M5: Yes | N5: 2 | O5: Will be Installed 2021 | P5: 0 | Q5: DTE Gas - GRP | R5: Design - Planning | S5: Gas Main Renewal | T5: SEGRID2021NDet3 | W5: 2021 MGA Grid | X5: Multiple | Y5: Multiple | Z5: Multiple | AA5: 44197 | AB5: 44561 | AC5: Dan Sand | AD5: 734-444-5737 | AE5: daniel.sand@dteenergy.com | AI5: 5/5/2020 | AJ5: NAD 1983 | AK5: Detroit | AL5: North Detroit 3 (NDet3) | AM5: NDet3 | AN5: 9178519.1 | AO5: 14104.415 | AP5: 342.64974 | AQ5: =IFERROR(VLOOKUP(I5,Service!$B:$G,5,FALSE),"") -> 05-11-21 A | AR5: =IFERROR(VLOOKUP(I5,Service!$B:$G,6,FALSE),"") -> 05-11-21 A | AS5: =IFERROR(VLOOKUP(I5,Rest!$B:$G,5,FALSE),"") -> 06-16-21 A | AT5: =IFERROR(VLOOKUP(I5,Rest!$B:$G,6,FALSE),"") -> 44468
A6: 21 | B6: 1 | C6: 108 | D6: 4655 | E6: Spring Garden St | F6: Queen St | G6: Hayes St | H6: RR1 6101 | I6: GRP-2021-RR.9.1.2 | J6: =IFERROR(VLOOKUP(H6,[1]Sheet1!$A:$H,3,FALSE),"") -> Install Main - Spring Garden 1 (Chalmers & Hayes) | K6: =IFERROR(VLOOKUP('Speed Hump'!H6,Main!$A:$G,6,FALSE),"") -> 44501 | L6: =IFERROR(VLOOKUP('Speed Hump'!H6,Main!$A:$G,7,FALSE),"") -> 44518 | M6: Yes | N6: 1 | O6: Will be Installed 2021 | P6: 0 | Q6: DTE Gas - GRP | R6: Design - Planning | S6: Gas Main Renewal | W6: 2021 Risk Rank | X6: Springarden | Y6: Kelly | Z6: Chalmers | AA6: 44197 | AB6: 44561 | AC6: Dan Sand | AD6: 734-444-5737 | AE6: daniel.sand@dteenergy.com | AI6: 6/11/2020 | AJ6: NAD 1983 | AK6: Detroit | AL6: Springarden (Kelly-Chalmers) | AN6: 181497.56 | AO6: 4059.3786 | AP6: 273.17316 | AQ6: =IFERROR(VLOOKUP(I6,Service!$B:$G,5,FALSE),"") -> 44459 | AR6: =IFERROR(VLOOKUP(I6,Service!$B:$G,6,FALSE),"") -> 44468 | AS6: =IFERROR(VLOOKUP(I6,Rest!$B:$G,5,FALSE),"") -> 44474 | AT6: =IFERROR(VLOOKUP(I6,Rest!$B:$G,6,FALSE),"") -> 44477
A7: 26 | B7: 1 | C7: 139 | D7: 955 | E7: Conley St | F7: Cordova St | G7: Amrad St | H7: NDET3-6830 | I7: GRP-2021-ND3.52.1.2 | J7: =IFERROR(VLOOKUP(H7,[1]Sheet1!$A:$H,3,FALSE),"") -> Install Main - Conley Ave (1) (8 Mile Rd (M102) & Hamlet St) | K7: =IFERROR(VLOOKUP('Speed Hump'!H7,Main!$A:$G,6,FALSE),"") -> 04-15-21 A | L7: =IFERROR(VLOOKUP('Speed Hump'!H7,Main!$A:$G,7,FALSE),"") -> 04-15-21 A | M7: Yes | N7: 1 | O7: Will be Installed 2021 | P7: 0 | Q7: DTE Gas - GRP | R7: Design - Planning | S7: Gas Main Renewal | T7: SEGRID2021NDet3 | W7: 2021 MGA Grid | X7: Multiple | Y7: Multiple | Z7: Multiple | AA7: 44197 | AB7: 44561 | AC7: Dan Sand | AD7: 734-444-5737 | AE7: daniel.sand@dteenergy.com | AI7: 5/5/2020 | AJ7: NAD 1983 | AK7: Detroit | AL7: North Detroit 3 (NDet3) | AM7: NDet3 | AN7: 9178519.1 | AO7: 14104.415 | AP7: 273.74084 | AQ7: =IFERROR(VLOOKUP(I7,Service!$B:$G,5,FALSE),"") -> 09-13-21 A | AR7: =IFERROR(VLOOKUP(I7,Service!$B:$G,6,FALSE),"") -> 09-14-21 A | AS7: =IFERROR(VLOOKUP(I7,Rest!$B:$G,5,FALSE),"") -> 44462 | AT7: =IFERROR(VLOOKUP(I7,Rest!$B:$G,6,FALSE),"") -> 44467
A8: 27 | B8: 1 | C8: 140 | D8: 2834 | E8: Buffalo St | F8: Emery St | G8: E Lantz St | H8: NDET3-6825 | I8: GRP-2021-ND3.50.1.2 | J8: =IFERROR(VLOOKUP(H8,[1]Sheet1!$A:$H,3,FALSE),"") -> Install Main - Buffalo St (1) (8 Mile Rd (M102) & Hamlet St) | K8: =IFERROR(VLOOKUP('Speed Hump'!H8,Main!$A:$G,6,FALSE),"") -> 05-12-21 A | L8: =IFERROR(VLOOKUP('Speed Hump'!H8,Main!$A:$G,7,FALSE),"") -> 05-14-21 A | M8: Yes | N8: 2 | O8: Will be Installed 2021 | P8: 0 | Q8: DTE Gas - GRP | R8: Design - Planning | S8: Gas Main Renewal | T8: SEGRID2021NDet3 | W8: 2021 MGA Grid | X8: Multiple | Y8: Multiple | Z8: Multiple | AA8: 44197 | AB8: 44561 | AC8: Dan Sand | AD8: 734-444-5737 | AE8: daniel.sand@dteenergy.com | AI8: 5/5/2020 | AJ8: NAD 1983 | AK8: Detroit | AL8: North Detroit 3 (NDet3) | AM8: NDet3 | AN8: 9178519.1 | AO8: 14104.415 | AP8: 357.78427 | AQ8: =IFERROR(VLOOKUP(I8,Service!$B:$G,5,FALSE),"") -> 08-16-21 A | AR8: =IFERROR(VLOOKUP(I8,Service!$B:$G,6,FALSE),"") -> 08-16-21 A | AS8: =IFERROR(VLOOKUP(I8,Rest!$B:$G,5,FALSE),"") -> 08-26-21 A | AT8: =IFERROR(VLOOKUP(I8,Rest!$B:$G,6,FALSE),"") -> 08-26-21 A
A9: 48 | B9: 1 | C9: 309 | D9: 3974 | E9: Harned St | F9: E 7 Mile Rd | G9: Emery St | H9: NDET3-190 | I9: GRP-2021-ND3.3.2.2 | J9: =IFERROR(VLOOKUP(H9,[1]Sheet1!$A:$H,3,FALSE),"") -> Install Main - E Outer Dr (South) - (Crossing At Harned St) | K9: =IFERROR(VLOOKUP('Speed Hump'!H9,Main!$A:$G,6,FALSE),"") -> 06-08-21 A | L9: =IFERROR(VLOOKUP('Speed Hump'!H9,Main!$A:$G,7,FALSE),"") -> 06-08-21 A | M9: Yes | N9: 2 | O9: Will be Installed 2021 | P9: 0 | Q9: DTE Gas - GRP | R9: Design - Planning | S9: Gas Main Renewal | T9: SEGRID2021NDet3 | W9: 2021 MGA Grid | X9: Multiple | Y9: Multiple | Z9: Multiple | AA9: 44197 | AB9: 44561 | AC9: Dan Sand | AD9: 734-444-5737 | AE9: daniel.sand@dteenergy.com | AI9: 5/5/2020 | AJ9: NAD 1983 | AK9: Detroit | AL9: North Detroit 3 (NDet3) | AM9: NDet3 | AN9: 9178519.1 | AO9: 14104.415 | AP9: 392.33964 | AQ9: =IFERROR(VLOOKUP(I9,Service!$B:$G,5,FALSE),"") | AR9: =IFERROR(VLOOKUP(I9,Service!$B:$G,6,FALSE),"") | AS9: =IFERROR(VLOOKUP(I9,Rest!$B:$G,5,FALSE),"") -> 44463 | AT9: =IFERROR(VLOOKUP(I9,Rest!$B:$G,6,FALSE),"") -> 44468
A10: 49 | B10: 1 | C10: 328 | D10: 1975 | E10: E Lantz St | F10: Syracuse St | G10: Albany St | H10: NDET3-7025 | I10: GRP-2021-ND3.97.1.2 | J10: =IFERROR(VLOOKUP(H10,[1]Sheet1!$A:$H,3,FALSE),"") -> Install Main - E Lantz Ave (1) (Keystone & Bloom) | K10: =IFERROR(VLOOKUP('Speed Hump'!H10,Main!$A:$G,6,FALSE),"") -> 06-28-21 A | L10: =IFERROR(VLOOKUP('Speed Hump'!H10,Main!$A:$G,7,FALSE),"") -> 06-28-21 A | M10: Yes | N10: 1 | O10: Will be Installed 2021 | P10: 0 | Q10: DTE Gas - GRP | R10: Design - Planning | S10: Gas Main Renewal | T10: SEGRID2021NDet3 | W10: 2021 MGA Grid | X10: Multiple | Y10: Multiple | Z10: Multiple | AA10: 44197 | AB10: 44561 | AC10: Dan Sand | AD10: 734-444-5737 | AE10: daniel.sand@dteenergy.com | AI10: 5/5/2020 | AJ10: NAD 1983 | AK10: Detroit | AL10: North Detroit 3 (NDet3) | AM10: NDet3 | AN10: 9178519.1 | AO10: 14104.415 | AP10: 117.05203 | AQ10: =IFERROR(VLOOKUP(I10,Service!$B:$G,5,FALSE),"") | AR10: =IFERROR(VLOOKUP(I10,Service!$B:$G,6,FALSE),"") | AS10: =IFERROR(VLOOKUP(I10,Rest!$B:$G,5,FALSE),"") -> 44463 | AT10: =IFERROR(VLOOKUP(I10,Rest!$B:$G,6,FALSE),"") -> 44468
A11: 51 | B11: 1 | C11: 350 | D11: 3561 | E11: Keystone St | F11: E 7 Mile Rd | G11: Emery St | H11: NDET3-7125 | I11: GRP-2021-ND3.37.1.2 | J11: =IFERROR(VLOOKUP(H11,[1]Sheet1!$A:$H,3,FALSE),"") -> Install Main - Keystone St (2) (E Lantz St & ANO 7 Mile Rd) | K11: =IFERROR(VLOOKUP('Speed Hump'!H11,Main!$A:$G,6,FALSE),"") -> 06-30-21 A | L11: =IFERROR(VLOOKUP('Speed Hump'!H11,Main!$A:$G,7,FALSE),"") -> 07-07-21 A | M11: Yes | N11: 2 | O11: Will be Installed 2021 | P11: 0 | Q11: DTE Gas - GRP | R11: Design - Planning | S11: Gas Main Renewal | T11: SEGRID2021NDet3 | W11: 2021 MGA Grid | X11: Multiple | Y11: Multiple | Z11: Multiple | AA11: 44197 | AB11: 44561 | AC11: Dan Sand | AD11: 734-444-5737 | AE11: daniel.sand@dteenergy.com | AI11: 5/5/2020 | AJ11: NAD 1983 | AK11: Detroit | AL11: North Detroit 3 (NDet3) | AM11: NDet3 | AN11: 9178519.1 | AO11: 14104.415 | AP11: 383.53958 | AQ11: =IFERROR(VLOOKUP(I11,Service!$B:$G,5,FALSE),"") -> 44459 | AR11: =IFERROR(VLOOKUP(I11,Service!$B:$G,6,FALSE),"") -> 44473 | AS11: =IFERROR(VLOOKUP(I11,Rest!$B:$G,5,FALSE),"") -> 44480 | AT11: =IFERROR(VLOOKUP(I11,Rest!$B:$G,6,FALSE),"") -> 44483
A12: 54 | B12: 1 | C12: 366 | D12: 2029 | E12: E Lantz St | F12: Fenelon St | G12: Conley St | H12: NDET3-7070 | I12: GRP-2021-ND3.97.3.2 | J12: =IFERROR(VLOOKUP(H12,[1]Sheet1!$A:$H,3,FALSE),"") -> Install Main - E Lantz Ave (1) (E Lantz Ave & E Lantz Ave) - Bloom Crossing | K12: =IFERROR(VLOOKUP('Speed Hump'!H12,Main!$A:$G,6,FALSE),"") -> 06-22-21 A | L12: =IFERROR(VLOOKUP('Speed Hump'!H12,Main!$A:$G,7,FALSE),"") -> 06-22-21 A | M12: Yes | N12: 1 | O12: Will be Installed 2021 | P12: 0 | Q12: DTE Gas - GRP | R12: Design - Planning | S12: Gas Main Renewal | T12: SEGRID2021NDet3 | W12: 2021 MGA Grid | X12: Multiple | Y12: Multiple | Z12: Multiple | AA12: 44197 | AB12: 44561 | AC12: Dan Sand | AD12: 734-444-5737 | AE12: daniel.sand@dteenergy.com | AI12: 5/5/2020 | AJ12: NAD 1983 | AK12: Detroit | AL12: North Detroit 3 (NDet3) | AM12: NDet3 | AN12: 9178519.1 | AO12: 14104.415 | AP12: 133.24952 | AQ12: =IFERROR(VLOOKUP(I12,Service!$B:$G,5,FALSE),"") | AR12: =IFERROR(VLOOKUP(I12,Service!$B:$G,6,FALSE),"") | AS12: =IFERROR(VLOOKUP(I12,Rest!$B:$G,5,FALSE),"") -> 44462 | AT12: =IFERROR(VLOOKUP(I12,Rest!$B:$G,6,FALSE),"") -> 44467
A13: 62 | B13: 1 | C13: 477 | D13: 1479 | E13: Revere St | F13: E Outer Dr | G13: E Remington St | H13: NDET3-6945 | I13: GRP-2021-ND3.83.1.2 | J13: =IFERROR(VLOOKUP(H13,[1]Sheet1!$A:$H,3,FALSE),"") -> Elevate Main - Revere Ave (2) (E Outer Dr & 7 Mile Rd) | K13: =IFERROR(VLOOKUP('Speed Hump'!H13,Main!$A:$G,6,FALSE),"") -> 44474 | L13: =IFERROR(VLOOKUP('Speed Hump'!H13,Main!$A:$G,7,FALSE),"") -> 44477 | M13: Yes | N13: 2 | O13: Will be Installed 2021 | P13: 0 | Q13: DTE Gas - GRP | R13: Design - Planning | S13: Gas Main Renewal | T13: SEGRID2021NDet3 | W13: 2021 MGA Grid | X13: Multiple | Y13: Multiple | Z13: Multiple | AA13: 44197 | AB13: 44561 | AC13: Dan Sand | AD13: 734-444-5737 | AE13: daniel.sand@dteenergy.com | AI13: 5/5/2020 | AJ13: NAD 1983 | AK13: Detroit | AL13: North Detroit 3 (NDet3) | AM13: NDet3 | AN13: 9178519.1 | AO13: 14104.415 | AP13: 335.01113 | AQ13: =IFERROR(VLOOKUP(I13,Service!$B:$G,5,FALSE),"") -> 44460 | AR13: =IFERROR(VLOOKUP(I13,Service!$B:$G,6,FALSE),"") -> 44473 | AS13: =IFERROR(VLOOKUP(I13,Rest!$B:$G,5,FALSE),"") -> 44484 | AT13: =IFERROR(VLOOKUP(I13,Rest!$B:$G,6,FALSE),"") -> 44489
A14: 68 | B14: 1 | C14: 506 | D14: 2844 | E14: E Lantz St | F14: Andover St | G14: Irvington St | H14: NDET3-7070 | I14: GRP-2021-ND3.97.3.2 | J14: =IFERROR(VLOOKUP(H14,[1]Sheet1!$A:$H,3,FALSE),"") -> Install Main - E Lantz Ave (1) (E Lantz Ave & E Lantz Ave) - Bloom Crossing | K14: =IFERROR(VLOOKUP('Speed Hump'!H14,Main!$A:$G,6,FALSE),"") -> 06-22-21 A | L14: =IFERROR(VLOOKUP('Speed Hump'!H14,Main!$A:$G,7,FALSE),"") -> 06-22-21 A | M14: Yes | N14: 1 | O14: Will be Installed 2021 | P14: 0 | Q14: DTE Gas - GRP | R14: Design - Planning | S14: Gas Main Renewal | W14: 2021 Risk Rank | X14: Irvington | Y14: State Fair | Z14: 7 Mile | AA14: 44197 | AB14: 44561 | AC14: Dan Sand | AD14: 734-444-5737 | AE14: daniel.sand@dteenergy.com | AI14: 6/11/2020 | AJ14: NAD 1983 | AK14: Detroit | AL14: Irvington (State Fair-7 Mile) | AN14: 107646.32 | AO14: 2321.9092 | AP14: 120.83116 | AQ14: =IFERROR(VLOOKUP(I14,Service!$B:$G,5,FALSE),"") | AR14: =IFERROR(VLOOKUP(I14,Service!$B:$G,6,FALSE),"") | AS14: =IFERROR(VLOOKUP(I14,Rest!$B:$G,5,FALSE),"") -> 44462 | AT14: =IFERROR(VLOOKUP(I14,Rest!$B:$G,6,FALSE),"") -> 44467
A15: 69 | B15: 1 | C15: 508 | D15: 2317 | E15: E Lantz St | F15: Dean St | G15: Sunset St | H15: NDET3-7070 | I15: GRP-2021-ND3.97.3.2 | J15: =IFERROR(VLOOKUP(H15,[1]Sheet1!$A:$H,3,FALSE),"") -> Install Main - E Lantz Ave (1) (E Lantz Ave & E Lantz Ave) - Bloom Crossing | K15: =IFERROR(VLOOKUP('Speed Hump'!H15,Main!$A:$G,6,FALSE),"") -> 06-22-21 A | L15: =IFERROR(VLOOKUP('Speed Hump'!H15,Main!$A:$G,7,FALSE),"") -> 06-22-21 A | M15: Yes | N15: 1 | O15: Will be Installed 2021 | P15: 0 | Q15: DTE Gas - GRP | R15: Design - Planning | S15: Gas Main Renewal | T15: SEGRID2021NDet3 | W15: 2021 MGA Grid | X15: Multiple | Y15: Multiple | Z15: Multiple | AA15: 44197 | AB15: 44561 | AC15: Dan Sand | AD15: 734-444-5737 | AE15: daniel.sand@dteenergy.com | AI15: 5/5/2020 | AJ15: NAD 1983 | AK15: Detroit | AL15: North Detroit 3 (NDet3) | AM15: NDet3 | AN15: 9178519.1 | AO15: 14104.415 | AP15: 128.22557 | AQ15: =IFERROR(VLOOKUP(I15,Service!$B:$G,5,FALSE),"") | AR15: =IFERROR(VLOOKUP(I15,Service!$B:$G,6,FALSE),"") | AS15: =IFERROR(VLOOKUP(I15,Rest!$B:$G,5,FALSE),"") -> 44462 | AT15: =IFERROR(VLOOKUP(I15,Rest!$B:$G,6,FALSE),"") -> 44467
A16: 72 | B16: 1 | C16: 524 | D16: 1830 | E16: Saint Louis St | F16: E Lantz St | G16: E Outer Dr | H16: NDET3-4825 | I16: GRP-2021-ND3.22.1.2 | J16: =IFERROR(VLOOKUP(H16,[1]Sheet1!$A:$H,3,FALSE),"") -> Install Main - St Louis Ave (E Outer Dr & ANO 7 Mile Rd) | K16: =IFERROR(VLOOKUP('Speed Hump'!H16,Main!$A:$G,6,FALSE),"") -> 05-18-21 A | L16: =IFERROR(VLOOKUP('Speed Hump'!H16,Main!$A:$G,7,FALSE),"") -> 05-20-21 A | M16: Yes | N16: 1 | O16: Will be Installed 2021 | P16: 0 | Q16: DTE Gas - GRP | R16: Design - Planning | S16: Gas Main Renewal | T16: SEGRID2021NDet3 | W16: 2021 MGA Grid | X16: Multiple | Y16: Multiple | Z16: Multiple | AA16: 44197 | AB16: 44561 | AC16: Dan Sand | AD16: 734-444-5737 | AE16: daniel.sand@dteenergy.com | AI16: 5/5/2020 | AJ16: NAD 1983 | AK16: Detroit | AL16: North Detroit 3 (NDet3) | AM16: NDet3 | AN16: 9178519.1 | AO16: 14104.415 | AP16: 253.41706 | AQ16: =IFERROR(VLOOKUP(I16,Service!$B:$G,5,FALSE),"") -> 07-26-21 A | AR16: =IFERROR(VLOOKUP(I16,Service!$B:$G,6,FALSE),"") -> 09-01-21 A | AS16: =IFERROR(VLOOKUP(I16,Rest!$B:$G,5,FALSE),"") -> 44463 | AT16: =IFERROR(VLOOKUP(I16,Rest!$B:$G,6,FALSE),"") -> 44468
A17: 88 | B17: 1 | C17: 753 | D17: 2871 | E17: Keystone St | F17: Emery St | G17: E Lantz St | H17: NDET3-7125 | I17: GRP-2021-ND3.37.1.2 | J17: =IFERROR(VLOOKUP(H17,[1]Sheet1!$A:$H,3,FALSE),"") -> Install Main - Keystone St (2) (E Lantz St & ANO 7 Mile Rd) | K17: =IFERROR(VLOOKUP('Speed Hump'!H17,Main!$A:$G,6,FALSE),"") -> 06-30-21 A | L17: =IFERROR(VLOOKUP('Speed Hump'!H17,Main!$A:$G,7,FALSE),"") -> 07-07-21 A | M17: Yes | N17: 2 | O17: Will be Installed 2021 | P17: 0 | Q17: DTE Gas - GRP | R17: Design - Planning | S17: Gas Main Renewal | T17: SEGRID2021NDet3 | W17: 2021 MGA Grid | X17: Multiple | Y17: Multiple | Z17: Multiple | AA17: 44197 | AB17: 44561 | AC17: Dan Sand | AD17: 734-444-5737 | AE17: daniel.sand@dteenergy.com | AI17: 5/5/2020 | AJ17: NAD 1983 | AK17: Detroit | AL17: North Detroit 3 (NDet3) | AM17: NDet3 | AN17: 9178519.1 | AO17: 14104.415 | AP17: 356.18497 | AQ17: =IFERROR(VLOOKUP(I17,Service!$B:$G,5,FALSE),"") -> 44459 | AR17: =IFERROR(VLOOKUP(I17,Service!$B:$G,6,FALSE),"") -> 44473 | AS17: =IFERROR(VLOOKUP(I17,Rest!$B:$G,5,FALSE),"") -> 44480 | AT17: =IFERROR(VLOOKUP(I17,Rest!$B:$G,6,FALSE),"") -> 44483
A18: 104 | B18: 1 | C18: 882 | D18: 557 | E18: Amrad St | F18: Moenart St | G18: Bloom St | H18: NDET3-6920 | I18: GRP-2021-ND3.50.4.2 | J18: =IFERROR(VLOOKUP(H18,[1]Sheet1!$A:$H,3,FALSE),"") -> Install Main - Buffalo St (1) (Hamlet St & Amrad St) | K18: =IFERROR(VLOOKUP('Speed Hump'!H18,Main!$A:$G,6,FALSE),"") -> 05-14-21 A | L18: =IFERROR(VLOOKUP('Speed Hump'!H18,Main!$A:$G,7,FALSE),"") -> 05-14-21 A | M18: Yes | N18: 1 | O18: Will be Installed 2021 | P18: 0 | Q18: DTE Gas - GRP | R18: Design - Planning | S18: Gas Main Renewal | T18: SEGRID2021NDet3 | W18: 2021 MGA Grid | X18: Multiple | Y18: Multiple | Z18: Multiple | AA18: 44197 | AB18: 44561 | AC18: Dan Sand | AD18: 734-444-5737 | AE18: daniel.sand@dteenergy.com | AI18: 5/5/2020 | AJ18: NAD 1983 | AK18: Detroit | AL18: North Detroit 3 (NDet3) | AM18: NDet3 | AN18: 9178519.1 | AO18: 14104.415 | AP18: 113.80365 | AQ18: =IFERROR(VLOOKUP(I18,Service!$B:$G,5,FALSE),"") -> 08-12-21 A | AR18: =IFERROR(VLOOKUP(I18,Service!$B:$G,6,FALSE),"") -> 08-16-21 A | AS18: =IFERROR(VLOOKUP(I18,Rest!$B:$G,5,FALSE),"") -> 08-26-21 A | AT18: =IFERROR(VLOOKUP(I18,Rest!$B:$G,6,FALSE),"") -> 08-26-21 A
A19: 119 | B19: 1 | C19: 998 | D19: 2982 | E19: Dean St | F19: Emery St | G19: E Lantz St | H19: NDET3-6235 | I19: GRP-2021-ND3.29.1.2 | J19: =IFERROR(VLOOKUP(H19,[1]Sheet1!$A:$H,3,FALSE),"") -> Install Main - Dean Ave (2) (E Outer Dr & ANO 7 Mile Rd) | K19: =IFERROR(VLOOKUP('Speed Hump'!H19,Main!$A:$G,6,FALSE),"") -> 08-04-21 A | L19: =IFERROR(VLOOKUP('Speed Hump'!H19,Main!$A:$G,7,FALSE),"") -> 08-10-21 A | M19: Yes | N19: 2 | O19: Will be Installed 2021 | P19: 0 | Q19: DTE Gas - GRP | R19: Design - Planning | S19: Gas Main Renewal | T19: SEGRID2021NDet3 | W19: 2021 MGA Grid | X19: Multiple | Y19: Multiple | Z19: Multiple | AA19: 44197 | AB19: 44561 | AC19: Dan Sand | AD19: 734-444-5737 | AE19: daniel.sand@dteenergy.com | AI19: 5/5/2020 | AJ19: NAD 1983 | AK19: Detroit | AL19: North Detroit 3 (NDet3) | AM19: NDet3 | AN19: 9178519.1 | AO19: 14104.415 | AP19: 355.96289 | AQ19: =IFERROR(VLOOKUP(I19,Service!$B:$G,5,FALSE),"") -> 44459 | AR19: =IFERROR(VLOOKUP(I19,Service!$B:$G,6,FALSE),"") -> 44474 | AS19: =IFERROR(VLOOKUP(I19,Rest!$B:$G,5,FALSE),"") -> 44480 | AT19: =IFERROR(VLOOKUP(I19,Rest!$B:$G,6,FALSE),"") -> 44483
A20: 122 | B20: 1 | C20: 1022 | D20: 2999 | E20: Binder St | F20: Emery St | G20: E Lantz St | H20: NDET3-7295 | I20: GRP-2021-ND3.64.1.2 | J20: =IFERROR(VLOOKUP(H20,[1]Sheet1!$A:$H,3,FALSE),"") -> Elevate Main - Binder St (2) (E Outer Dr & ANO 7 Mile Rd) | K20: =IFERROR(VLOOKUP('Speed Hump'!H20,Main!$A:$G,6,FALSE),"") -> 44496 | L20: =IFERROR(VLOOKUP('Speed Hump'!H20,Main!$A:$G,7,FALSE),"") -> 44501 | M20: Yes | N20: 2 | O20: Will be Installed 2021 | P20: 0 | Q20: DTE Gas - GRP | R20: Design - Planning | S20: Gas Main Renewal | T20: SEGRID2021NDet3 | W20: 2021 MGA Grid | X20: Multiple | Y20: Multiple | Z20: Multiple | AA20: 44197 | AB20: 44561 | AC20: Dan Sand | AD20: 734-444-5737 | AE20: daniel.sand@dteenergy.com | AI20: 5/5/2020 | AJ20: NAD 1983 | AK20: Detroit | AL20: North Detroit 3 (NDet3) | AM20: NDet3 | AN20: 9178519.1 | AO20: 14104.415 | AP20: 355.94695 | AQ20: =IFERROR(VLOOKUP(I20,Service!$B:$G,5,FALSE),"") -> 44481 | AR20: =IFERROR(VLOOKUP(I20,Service!$B:$G,6,FALSE),"") -> 44495 | AS20: =IFERROR(VLOOKUP(I20,Rest!$B:$G,5,FALSE),"") -> 44505 | AT20: =IFERROR(VLOOKUP(I20,Rest!$B:$G,6,FALSE),"") -> 44510
A21: 132 | B21: 1 | C21: 1096 | D21: 1956 | E21: Gable St | F21: E Lantz St | G21: E Outer Dr | H21: NDET3-5010 | I21: GRP-2021-ND3.19.1.2 | J21: =IFERROR(VLOOKUP(H21,[1]Sheet1!$A:$H,3,FALSE),"") -> Install Main - Gable Ave (E Outer Dr & ANO 7 Mile Rd) | K21: =IFERROR(VLOOKUP('Speed Hump'!H21,Main!$A:$G,6,FALSE),"") -> 05-24-21 A | L21: =IFERROR(VLOOKUP('Speed Hump'!H21,Main!$A:$G,7,FALSE),"") -> 06-02-21 A | M21: Yes | N21: 2 | O21: Will be Installed 2021 | P21: 0 | Q21: DTE Gas - GRP | R21: Design - Planning | S21: Gas Main Renewal | T21: SEGRID2021NDet3 | W21: 2021 MGA Grid | X21: Multiple | Y21: Multiple | Z21: Multiple | AA21: 44197 | AB21: 44561 | AC21: Dan Sand | AD21: 734-444-5737 | AE21: daniel.sand@dteenergy.com | AI21: 5/5/2020 | AJ21: NAD 1983 | AK21: Detroit | AL21: North Detroit 3 (NDet3) | AM21: NDet3 | AN21: 9178519.1 | AO21: 14104.415 | AP21: 342.98693 | AQ21: =IFERROR(VLOOKUP(I21,Service!$B:$G,5,FALSE),"") -> 44459 | AR21: =IFERROR(VLOOKUP(I21,Service!$B:$G,6,FALSE),"") -> 44473 | AS21: =IFERROR(VLOOKUP(I21,Rest!$B:$G,5,FALSE),"") -> 44480 | AT21: =IFERROR(VLOOKUP(I21,Rest!$B:$G,6,FALSE),"") -> 44483
A22: 150 | B22: 1 | C22: 1189 | D22: 545 | E22: Amrad St | F22: Buffalo St | G22: Caldwell St | H22: NDET3-6920 | I22: GRP-2021-ND3.50.4.2 | J22: =IFERROR(VLOOKUP(H22,[1]Sheet1!$A:$H,3,FALSE),"") -> Install Main - Buffalo St (1) (Hamlet St & Amrad St) | K22: =IFERROR(VLOOKUP('Speed Hump'!H22,Main!$A:$G,6,FALSE),"") -> 05-14-21 A | L22: =IFERROR(VLOOKUP('Speed Hump'!H22,Main!$A:$G,7,FALSE),"") -> 05-14-21 A | M22: Yes | N22: 1 | O22: Will be Installed 2021 | P22: 0 | Q22: DTE Gas - GRP | R22: Design - Planning | S22: Gas Main Renewal | T22: SEGRID2021NDet3 | W22: 2021 MGA Grid | X22: Multiple | Y22: Multiple | Z22: Multiple | AA22: 44197 | AB22: 44561 | AC22: Dan Sand | AD22: 734-444-5737 | AE22: daniel.sand@dteenergy.com | AI22: 5/5/2020 | AJ22: NAD 1983 | AK22: Detroit | AL22: North Detroit 3 (NDet3) | AM22: NDet3 | AN22: 9178519.1 | AO22: 14104.415 | AP22: 121.39525 | AQ22: =IFERROR(VLOOKUP(I22,Service!$B:$G,5,FALSE),"") -> 08-12-21 A | AR22: =IFERROR(VLOOKUP(I22,Service!$B:$G,6,FALSE),"") -> 08-16-21 A | AS22: =IFERROR(VLOOKUP(I22,Rest!$B:$G,5,FALSE),"") -> 08-26-21 A | AT22: =IFERROR(VLOOKUP(I22,Rest!$B:$G,6,FALSE),"") -> 08-26-21 A
A23: 159 | B23: 1 | C23: 1258 | D23: 1379 | E23: Keystone St | F23: E Outer Dr | G23: Cordova St | H23: NDET3-325 | I23: GRP-2021-ND3.59.3.2 | J23: =IFERROR(VLOOKUP(H23,[1]Sheet1!$A:$H,3,FALSE),"") -> Install Main - Keystone St (1) (Hamlet St & E Outer Dr) | K23: =IFERROR(VLOOKUP('Speed Hump'!H23,Main!$A:$G,6,FALSE),"") -> 04-20-21 A | L23: =IFERROR(VLOOKUP('Speed Hump'!H23,Main!$A:$G,7,FALSE),"") -> 04-23-21 A | M23: Yes | N23: 1 | O23: Will be Installed 2021 | P23: 0 | Q23: DTE Gas - GRP | R23: Design - Planning | S23: Gas Main Renewal | T23: SEGRID2021NDet3 | W23: 2021 MGA Grid | X23: Multiple | Y23: Multiple | Z23: Multiple | AA23: 44197 | AB23: 44561 | AC23: Dan Sand | AD23: 734-444-5737 | AE23: daniel.sand@dteenergy.com | AI23: 5/5/2020 | AJ23: NAD 1983 | AK23: Detroit | AL23: North Detroit 3 (NDet3) | AM23: NDet3 | AN23: 9178519.1 | AO23: 14104.415 | AP23: 257.52856 | AQ23: =IFERROR(VLOOKUP(I23,Service!$B:$G,5,FALSE),"") -> 08-30-21 A | AR23: =IFERROR(VLOOKUP(I23,Service!$B:$G,6,FALSE),"") -> 09-01-21 A | AS23: =IFERROR(VLOOKUP(I23,Rest!$B:$G,5,FALSE),"") -> 08-27-21 A | AT23: =IFERROR(VLOOKUP(I23,Rest!$B:$G,6,FALSE),"") -> 44467
A24: 170 | B24: 1 | C24: 1334 | D24: 950 | E24: Keystone St | F24: Cordova St | G24: Amrad St | H24: NDET3-325 | I24: GRP-2021-ND3.59.3.2 | J24: =IFERROR(VLOOKUP(H24,[1]Sheet1!$A:$H,3,FALSE),"") -> Install Main - Keystone St (1) (Hamlet St & E Outer Dr) | K24: =IFERROR(VLOOKUP('Speed Hump'!H24,Main!$A:$G,6,FALSE),"") -> 04-20-21 A | L24: =IFERROR(VLOOKUP('Speed Hump'!H24,Main!$A:$G,7,FALSE),"") -> 04-23-21 A | M24: Yes | N24: 1 | O24: Will be Installed 2021 | P24: 0 | Q24: DTE Gas - GRP | R24: Design - Planning | S24: Gas Main Renewal | T24: SEGRID2021NDet3 | W24: 2021 MGA Grid | X24: Multiple | Y24: Multiple | Z24: Multiple | AA24: 44197 | AB24: 44561 | AC24: Dan Sand | AD24: 734-444-5737 | AE24: daniel.sand@dteenergy.com | AI24: 5/5/2020 | AJ24: NAD 1983 | AK24: Detroit | AL24: North Detroit 3 (NDet3) | AM24: NDet3 | AN24: 9178519.1 | AO24: 14104.415 | AP24: 273.89715 | AQ24: =IFERROR(VLOOKUP(I24,Service!$B:$G,5,FALSE),"") -> 08-30-21 A | AR24: =IFERROR(VLOOKUP(I24,Service!$B:$G,6,FALSE),"") -> 09-01-21 A | AS24: =IFERROR(VLOOKUP(I24,Rest!$B:$G,5,FALSE),"") -> 08-27-21 A | AT24: =IFERROR(VLOOKUP(I24,Rest!$B:$G,6,FALSE),"") -> 44467
A25: 171 | B25: 1 | C25: 1341 | D25: 3826 | E25: Dean St | F25: E 7 Mile Rd | G25: Emery St | H25: NDET3-6235 | I25: GRP-2021-ND3.29.1.2 | J25: =IFERROR(VLOOKUP(H25,[1]Sheet1!$A:$H,3,FALSE),"") -> Install Main - Dean Ave (2) (E Outer Dr & ANO 7 Mile Rd) | K25: =IFERROR(VLOOKUP('Speed Hump'!H25,Main!$A:$G,6,FALSE),"") -> 08-04-21 A | L25: =IFERROR(VLOOKUP('Speed Hump'!H25,Main!$A:$G,7,FALSE),"") -> 08-10-21 A | M25: Yes | N25: 2 | O25: Will be Installed 2021 | P25: 0 | Q25: DTE Gas - GRP | R25: Design - Planning | S25: Gas Main Renewal | T25: SEGRID2021NDet3 | W25: 2021 MGA Grid | X25: Multiple | Y25: Multiple | Z25: Multiple | AA25: 44197 | AB25: 44561 | AC25: Dan Sand | AD25: 734-444-5737 | AE25: daniel.sand@dteenergy.com | AI25: 5/5/2020 | AJ25: NAD 1983 | AK25: Detroit | AL25: North Detroit 3 (NDet3) | AM25: NDet3 | AN25: 9178519.1 | AO25: 14104.415 | AP25: 387.65593 | AQ25: =IFERROR(VLOOKUP(I25,Service!$B:$G,5,FALSE),"") -> 44459 | AR25: =IFERROR(VLOOKUP(I25,Service!$B:$G,6,FALSE),"") -> 44474 | AS25: =IFERROR(VLOOKUP(I25,Rest!$B:$G,5,FALSE),"") -> 44480 | AT25: =IFERROR(VLOOKUP(I25,Rest!$B:$G,6,FALSE),"") -> 44483
A26: 173 | B26: 1 | C26: 1346 | D26: 3516 | E26: Buffalo St | F26: E 7 Mile Rd | G26: Emery St | H26: NDET3-6825 | I26: GRP-2021-ND3.50.1.2 | J26: =IFERROR(VLOOKUP(H26,[1]Sheet1!$A:$H,3,FALSE),"") -> Install Main - Buffalo St (1) (8 Mile Rd (M102) & Hamlet St) | K26: =IFERROR(VLOOKUP('Speed Hump'!H26,Main!$A:$G,6,FALSE),"") -> 05-12-21 A | L26: =IFERROR(VLOOKUP('Speed Hump'!H26,Main!$A:$G,7,FALSE),"") -> 05-14-21 A | M26: Yes | N26: 2 | O26: Will be Installed 2021 | P26: 0 | Q26: DTE Gas - GRP | R26: Design - Planning | S26: Gas Main Renewal | T26: SEGRID2021NDet3 | W26: 2021 MGA Grid | X26: Multiple | Y26: Multiple | Z26: Multiple | AA26: 44197 | AB26: 44561 | AC26: Dan Sand | AD26: 734-444-5737 | AE26: daniel.sand@dteenergy.com | AI26: 5/5/2020 | AJ26: NAD 1983 | AK26: Detroit | AL26: North Detroit 3 (NDet3) | AM26: NDet3 | AN26: 9178519.1 | AO26: 14104.415 | AP26: 381.43286 | AQ26: =IFERROR(VLOOKUP(I26,Service!$B:$G,5,FALSE),"") -> 08-16-21 A | AR26: =IFERROR(VLOOKUP(I26,Service!$B:$G,6,FALSE),"") -> 08-16-21 A | AS26: =IFERROR(VLOOKUP(I26,Rest!$B:$G,5,FALSE),"") -> 08-26-21 A | AT26: =IFERROR(VLOOKUP(I26,Rest!$B:$G,6,FALSE),"") -> 08-26-21 A
... A40: 293 | B40: 1 | C40: 2247 | D40: 1485 | E40: Klinger St | F40: E Outer Dr | G40: E Remington St | H40: NDET3-7150 | I40: GRP-2021-ND3.77.1.2 | J40: =IFERROR(VLOOKUP(H40,[1]Sheet1!$A:$H,3,FALSE),"") -> Elevate Main - Klinger St (2) (E Outer Dr& 7 Mile Rd) | K40: =IFERROR(VLOOKUP('Speed Hump'!H40,Main!$A:$G,6,FALSE),"") -> 09-16-21 A | L40: =IFERROR(VLOOKUP('Speed Hump'!H40,Main!$A:$G,7,FALSE),"") -> 44474 | M40: Yes | N40: 2 | O40: Will be Installed 2021 | P40: 0 | Q40: DTE Gas - GRP | R40: Design - Planning | S40: Gas Main Renewal | T40: SEGRID2021NDet3 | W40: 2021 MGA Grid | X40: Multiple | Y40: Multiple | Z40: Multiple | AA40: 44197 | AB40: 44561 | AC40: Dan Sand | AD40: 734-444-5737 | AE40: daniel.sand@dteenergy.com | AI40: 5/5/2020 | AJ40: NAD 1983 | AK40: Detroit | AL40: North Detroit 3 (NDet3) | AM40: NDet3 | AN40: 9178519.1 | AO40: 14104.415 | AP40: 337.00434 | AQ40: =IFERROR(VLOOKUP(I40,Service!$B:$G,5,FALSE),"") -> 44459 | AR40: =IFERROR(VLOOKUP(I40,Service!$B:$G,6,FALSE),"") -> 44473 | AS40: =IFERROR(VLOOKUP(I40,Rest!$B:$G,5,FALSE),"") -> 44480 | AT40: =IFERROR(VLOOKUP(I40,Rest!$B:$G,6,FALSE),"") -> 44483
A41: 303 | B41: 1 | C41: 2307 | D41: 1910 | E41: Chippewa St | F41: Santa Rosa Dr | G41: Stoepel St | H41: DNE IN P6 LAYOUT | J41: =IFERROR(VLOOKUP(H41,[1]Sheet1!$A:$H,3,FALSE),"") | K41: =IFERROR(VLOOKUP('Speed Hump'!H41,Main!$A:$G,6,FALSE),"") | L41: =IFERROR(VLOOKUP('Speed Hump'!H41,Main!$A:$G,7,FALSE),"") | M41: Yes | N41: 1 | O41: Will be Installed 2021 | P41: 0 | Q41: DTE Gas - GRP | R41: Design - Planning | S41: Gas Main Renewal | W41: 2021 Risk Rank | X41: Stoepel | Y41: 8 Mile | Z41: Pembroke | AA41: 44197 | AB41: 44561 | AC41: Dan Sand | AD41: 734-444-5737 | AE41: daniel.sand@dteenergy.com | AI41: 6/11/2020 | AJ41: NAD 1983 | AK41: Detroit | AL41: Stoepel (8 Mile-Pembroke) | AN41: 90202.932 | AO41: 2296.9196 | AP41: 109.45001 | AQ41: =IFERROR(VLOOKUP(I41,Service!$B:$G,5,FALSE),"") | AR41: =IFERROR(VLOOKUP(I41,Service!$B:$G,6,FALSE),"") | AS41: =IFERROR(VLOOKUP(I41,Rest!$B:$G,5,FALSE),"") | AT41: =IFERROR(VLOOKUP(I41,Rest!$B:$G,6,FALSE),"")
