Workbook

Sheet Muni comments
A1: Activity ID | B1: WBS | C1: Project Name | D1: Activity Name | E1: Footage | F1: Main Start | G1: Main Finish | H1: Service Start | I1: Service Finish | J1: Restoration Start | K1: Restoration Finish | L1: Comments
A2: Muni9510 | B2: PROJ-0951-MUN-2.24.1.2 | C2: 2021 GRP - Municipality | D2: Install Main - Abington Ave (1) (ANO W Warren Ave & W Warren Ave) | E2: 100 | F2: =IFERROR(VLOOKUP(B2,Main!$B:$G,5,FALSE),"") -> 44489 | G2: =IFERROR(VLOOKUP(B2,Main!$B:$G,6,FALSE),"") -> 44489 | H2: =IFERROR(VLOOKUP(B2,Service!$B:$G,5,FALSE),"") | I2: =IFERROR(VLOOKUP(B2,Service!$B:$G,6,FALSE),"") | J2: =IFERROR(VLOOKUP(B2,Rest!$B:$F,5,FALSE),"") -> 44491 | K2: =IFERROR(VLOOKUP(B2,Rest!$B:$G,6,FALSE),"") -> 44491 | L2: No Services in this segement
A3: Muni9590 | B3: PROJ-0951-MUN-2.25.1.2 | C3: 2021 GRP - Municipality | D3: Install Main - Abington Ave (2) (W Warren Ave & ASO W Warren Ave) | E3: 110 | F3: =IFERROR(VLOOKUP(B3,Main!$B:$G,5,FALSE),"") -> 44496 | G3: =IFERROR(VLOOKUP(B3,Main!$B:$G,6,FALSE),"") -> 44496 | H3: =IFERROR(VLOOKUP(B3,Service!$B:$G,5,FALSE),"") | I3: =IFERROR(VLOOKUP(B3,Service!$B:$G,6,FALSE),"") | J3: =IFERROR(VLOOKUP(B3,Rest!$B:$F,5,FALSE),"") -> 44501 | K3: =IFERROR(VLOOKUP(B3,Rest!$B:$G,6,FALSE),"") -> 44501 | L3: No Services in this segement
A4: Muni7430 | B4: PROJ-0951-MUN-2.4.1.2 | C4: 2021 GRP - Municipality | D4: Install Main - ANO Chicago (Griggs & Wyoming) | E4: 968 | F4: =IFERROR(VLOOKUP(B4,Main!$B:$G,5,FALSE),"") -> 06-24-21 A | G4: =IFERROR(VLOOKUP(B4,Main!$B:$G,6,FALSE),"") -> 06-30-21 A | H4: =IFERROR(VLOOKUP(B4,Service!$B:$G,5,FALSE),"") -> 44459 | I4: =IFERROR(VLOOKUP(B4,Service!$B:$G,6,FALSE),"") -> 44459 | J4: =IFERROR(VLOOKUP(B4,Rest!$B:$F,5,FALSE),"") -> 44461 | K4: =IFERROR(VLOOKUP(B4,Rest!$B:$G,6,FALSE),"") -> 44461
A5: Muni9670 | B5: PROJ-0951-MUN-2.26.1.2 | C5: 2021 GRP - Municipality | D5: Install Main - ANO W Warren Ave (1) (26' WWPL Archdale St & Archdale St) | E5: 75 | F5: =IFERROR(VLOOKUP(B5,Main!$B:$G,5,FALSE),"") -> 44516 | G5: =IFERROR(VLOOKUP(B5,Main!$B:$G,6,FALSE),"") -> 44516 | H5: =IFERROR(VLOOKUP(B5,Service!$B:$G,5,FALSE),"") | I5: =IFERROR(VLOOKUP(B5,Service!$B:$G,6,FALSE),"") | J5: =IFERROR(VLOOKUP(B5,Rest!$B:$F,5,FALSE),"") -> 44519 | K5: =IFERROR(VLOOKUP(B5,Rest!$B:$G,6,FALSE),"") -> 44519 | L5: No Services in this segement
A6: Muni11590 | B6: PROJ-0951-MUN-2.26.2.2 | C6: 2021 GRP - Municipality | D6: Install Main - ANO W Warren Ave (1) (Archdale St & Clayburn St) | E6: 850 | F6: =IFERROR(VLOOKUP(B6,Main!$B:$G,5,FALSE),"") -> 44461 | G6: =IFERROR(VLOOKUP(B6,Main!$B:$G,6,FALSE),"") -> 44466 | H6: =IFERROR(VLOOKUP(B6,Service!$B:$G,5,FALSE),"") -> 44468 | I6: =IFERROR(VLOOKUP(B6,Service!$B:$G,6,FALSE),"") -> 44481 | J6: =IFERROR(VLOOKUP(B6,Rest!$B:$F,5,FALSE),"") -> 44483 | K6: =IFERROR(VLOOKUP(B6,Rest!$B:$G,6,FALSE),"") -> 44483
A7: Muni11750 | B7: PROJ-0951-MUN-2.26.4.2 | C7: 2021 GRP - Municipality | D7: Install Main - ANO W Warren Ave (1) (Asbury Park & St Marys St) | E7: 540 | F7: =IFERROR(VLOOKUP(B7,Main!$B:$G,5,FALSE),"") -> 44476 | G7: =IFERROR(VLOOKUP(B7,Main!$B:$G,6,FALSE),"") -> 44481 | H7: =IFERROR(VLOOKUP(B7,Service!$B:$G,5,FALSE),"") -> 44483 | I7: =IFERROR(VLOOKUP(B7,Service!$B:$G,6,FALSE),"") -> 44496 | J7: =IFERROR(VLOOKUP(B7,Rest!$B:$F,5,FALSE),"") -> 44498 | K7: =IFERROR(VLOOKUP(B7,Rest!$B:$G,6,FALSE),"") -> 44498
A8: Muni11670 | B8: PROJ-0951-MUN-2.26.3.2 | C8: 2021 GRP - Municipality | D8: Install Main - ANO W Warren Ave (1) (Clayburn St & Woodmont Ave) | E8: 1305 | F8: =IFERROR(VLOOKUP(B8,Main!$B:$G,5,FALSE),"") -> 44468 | G8: =IFERROR(VLOOKUP(B8,Main!$B:$G,6,FALSE),"") -> 44474 | H8: =IFERROR(VLOOKUP(B8,Service!$B:$G,5,FALSE),"") -> 44476 | I8: =IFERROR(VLOOKUP(B8,Service!$B:$G,6,FALSE),"") -> 44489 | J8: =IFERROR(VLOOKUP(B8,Rest!$B:$F,5,FALSE),"") -> 44491 | K8: =IFERROR(VLOOKUP(B8,Rest!$B:$G,6,FALSE),"") -> 44491
A9: Muni11830 | B9: PROJ-0951-MUN-2.26.5.2 | C9: 2021 GRP - Municipality | D9: Install Main - ANO W Warren Ave (1) (Southfield Rd & 18' WWPL Archdale St) | E9: 185 | F9: =IFERROR(VLOOKUP(B9,Main!$B:$G,5,FALSE),"") -> 11-12-21* | G9: =IFERROR(VLOOKUP(B9,Main!$B:$G,6,FALSE),"") -> 44512 | H9: =IFERROR(VLOOKUP(B9,Service!$B:$G,5,FALSE),"") | I9: =IFERROR(VLOOKUP(B9,Service!$B:$G,6,FALSE),"") | J9: =IFERROR(VLOOKUP(B9,Rest!$B:$F,5,FALSE),"") -> 44517 | K9: =IFERROR(VLOOKUP(B9,Rest!$B:$G,6,FALSE),"") -> 44517 | L9: No Services in this segement
A10: Muni11910 | B10: PROJ-0951-MUN-2.27.2.2 | C10: 2021 GRP - Municipality | D10: Install Main - ANO W Warren Ave (4) (EOM Penrod St & Rosemont Ave) | E10: 280 | F10: =IFERROR(VLOOKUP(B10,Main!$B:$G,5,FALSE),"") -> 11-08-21* | G10: =IFERROR(VLOOKUP(B10,Main!$B:$G,6,FALSE),"") -> 44510 | H10: =IFERROR(VLOOKUP(B10,Service!$B:$G,5,FALSE),"") | I10: =IFERROR(VLOOKUP(B10,Service!$B:$G,6,FALSE),"") | J10: =IFERROR(VLOOKUP(B10,Rest!$B:$F,5,FALSE),"") -> 44515 | K10: =IFERROR(VLOOKUP(B10,Rest!$B:$G,6,FALSE),"") -> 44515 | L10: No Services in this segement
A11: Muni9750 | B11: PROJ-0951-MUN-2.27.1.2 | C11: 2021 GRP - Municipality | D11: Install Main - ANO W Warren Ave (4) (Rosemont Ave & 25' EEPL Ashton Ave) | E11: 395 | F11: =IFERROR(VLOOKUP(B11,Main!$B:$G,5,FALSE),"") -> 44512 | G11: =IFERROR(VLOOKUP(B11,Main!$B:$G,6,FALSE),"") -> 44517 | H11: =IFERROR(VLOOKUP(B11,Service!$B:$G,5,FALSE),"") | I11: =IFERROR(VLOOKUP(B11,Service!$B:$G,6,FALSE),"") | J11: =IFERROR(VLOOKUP(B11,Rest!$B:$F,5,FALSE),"") -> 44522 | K11: =IFERROR(VLOOKUP(B11,Rest!$B:$G,6,FALSE),"") -> 44522 | L11: No Services in this segement
A12: Muni9830 | B12: PROJ-0951-MUN-2.28.1.2 | C12: 2021 GRP - Municipality | D12: Install Main - Archdale St (2) (ANO W Warren Ave & W Warren Ave) | E12: 105 | F12: =IFERROR(VLOOKUP(B12,Main!$B:$G,5,FALSE),"") -> 44518 | G12: =IFERROR(VLOOKUP(B12,Main!$B:$G,6,FALSE),"") -> 44518 | H12: =IFERROR(VLOOKUP(B12,Service!$B:$G,5,FALSE),"") | I12: =IFERROR(VLOOKUP(B12,Service!$B:$G,6,FALSE),"") | J12: =IFERROR(VLOOKUP(B12,Rest!$B:$F,5,FALSE),"") -> 44524 | K12: =IFERROR(VLOOKUP(B12,Rest!$B:$G,6,FALSE),"") -> 44524 | L12: No Services in this segement
A13: Muni9910 | B13: PROJ-0951-MUN-2.29.1.2 | C13: 2021 GRP - Municipality | D13: Install Main - Archdale St (3) (W Warren Ave & ASO W Warren Ave) | E13: 105 | F13: =IFERROR(VLOOKUP(B13,Main!$B:$G,5,FALSE),"") -> 44524 | G13: =IFERROR(VLOOKUP(B13,Main!$B:$G,6,FALSE),"") -> 44524 | H13: =IFERROR(VLOOKUP(B13,Service!$B:$G,5,FALSE),"") | I13: =IFERROR(VLOOKUP(B13,Service!$B:$G,6,FALSE),"") | J13: =IFERROR(VLOOKUP(B13,Rest!$B:$F,5,FALSE),"") -> 44530 | K13: =IFERROR(VLOOKUP(B13,Rest!$B:$G,6,FALSE),"") -> 44530 | L13: No Services in this segement
A14: Muni9990 | B14: PROJ-0951-MUN-2.30.1.2 | C14: 2021 GRP - Municipality | D14: Install Main - Asbury Park (2) (ANO W Warren Ave & W Warren Ave) | E14: 105 | F14: =IFERROR(VLOOKUP(B14,Main!$B:$G,5,FALSE),"") -> 44523 | G14: =IFERROR(VLOOKUP(B14,Main!$B:$G,6,FALSE),"") -> 44523 | H14: =IFERROR(VLOOKUP(B14,Service!$B:$G,5,FALSE),"") | I14: =IFERROR(VLOOKUP(B14,Service!$B:$G,6,FALSE),"") | J14: =IFERROR(VLOOKUP(B14,Rest!$B:$F,5,FALSE),"") -> 44529 | K14: =IFERROR(VLOOKUP(B14,Rest!$B:$G,6,FALSE),"") -> 44529 | L14: No Services in this segement
A15: Muni10070 | B15: PROJ-0951-MUN-2.31.1.2 | C15: 2021 GRP - Municipality | D15: Install Main - Asbury Park (3) (W Waren Ave & ASO W Warren Ave) | E15: 115 | F15: =IFERROR(VLOOKUP(B15,Main!$B:$G,5,FALSE),"") -> 44516 | G15: =IFERROR(VLOOKUP(B15,Main!$B:$G,6,FALSE),"") -> 44516 | H15: =IFERROR(VLOOKUP(B15,Service!$B:$G,5,FALSE),"") | I15: =IFERROR(VLOOKUP(B15,Service!$B:$G,6,FALSE),"") | J15: =IFERROR(VLOOKUP(B15,Rest!$B:$F,5,FALSE),"") -> 44518 | K15: =IFERROR(VLOOKUP(B15,Rest!$B:$G,6,FALSE),"") -> 44518 | L15: No Services in this segement
A16: Muni8150 | B16: PROJ-0951-MUN-2.7.1.2 | C16: 2021 GRP - Municipality | D16: Install Main - Ash (Vinewood & Roosevelt) | E16: 715 | F16: =IFERROR(VLOOKUP(B16,Main!$B:$G,5,FALSE),"") -> 05-17-21 A | G16: =IFERROR(VLOOKUP(B16,Main!$B:$G,6,FALSE),"") -> 05-24-21 A | H16: =IFERROR(VLOOKUP(B16,Service!$B:$G,5,FALSE),"") -> 08-30-21 A | I16: =IFERROR(VLOOKUP(B16,Service!$B:$G,6,FALSE),"") -> 09-01-21 A | J16: =IFERROR(VLOOKUP(B16,Rest!$B:$F,5,FALSE),"") -> 44461 | K16: =IFERROR(VLOOKUP(B16,Rest!$B:$G,6,FALSE),"") -> 44461
A17: Muni7990 | B17: PROJ-0951-MUN-2.11.1.2 | C17: 2021 GRP - Municipality | D17: Install Main - ASO Chicago (Pinehurst & Birwood) | E17: 665 | F17: =IFERROR(VLOOKUP(B17,Main!$B:$G,5,FALSE),"") -> 07-12-21 A | G17: =IFERROR(VLOOKUP(B17,Main!$B:$G,6,FALSE),"") -> 07-19-21 A | H17: =IFERROR(VLOOKUP(B17,Service!$B:$G,5,FALSE),"") -> 44459 | I17: =IFERROR(VLOOKUP(B17,Service!$B:$G,6,FALSE),"") -> 44459 | J17: =IFERROR(VLOOKUP(B17,Rest!$B:$F,5,FALSE),"") -> 44461 | K17: =IFERROR(VLOOKUP(B17,Rest!$B:$G,6,FALSE),"") -> 44461
A18: Muni8470 | B18: PROJ-0951-MUN-2.16.1.2 | C18: 2021 GRP - Municipality | D18: Install Main - ASO Michigan (At Vinewood) | E18: 5 | F18: =IFERROR(VLOOKUP(B18,Main!$B:$G,5,FALSE),"") -> 06-08-21 A | G18: =IFERROR(VLOOKUP(B18,Main!$B:$G,6,FALSE),"") -> 06-08-21 A | H18: =IFERROR(VLOOKUP(B18,Service!$B:$G,5,FALSE),"") | I18: =IFERROR(VLOOKUP(B18,Service!$B:$G,6,FALSE),"") | J18: =IFERROR(VLOOKUP(B18,Rest!$B:$F,5,FALSE),"") -> 44460 | K18: =IFERROR(VLOOKUP(B18,Rest!$B:$G,6,FALSE),"") -> 44460 | L18: No Services in this segement
A19: Muni12070 | B19: PROJ-0951-MUN-2.32.3.2 | C19: 2021 GRP - Municipality | D19: Install Main - ASO W Warren Ave (1) (24' EWPL Archdale St & 4' WEPL Archdale St) | E19: 40 | F19: =IFERROR(VLOOKUP(B19,Main!$B:$G,5,FALSE),"") -> 09-20-21* | G19: =IFERROR(VLOOKUP(B19,Main!$B:$G,6,FALSE),"") -> 44459 | H19: =IFERROR(VLOOKUP(B19,Service!$B:$G,5,FALSE),"") | I19: =IFERROR(VLOOKUP(B19,Service!$B:$G,6,FALSE),"") | J19: =IFERROR(VLOOKUP(B19,Rest!$B:$F,5,FALSE),"") -> 44462 | K19: =IFERROR(VLOOKUP(B19,Rest!$B:$G,6,FALSE),"") -> 44462 | L19: No Services in this segement
A20: Muni11990 | B20: PROJ-0951-MUN-2.32.2.2 | C20: 2021 GRP - Municipality | D20: Install Main - ASO W Warren Ave (1) (Archdale St & St Marys St) | E20: 2950 | F20: =IFERROR(VLOOKUP(B20,Main!$B:$G,5,FALSE),"") -> 44483 | G20: =IFERROR(VLOOKUP(B20,Main!$B:$G,6,FALSE),"") -> 44502 | H20: =IFERROR(VLOOKUP(B20,Service!$B:$G,5,FALSE),"") -> 44504 | I20: =IFERROR(VLOOKUP(B20,Service!$B:$G,6,FALSE),"") -> 44517 | J20: =IFERROR(VLOOKUP(B20,Rest!$B:$F,5,FALSE),"") -> 44519 | K20: =IFERROR(VLOOKUP(B20,Rest!$B:$G,6,FALSE),"") -> 44519
A21: Muni10150 | B21: PROJ-0951-MUN-2.32.1.2 | C21: 2021 GRP - Municipality | D21: Install Main - ASO W Warren Ave (1) (Southfield Rd & Archdale St) | E21: 275 | F21: =IFERROR(VLOOKUP(B21,Main!$B:$G,5,FALSE),"") -> 44504 | G21: =IFERROR(VLOOKUP(B21,Main!$B:$G,6,FALSE),"") -> 44504 | H21: =IFERROR(VLOOKUP(B21,Service!$B:$G,5,FALSE),"") -> 44508 | I21: =IFERROR(VLOOKUP(B21,Service!$B:$G,6,FALSE),"") -> 44519 | J21: =IFERROR(VLOOKUP(B21,Rest!$B:$F,5,FALSE),"") -> 44523 | K21: =IFERROR(VLOOKUP(B21,Rest!$B:$G,6,FALSE),"") -> 44523
A22: Muni7910 | B22: PROJ-0951-MUN-2.10.1.2 | C22: 2021 GRP - Municipality | D22: Install Main - Birwood (Chicago & ASO Chicago) | E22: 118 | F22: =IFERROR(VLOOKUP(B22,Main!$B:$G,5,FALSE),"") -> 07-12-21 A | G22: =IFERROR(VLOOKUP(B22,Main!$B:$G,6,FALSE),"") -> 07-12-21 A | H22: =IFERROR(VLOOKUP(B22,Service!$B:$G,5,FALSE),"") -> 44459 | I22: =IFERROR(VLOOKUP(B22,Service!$B:$G,6,FALSE),"") -> 44459 | J22: =IFERROR(VLOOKUP(B22,Rest!$B:$F,5,FALSE),"") -> 44461 | K22: =IFERROR(VLOOKUP(B22,Rest!$B:$G,6,FALSE),"") -> 44461
A23: Muni7270 | B23: PROJ-0951-MUN-2.2.1.2 | C23: 2021 GRP - Municipality | D23: Install Main - Chicago 2 (Wyoming & EOM) | E23: 210 | F23: =IFERROR(VLOOKUP(B23,Main!$B:$G,5,FALSE),"") -> 07-09-21 A | G23: =IFERROR(VLOOKUP(B23,Main!$B:$G,6,FALSE),"") -> 07-13-21 A | H23: =IFERROR(VLOOKUP(B23,Service!$B:$G,5,FALSE),"") -> 44459 | I23: =IFERROR(VLOOKUP(B23,Service!$B:$G,6,FALSE),"") -> 44459 | J23: =IFERROR(VLOOKUP(B23,Rest!$B:$F,5,FALSE),"") -> 44461 | K23: =IFERROR(VLOOKUP(B23,Rest!$B:$G,6,FALSE),"") -> 44461
A24: Muni10230 | B24: PROJ-0951-MUN-2.33.1.2 | C24: 2021 GRP - Municipality | D24: Install Main - Clayburn St (1) (23' NNPL ANO W Warren Ave & 5' NSPL ANO W Warren Ave) | E24: 45 | F24: =IFERROR(VLOOKUP(B24,Main!$B:$G,5,FALSE),"") | G24: =IFERROR(VLOOKUP(B24,Main!$B:$G,6,FALSE),"") | H24: =IFERROR(VLOOKUP(B24,Service!$B:$G,5,FALSE),"") | I24: =IFERROR(VLOOKUP(B24,Service!$B:$G,6,FALSE),"") | J24: =IFERROR(VLOOKUP(B24,Rest!$B:$F,5,FALSE),"") | K24: =IFERROR(VLOOKUP(B24,Rest!$B:$G,6,FALSE),"") | L24: No Services in this segement
A25: Muni12150 | B25: PROJ-0951-MUN-2.33.2.2 | C25: 2021 GRP - Municipality | D25: Install Main - Clayburn St (1) (ANO W Warren Ave & W Warren Ave) | E25: 110 | F25: =IFERROR(VLOOKUP(B25,Main!$B:$G,5,FALSE),"") | G25: =IFERROR(VLOOKUP(B25,Main!$B:$G,6,FALSE),"") | H25: =IFERROR(VLOOKUP(B25,Service!$B:$G,5,FALSE),"") | I25: =IFERROR(VLOOKUP(B25,Service!$B:$G,6,FALSE),"") | J25: =IFERROR(VLOOKUP(B25,Rest!$B:$F,5,FALSE),"") | K25: =IFERROR(VLOOKUP(B25,Rest!$B:$G,6,FALSE),"") | L25: No Services in this segement
A26: Muni10470 | B26: PROJ-0951-MUN-2.36.1.2 | C26: 2021 GRP - Municipality | D26: Install Main - Grandmont Ave (2) (W Warren Ave & ASO W Warren Ave) | E26: 110 | F26: =IFERROR(VLOOKUP(B26,Main!$B:$G,5,FALSE),"") -> 44502 | G26: =IFERROR(VLOOKUP(B26,Main!$B:$G,6,FALSE),"") -> 44502 | H26: =IFERROR(VLOOKUP(B26,Service!$B:$G,5,FALSE),"") | I26: =IFERROR(VLOOKUP(B26,Service!$B:$G,6,FALSE),"") | J26: =IFERROR(VLOOKUP(B26,Rest!$B:$F,5,FALSE),"") -> 44505 | K26: =IFERROR(VLOOKUP(B26,Rest!$B:$G,6,FALSE),"") -> 44505 | L26: No Services in this segement
A27: Muni7510 | B27: PROJ-0951-MUN-2.5.1.2 | C27: 2021 GRP - Municipality | D27: Install Main - Griggs (ANO Chicago & Chicago) | E27: 95 | F27: =IFERROR(VLOOKUP(B27,Main!$B:$G,5,FALSE),"") -> 06-24-21 A | G27: =IFERROR(VLOOKUP(B27,Main!$B:$G,6,FALSE),"") -> 06-30-21 A | H27: =IFERROR(VLOOKUP(B27,Service!$B:$G,5,FALSE),"") -> 44459 | I27: =IFERROR(VLOOKUP(B27,Service!$B:$G,6,FALSE),"") -> 44459 | J27: =IFERROR(VLOOKUP(B27,Rest!$B:$F,5,FALSE),"") -> 44461 | K27: =IFERROR(VLOOKUP(B27,Rest!$B:$G,6,FALSE),"") -> 44461
A28: Muni8550 | B28: PROJ-0951-MUN-2.17.1.2 | C28: 2021 GRP - Municipality | D28: Install Main - Hubbard (West Grand Blvd & Michigan) | E28: 701 | F28: =IFERROR(VLOOKUP(B28,Main!$B:$G,5,FALSE),"") -> 06-10-21 A | G28: =IFERROR(VLOOKUP(B28,Main!$B:$G,6,FALSE),"") -> 06-16-21 A | H28: =IFERROR(VLOOKUP(B28,Service!$B:$G,5,FALSE),"") -> 44459 | I28: =IFERROR(VLOOKUP(B28,Service!$B:$G,6,FALSE),"") -> 44470 | J28: =IFERROR(VLOOKUP(B28,Rest!$B:$F,5,FALSE),"") -> 44475 | K28: =IFERROR(VLOOKUP(B28,Rest!$B:$G,6,FALSE),"") -> 44475
A29: Muni8790 | B29: PROJ-0951-MUN-2.20.1.2 | C29: 2021 GRP - Municipality | D29: Install Main - Lahser (Santa Clara & Mcnichols) | E29: 725 | F29: =IFERROR(VLOOKUP(B29,Main!$B:$G,5,FALSE),"") -> 05-31-21 A | G29: =IFERROR(VLOOKUP(B29,Main!$B:$G,6,FALSE),"") -> 06-17-21 A | H29: =IFERROR(VLOOKUP(B29,Service!$B:$G,5,FALSE),"") -> 44459 | I29: =IFERROR(VLOOKUP(B29,Service!$B:$G,6,FALSE),"") -> 44470 | J29: =IFERROR(VLOOKUP(B29,Rest!$B:$F,5,FALSE),"") -> 44475 | K29: =IFERROR(VLOOKUP(B29,Rest!$B:$G,6,FALSE),"") -> 44475
A30: Muni12230 | B30: PROJ-0951-MUN-2.37.2.2 | C30: 2021 GRP - Municipality | D30: Install Main - Longacre St (2) (ANO W Warren Ave & W Warren Ave) | E30: 115 | F30: =IFERROR(VLOOKUP(B30,Main!$B:$G,5,FALSE),"") | G30: =IFERROR(VLOOKUP(B30,Main!$B:$G,6,FALSE),"") | H30: =IFERROR(VLOOKUP(B30,Service!$B:$G,5,FALSE),"") | I30: =IFERROR(VLOOKUP(B30,Service!$B:$G,6,FALSE),"") | J30: =IFERROR(VLOOKUP(B30,Rest!$B:$F,5,FALSE),"") | K30: =IFERROR(VLOOKUP(B30,Rest!$B:$G,6,FALSE),"") | L30: No Services in this segement
A31: Muni10550 | B31: PROJ-0951-MUN-2.37.1.2 | C31: 2021 GRP - Municipality | D31: Install Main - Longacre St (2) (EOM & ANO W Warren Ave) | E31: 290 | F31: =IFERROR(VLOOKUP(B31,Main!$B:$G,5,FALSE),"") | G31: =IFERROR(VLOOKUP(B31,Main!$B:$G,6,FALSE),"") | H31: =IFERROR(VLOOKUP(B31,Service!$B:$G,5,FALSE),"") | I31: =IFERROR(VLOOKUP(B31,Service!$B:$G,6,FALSE),"") | J31: =IFERROR(VLOOKUP(B31,Rest!$B:$F,5,FALSE),"") | K31: =IFERROR(VLOOKUP(B31,Rest!$B:$G,6,FALSE),"")
A32: Muni10630 | B32: PROJ-0951-MUN-2.38.1.2 | C32: 2021 GRP - Municipality | D32: Install Main - Longacre St (3) (W Warren Ave & ASO W Warren Ave) | E32: 115 | F32: =IFERROR(VLOOKUP(B32,Main!$B:$G,5,FALSE),"") -> 44480 | G32: =IFERROR(VLOOKUP(B32,Main!$B:$G,6,FALSE),"") -> 44480 | H32: =IFERROR(VLOOKUP(B32,Service!$B:$G,5,FALSE),"") | I32: =IFERROR(VLOOKUP(B32,Service!$B:$G,6,FALSE),"") | J32: =IFERROR(VLOOKUP(B32,Rest!$B:$F,5,FALSE),"") -> 44483 | K32: =IFERROR(VLOOKUP(B32,Rest!$B:$G,6,FALSE),"") -> 44483 | L32: No Services in this segement
A33: Muni8950 | B33: PROJ-0951-MUN-2.13.2.2 | C33: 2021 GRP - Municipality | D33: Install Main - Magnolia (Mckinley & Roosevelt) | E33: 328 | F33: =IFERROR(VLOOKUP(B33,Main!$B:$G,5,FALSE),"") -> 06-25-21 A | G33: =IFERROR(VLOOKUP(B33,Main!$B:$G,6,FALSE),"") -> 06-30-21 A | H33: =IFERROR(VLOOKUP(B33,Service!$B:$G,5,FALSE),"") | I33: =IFERROR(VLOOKUP(B33,Service!$B:$G,6,FALSE),"") | J33: =IFERROR(VLOOKUP(B33,Rest!$B:$F,5,FALSE),"") -> 44460 | K33: =IFERROR(VLOOKUP(B33,Rest!$B:$G,6,FALSE),"") -> 44460 | L33: No Services in this segement
A34: Muni8230 | B34: PROJ-0951-MUN-2.13.1.2 | C34: 2021 GRP - Municipality | D34: Install Main - Magnolia (Vinewood & Mckinley) | E34: 424 | F34: =IFERROR(VLOOKUP(B34,Main!$B:$G,5,FALSE),"") -> 06-29-21 A | G34: =IFERROR(VLOOKUP(B34,Main!$B:$G,6,FALSE),"") -> 06-30-21 A | H34: =IFERROR(VLOOKUP(B34,Service!$B:$G,5,FALSE),"") -> 44459 | I34: =IFERROR(VLOOKUP(B34,Service!$B:$G,6,FALSE),"") -> 44470 | J34: =IFERROR(VLOOKUP(B34,Rest!$B:$F,5,FALSE),"") -> 44475 | K34: =IFERROR(VLOOKUP(B34,Rest!$B:$G,6,FALSE),"") -> 44475
A35: Muni9350 | B35: PROJ-0951-MUN-2.18.2.2 | C35: 2021 GRP - Municipality | D35: Install Main - Mckinley (Magnolia & West Grand Blvd) | E35: 606 | F35: =IFERROR(VLOOKUP(B35,Main!$B:$G,5,FALSE),"") -> 06-22-21 A | G35: =IFERROR(VLOOKUP(B35,Main!$B:$G,6,FALSE),"") -> 06-24-21 A | H35: =IFERROR(VLOOKUP(B35,Service!$B:$G,5,FALSE),"") -> 44459 | I35: =IFERROR(VLOOKUP(B35,Service!$B:$G,6,FALSE),"") -> 44470 | J35: =IFERROR(VLOOKUP(B35,Rest!$B:$F,5,FALSE),"") -> 44475 | K35: =IFERROR(VLOOKUP(B35,Rest!$B:$G,6,FALSE),"") -> 44475
A36: Muni8630 | B36: PROJ-0951-MUN-2.18.1.2 | C36: 2021 GRP - Municipality | D36: Install Main - Mckinley (NO Magnolia & Magnolia) | E36: 234 | F36: =IFERROR(VLOOKUP(B36,Main!$B:$G,5,FALSE),"") -> 06-23-21 A | G36: =IFERROR(VLOOKUP(B36,Main!$B:$G,6,FALSE),"") -> 06-28-21 A | H36: =IFERROR(VLOOKUP(B36,Service!$B:$G,5,FALSE),"") -> 44459 | I36: =IFERROR(VLOOKUP(B36,Service!$B:$G,6,FALSE),"") -> 44470 | J36: =IFERROR(VLOOKUP(B36,Rest!$B:$F,5,FALSE),"") -> 44474 | K36: =IFERROR(VLOOKUP(B36,Rest!$B:$G,6,FALSE),"") -> 44474
A37: Muni10710 | B37: PROJ-0951-MUN-2.39.1.2 | C37: 2021 GRP - Municipality | D37: Install Main - Memorial St (1) (ANO W Warren Ave & W Warren Ave) | E37: 100 | F37: =IFERROR(VLOOKUP(B37,Main!$B:$G,5,FALSE),"") | G37: =IFERROR(VLOOKUP(B37,Main!$B:$G,6,FALSE),"") | H37: =IFERROR(VLOOKUP(B37,Service!$B:$G,5,FALSE),"") | I37: =IFERROR(VLOOKUP(B37,Service!$B:$G,6,FALSE),"") | J37: =IFERROR(VLOOKUP(B37,Rest!$B:$F,5,FALSE),"") -> 44474 | K37: =IFERROR(VLOOKUP(B37,Rest!$B:$G,6,FALSE),"") -> 44474 | L37: Schedule show no main in this segement just Resto may be this is carryover or so.
A38: Muni10790 | B38: PROJ-0951-MUN-2.40.1.2 | C38: 2021 GRP - Municipality | D38: Install Main - Memorial St (2) (W Warren Ave & ASO W Warren Ave) | E38: 110 | F38: =IFERROR(VLOOKUP(B38,Main!$B:$G,5,FALSE),"") | G38: =IFERROR(VLOOKUP(B38,Main!$B:$G,6,FALSE),"") | H38: =IFERROR(VLOOKUP(B38,Service!$B:$G,5,FALSE),"") | I38: =IFERROR(VLOOKUP(B38,Service!$B:$G,6,FALSE),"") | J38: =IFERROR(VLOOKUP(B38,Rest!$B:$F,5,FALSE),"") -> 44474 | K38: =IFERROR(VLOOKUP(B38,Rest!$B:$G,6,FALSE),"") -> 44474 | L38: Schedule show no main in this segement just Resto may be this is carryover or so.
A39: Muni7830 | B39: PROJ-0951-MUN-2.9.1.2 | C39: 2021 GRP - Municipality | D39: Install Main - Mendota (Chicago & ASO Chicago) | E39: 118 | F39: =IFERROR(VLOOKUP(B39,Main!$B:$G,5,FALSE),"") -> 07-13-21 A | G39: =IFERROR(VLOOKUP(B39,Main!$B:$G,6,FALSE),"") -> 07-13-21 A | H39: =IFERROR(VLOOKUP(B39,Service!$B:$G,5,FALSE),"") -> 44459 | I39: =IFERROR(VLOOKUP(B39,Service!$B:$G,6,FALSE),"") -> 44459 | J39: =IFERROR(VLOOKUP(B39,Rest!$B:$F,5,FALSE),"") -> 44461 | K39: =IFERROR(VLOOKUP(B39,Rest!$B:$G,6,FALSE),"") -> 44461
A40: Muni10870 | B40: PROJ-0951-MUN-2.41.1.2 | C40: 2021 GRP - Municipality | D40: Install Main - Mettetal St (3) (W Warren Ave & ASO W Warren Ave) | E40: 115 | F40: =IFERROR(VLOOKUP(B40,Main!$B:$G,5,FALSE),"") -> 44516 | G40: =IFERROR(VLOOKUP(B40,Main!$B:$G,6,FALSE),"") -> 44516 | H40: =IFERROR(VLOOKUP(B40,Service!$B:$G,5,FALSE),"") | I40: =IFERROR(VLOOKUP(B40,Service!$B:$G,6,FALSE),"") | J40: =IFERROR(VLOOKUP(B40,Rest!$B:$F,5,FALSE),"") -> 44518 | K40: =IFERROR(VLOOKUP(B40,Rest!$B:$G,6,FALSE),"") -> 44518 | L40: No Services in this segement
A41: Muni9030 | B41: PROJ-0951-MUN-2.14.2.2 | C41: 2021 GRP - Municipality | D41: Install Main - Michigan (At Vinewood) | E41: 223 | F41: =IFERROR(VLOOKUP(B41,Main!$B:$G,5,FALSE),"") -> 06-01-21 A | G41: =IFERROR(VLOOKUP(B41,Main!$B:$G,6,FALSE),"") -> 06-08-21 A | H41: =IFERROR(VLOOKUP(B41,Service!$B:$G,5,FALSE),"") | I41: =IFERROR(VLOOKUP(B41,Service!$B:$G,6,FALSE),"") | J41: =IFERROR(VLOOKUP(B41,Rest!$B:$F,5,FALSE),"") -> 44460 | K41: =IFERROR(VLOOKUP(B41,Rest!$B:$G,6,FALSE),"") -> 44460 | L41: No Services in this segement
A42: Muni8310 | B42: PROJ-0951-MUN-2.14.1.2 | C42: 2021 GRP - Municipality | D42: Install Main - Michigan (Hubbard & Vinewood) | E42: 427 | F42: =IFERROR(VLOOKUP(B42,Main!$B:$G,5,FALSE),"") -> 05-24-21 A | G42: =IFERROR(VLOOKUP(B42,Main!$B:$G,6,FALSE),"") -> 06-08-21 A | H42: =IFERROR(VLOOKUP(B42,Service!$B:$G,5,FALSE),"") | I42: =IFERROR(VLOOKUP(B42,Service!$B:$G,6,FALSE),"") | J42: =IFERROR(VLOOKUP(B42,Rest!$B:$F,5,FALSE),"") -> 44461 | K42: =IFERROR(VLOOKUP(B42,Rest!$B:$G,6,FALSE),"") -> 44461 | L42: No Services in this segement
A43: Muni8870 | B43: PROJ-0951-MUN-2.21.1.2 | C43: 2021 GRP - Municipality | D43: Install Main - Orchard (At Lahser) | E43: 24 | F43: =IFERROR(VLOOKUP(B43,Main!$B:$G,5,FALSE),"") -> 06-17-21 A | G43: =IFERROR(VLOOKUP(B43,Main!$B:$G,6,FALSE),"") -> 06-17-21 A | H43: =IFERROR(VLOOKUP(B43,Service!$B:$G,5,FALSE),"") | I43: =IFERROR(VLOOKUP(B43,Service!$B:$G,6,FALSE),"") | J43: =IFERROR(VLOOKUP(B43,Rest!$B:$F,5,FALSE),"") -> 44460 | K43: =IFERROR(VLOOKUP(B43,Rest!$B:$G,6,FALSE),"") -> 44460 | L43: No Services in this segement
A44: Muni8070 | B44: PROJ-0951-MUN-2.12.1.2 | C44: 2021 GRP - Municipality | D44: Install Main - Pinehurst (Chicago & Joy) | E44: 2722 | F44: =IFERROR(VLOOKUP(B44,Main!$B:$G,5,FALSE),"") -> 05-10-21 A | G44: =IFERROR(VLOOKUP(B44,Main!$B:$G,6,FALSE),"") -> 06-30-21 A | H44: =IFERROR(VLOOKUP(B44,Service!$B:$G,5,FALSE),"") -> 08-30-21 A | I44: =IFERROR(VLOOKUP(B44,Service!$B:$G,6,FALSE),"") -> 09-01-21 A | J44: =IFERROR(VLOOKUP(B44,Rest!$B:$F,5,FALSE),"") -> 44460 | K44: =IFERROR(VLOOKUP(B44,Rest!$B:$G,6,FALSE),"") -> 44460
A45: Muni10950 | B45: PROJ-0951-MUN-2.42.1.2 | C45: 2021 GRP - Municipality | D45: Install Main - Rutland St (1) (ANO W Warren Ave & W Warren Ave) | E45: 110 | F45: =IFERROR(VLOOKUP(B45,Main!$B:$G,5,FALSE),"") -> 44482 | G45: =IFERROR(VLOOKUP(B45,Main!$B:$G,6,FALSE),"") -> 44482 | H45: =IFERROR(VLOOKUP(B45,Service!$B:$G,5,FALSE),"") | I45: =IFERROR(VLOOKUP(B45,Service!$B:$G,6,FALSE),"") | J45: =IFERROR(VLOOKUP(B45,Rest!$B:$F,5,FALSE),"") -> 44487 | K45: =IFERROR(VLOOKUP(B45,Rest!$B:$G,6,FALSE),"") -> 44487 | L45: No Services in this segement
A46: Muni11030 | B46: PROJ-0951-MUN-2.43.1.2 | C46: 2021 GRP - Municipality | D46: Install Main - Rutland St (2) (W Warren Ave & ASO W Warren Ave) | E46: 115 | F46: =IFERROR(VLOOKUP(B46,Main!$B:$G,5,FALSE),"") -> 44488 | G46: =IFERROR(VLOOKUP(B46,Main!$B:$G,6,FALSE),"") -> 44488 | H46: =IFERROR(VLOOKUP(B46,Service!$B:$G,5,FALSE),"") | I46: =IFERROR(VLOOKUP(B46,Service!$B:$G,6,FALSE),"") | J46: =IFERROR(VLOOKUP(B46,Rest!$B:$F,5,FALSE),"") -> 44491 | K46: =IFERROR(VLOOKUP(B46,Rest!$B:$G,6,FALSE),"") -> 44491 | L46: No Services in this segement
A47: Muni11110 | B47: PROJ-0951-MUN-2.44.1.2 | C47: 2021 GRP - Municipality | D47: Install Main - Southfield Fwy (M-39) (66' EEPL Ashton Ave & 112' WWPL Archdale St) | E47: 545 | F47: =IFERROR(VLOOKUP(B47,Main!$B:$G,5,FALSE),"") -> 10-29-21* | G47: =IFERROR(VLOOKUP(B47,Main!$B:$G,6,FALSE),"") -> 44508 | H47: =IFERROR(VLOOKUP(B47,Service!$B:$G,5,FALSE),"") | I47: =IFERROR(VLOOKUP(B47,Service!$B:$G,6,FALSE),"") | J47: =IFERROR(VLOOKUP(B47,Rest!$B:$F,5,FALSE),"") -> 06-16-21 A | K47: =IFERROR(VLOOKUP(B47,Rest!$B:$G,6,FALSE),"") -> 44510 | L47: No Services in this segement
A48: Muni11190 | B48: PROJ-0951-MUN-2.45.1.2 | C48: 2021 GRP - Municipality | D48: Install Main - St Marys St (2) (ANO W Warren Ave & W Warren Ave) | E48: 95 | F48: =IFERROR(VLOOKUP(B48,Main!$B:$G,5,FALSE),"") | G48: =IFERROR(VLOOKUP(B48,Main!$B:$G,6,FALSE),"") | H48: =IFERROR(VLOOKUP(B48,Service!$B:$G,5,FALSE),"") | I48: =IFERROR(VLOOKUP(B48,Service!$B:$G,6,FALSE),"") | J48: =IFERROR(VLOOKUP(B48,Rest!$B:$F,5,FALSE),"") | K48: =IFERROR(VLOOKUP(B48,Rest!$B:$G,6,FALSE),"") | L48: No Services in this segement
A49: Muni11270 | B49: PROJ-0951-MUN-2.46.1.2 | C49: 2021 GRP - Municipality | D49: Install Main - St Marys St (3) (W Warren Ave & ASO W Warren Ave) | E49: 105 | F49: =IFERROR(VLOOKUP(B49,Main!$B:$G,5,FALSE),"") | G49: =IFERROR(VLOOKUP(B49,Main!$B:$G,6,FALSE),"") | H49: =IFERROR(VLOOKUP(B49,Service!$B:$G,5,FALSE),"") | I49: =IFERROR(VLOOKUP(B49,Service!$B:$G,6,FALSE),"") | J49: =IFERROR(VLOOKUP(B49,Rest!$B:$F,5,FALSE),"") | K49: =IFERROR(VLOOKUP(B49,Rest!$B:$G,6,FALSE),"") | L49: No Services in this segement
A50: Muni8710 | B50: PROJ-0951-MUN-2.19.1.2 | C50: 2021 GRP - Municipality | D50: Install Main - Vinewood (Magnolia & Michigan) | E50: 1562 | F50: =IFERROR(VLOOKUP(B50,Main!$B:$G,5,FALSE),"") -> 05-06-21 A | G50: =IFERROR(VLOOKUP(B50,Main!$B:$G,6,FALSE),"") -> 05-24-21 A | H50: =IFERROR(VLOOKUP(B50,Service!$B:$G,5,FALSE),"") -> 44459 | I50: =IFERROR(VLOOKUP(B50,Service!$B:$G,6,FALSE),"") -> 44470 | J50: =IFERROR(VLOOKUP(B50,Rest!$B:$F,5,FALSE),"") -> 44474 | K50: =IFERROR(VLOOKUP(B50,Rest!$B:$G,6,FALSE),"") -> 44474 | L50: No Services in this segement
A51: Muni9430 | B51: PROJ-0951-MUN-2.19.2.2 | C51: 2021 GRP - Municipality | D51: Install Main - Vinewood (Michigan & ASO Michigan) | E51: 70 | F51: =IFERROR(VLOOKUP(B51,Main!$B:$G,5,FALSE),"") -> 05-06-21 A | G51: =IFERROR(VLOOKUP(B51,Main!$B:$G,6,FALSE),"") -> 06-08-21 A | H51: =IFERROR(VLOOKUP(B51,Service!$B:$G,5,FALSE),"") | I51: =IFERROR(VLOOKUP(B51,Service!$B:$G,6,FALSE),"") | J51: =IFERROR(VLOOKUP(B51,Rest!$B:$F,5,FALSE),"") -> 44460 | K51: =IFERROR(VLOOKUP(B51,Rest!$B:$G,6,FALSE),"") -> 44460 | L51: No Services in this segement
A52: Muni7750 | B52: PROJ-0951-MUN-2.6.2.2 | C52: 2021 GRP - Municipality | D52: Install Main - W Chicago 1 (Pinehurst & Birwood) | E52: 664 | F52: =IFERROR(VLOOKUP(B52,Main!$B:$G,5,FALSE),"") -> 07-13-21 A | G52: =IFERROR(VLOOKUP(B52,Main!$B:$G,6,FALSE),"") -> 07-13-21 A | H52: =IFERROR(VLOOKUP(B52,Service!$B:$G,5,FALSE),"") -> 44459 | I52: =IFERROR(VLOOKUP(B52,Service!$B:$G,6,FALSE),"") -> 44459 | J52: =IFERROR(VLOOKUP(B52,Rest!$B:$F,5,FALSE),"") -> 44461 | K52: =IFERROR(VLOOKUP(B52,Rest!$B:$G,6,FALSE),"") -> 44461
A53: Muni7590 | B53: PROJ-0951-MUN-2.6.1.2 | C53: 2021 GRP - Municipality | D53: Install Main - W Chicago 1 (Pinehurst & Griggs) | E53: 1160 | F53: =IFERROR(VLOOKUP(B53,Main!$B:$G,5,FALSE),"") -> 06-14-21 A | G53: =IFERROR(VLOOKUP(B53,Main!$B:$G,6,FALSE),"") -> 06-30-21 A | H53: =IFERROR(VLOOKUP(B53,Service!$B:$G,5,FALSE),"") -> 44459 | I53: =IFERROR(VLOOKUP(B53,Service!$B:$G,6,FALSE),"") -> 44459 | J53: =IFERROR(VLOOKUP(B53,Rest!$B:$F,5,FALSE),"") -> 44461 | K53: =IFERROR(VLOOKUP(B53,Rest!$B:$G,6,FALSE),"") -> 44461
A54: Muni11350 | B54: PROJ-0951-MUN-2.47.1.2 | C54: 2021 GRP - Municipality | D54: Install Main - W Warren Ave (1) (0' SNPL W Warren Ave & 0' NSPL W Warren Ave) | E54: 100 | F54: =IFERROR(VLOOKUP(B54,Main!$B:$G,5,FALSE),"") -> 44522 | G54: =IFERROR(VLOOKUP(B54,Main!$B:$G,6,FALSE),"") -> 44522 | H54: =IFERROR(VLOOKUP(B54,Service!$B:$G,5,FALSE),"") | I54: =IFERROR(VLOOKUP(B54,Service!$B:$G,6,FALSE),"") | J54: =IFERROR(VLOOKUP(B54,Rest!$B:$F,5,FALSE),"") -> 44526 | K54: =IFERROR(VLOOKUP(B54,Rest!$B:$G,6,FALSE),"") -> 44526 | L54: No Services in this segement
A55: Muni13270 | B55: PROJ-0951-MUN-2.47.14.2 | C55: 2021 GRP - Municipality | D55: Install Main - W Warren Ave (1) (0' SNPL W Warren Ave & 0' Sspl W Warren Ave) | E55: 110 | F55: =IFERROR(VLOOKUP(B55,Main!$B:$G,5,FALSE),"") -> 44529 | G55: =IFERROR(VLOOKUP(B55,Main!$B:$G,6,FALSE),"") -> 44529 | H55: =IFERROR(VLOOKUP(B55,Service!$B:$G,5,FALSE),"") | I55: =IFERROR(VLOOKUP(B55,Service!$B:$G,6,FALSE),"") | J55: =IFERROR(VLOOKUP(B55,Rest!$B:$F,5,FALSE),"") -> 44532 | K55: =IFERROR(VLOOKUP(B55,Rest!$B:$G,6,FALSE),"") -> 44532 | L55: No Services in this segement
A56: Muni13030 | B56: PROJ-0951-MUN-2.47.11.2 | C56: 2021 GRP - Municipality | D56: Install Main - W Warren Ave (1) (108' WWPL Asbury Park & Asbury Park) | E56: 200 | F56: =IFERROR(VLOOKUP(B56,Main!$B:$G,5,FALSE),"") -> 44510 | G56: =IFERROR(VLOOKUP(B56,Main!$B:$G,6,FALSE),"") -> 44510 | H56: =IFERROR(VLOOKUP(B56,Service!$B:$G,5,FALSE),"") | I56: =IFERROR(VLOOKUP(B56,Service!$B:$G,6,FALSE),"") | J56: =IFERROR(VLOOKUP(B56,Rest!$B:$F,5,FALSE),"") -> 44515 | K56: =IFERROR(VLOOKUP(B56,Rest!$B:$G,6,FALSE),"") -> 44515 | L56: No Services in this segement
A57: Muni12630 | B57: PROJ-0951-MUN-2.47.6.2 | C57: 2021 GRP - Municipality | D57: Install Main - W Warren Ave (1) (114' WWPL Abington Ave & 160' EEPL Abington Ave) | E57: 335 | F57: =IFERROR(VLOOKUP(B57,Main!$B:$G,5,FALSE),"") -> 44494 | G57: =IFERROR(VLOOKUP(B57,Main!$B:$G,6,FALSE),"") -> 44494 | H57: =IFERROR(VLOOKUP(B57,Service!$B:$G,5,FALSE),"") | I57: =IFERROR(VLOOKUP(B57,Service!$B:$G,6,FALSE),"") | J57: =IFERROR(VLOOKUP(B57,Rest!$B:$F,5,FALSE),"") -> 44497 | K57: =IFERROR(VLOOKUP(B57,Rest!$B:$G,6,FALSE),"") -> 44497 | L57: No Services in this segement
A58: Muni12390 | B58: PROJ-0951-MUN-2.47.3.2 | C58: 2021 GRP - Municipality | D58: Install Main - W Warren Ave (1) (150' WWPL Longacre St & 215' Longacre St) | E58: 430 | F58: =IFERROR(VLOOKUP(B58,Main!$B:$G,5,FALSE),"") -> 44475 | G58: =IFERROR(VLOOKUP(B58,Main!$B:$G,6,FALSE),"") -> 44476 | H58: =IFERROR(VLOOKUP(B58,Service!$B:$G,5,FALSE),"") | I58: =IFERROR(VLOOKUP(B58,Service!$B:$G,6,FALSE),"") | J58: =IFERROR(VLOOKUP(B58,Rest!$B:$F,5,FALSE),"") -> 44481 | K58: =IFERROR(VLOOKUP(B58,Rest!$B:$G,6,FALSE),"") -> 44481 | L58: No Services in this segement
A59: Muni12550 | B59: PROJ-0951-MUN-2.47.5.2 | C59: 2021 GRP - Municipality | D59: Install Main - W Warren Ave (1) (189' WWPL Abington Ave & Abington Ave) | E59: 195 | F59: =IFERROR(VLOOKUP(B59,Main!$B:$G,5,FALSE),"") -> 44490 | G59: =IFERROR(VLOOKUP(B59,Main!$B:$G,6,FALSE),"") -> 44490 | H59: =IFERROR(VLOOKUP(B59,Service!$B:$G,5,FALSE),"") | I59: =IFERROR(VLOOKUP(B59,Service!$B:$G,6,FALSE),"") | J59: =IFERROR(VLOOKUP(B59,Rest!$B:$F,5,FALSE),"") -> 44495 | K59: =IFERROR(VLOOKUP(B59,Rest!$B:$G,6,FALSE),"") -> 44495 | L59: No Services in this segement
A60: Muni12310 | B60: PROJ-0951-MUN-2.47.2.2 | C60: 2021 GRP - Municipality | D60: Install Main - W Warren Ave (1) (201' WWPL Longacre St & 13' EEPL Clayburn St) | E60: 840 | F60: =IFERROR(VLOOKUP(B60,Main!$B:$G,5,FALSE),"") -> 44468 | G60: =IFERROR(VLOOKUP(B60,Main!$B:$G,6,FALSE),"") -> 44470 | H60: =IFERROR(VLOOKUP(B60,Service!$B:$G,5,FALSE),"") | I60: =IFERROR(VLOOKUP(B60,Service!$B:$G,6,FALSE),"") | J60: =IFERROR(VLOOKUP(B60,Rest!$B:$F,5,FALSE),"") -> 44476 | K60: =IFERROR(VLOOKUP(B60,Rest!$B:$G,6,FALSE),"") -> 44476 | L60: No Services in this segement
A61: Muni12790 | B61: PROJ-0951-MUN-2.47.8.2 | C61: 2021 GRP - Municipality | D61: Install Main - W Warren Ave (1) (213' WWPL Woodmont Ave & 4' EWPL Woodmont Ave) | E61: 220 | F61: =IFERROR(VLOOKUP(B61,Main!$B:$G,5,FALSE),"") -> 44504 | G61: =IFERROR(VLOOKUP(B61,Main!$B:$G,6,FALSE),"") -> 44504 | H61: =IFERROR(VLOOKUP(B61,Service!$B:$G,5,FALSE),"") | I61: =IFERROR(VLOOKUP(B61,Service!$B:$G,6,FALSE),"") | J61: =IFERROR(VLOOKUP(B61,Rest!$B:$F,5,FALSE),"") -> 44509 | K61: =IFERROR(VLOOKUP(B61,Rest!$B:$G,6,FALSE),"") -> 44509 | L61: No Services in this segement
A62: Muni12870 | B62: PROJ-0951-MUN-2.47.9.2 | C62: 2021 GRP - Municipality | D62: Install Main - W Warren Ave (1) (4' EWPL Woodmont Ave & 4' WEPL Asbury Park) | E62: 385 | F62: =IFERROR(VLOOKUP(B62,Main!$B:$G,5,FALSE),"") -> 44517 | G62: =IFERROR(VLOOKUP(B62,Main!$B:$G,6,FALSE),"") -> 44519 | H62: =IFERROR(VLOOKUP(B62,Service!$B:$G,5,FALSE),"") | I62: =IFERROR(VLOOKUP(B62,Service!$B:$G,6,FALSE),"") | J62: =IFERROR(VLOOKUP(B62,Rest!$B:$F,5,FALSE),"") -> 44524 | K62: =IFERROR(VLOOKUP(B62,Rest!$B:$G,6,FALSE),"") -> 44524 | L62: No Services in this segement
A63: Muni12950 | B63: PROJ-0951-MUN-2.47.10.2 | C63: 2021 GRP - Municipality | D63: Install Main - W Warren Ave (1) (4' WEPL Asbury Park & 95' EEPL Asbury Park) | E63: 100 | F63: =IFERROR(VLOOKUP(B63,Main!$B:$G,5,FALSE),"") -> 44508 | G63: =IFERROR(VLOOKUP(B63,Main!$B:$G,6,FALSE),"") -> 44508 | H63: =IFERROR(VLOOKUP(B63,Service!$B:$G,5,FALSE),"") | I63: =IFERROR(VLOOKUP(B63,Service!$B:$G,6,FALSE),"") | J63: =IFERROR(VLOOKUP(B63,Rest!$B:$F,5,FALSE),"") -> 44511 | K63: =IFERROR(VLOOKUP(B63,Rest!$B:$G,6,FALSE),"") -> 44511 | L63: No Services in this segement
A64: Muni12470 | B64: PROJ-0951-MUN-2.47.4.2 | C64: 2021 GRP - Municipality | D64: Install Main - W Warren Ave (1) (4' WEPL Ruthland St & 158' EEPL Ruthland St) | E64: 165 | F64: =IFERROR(VLOOKUP(B64,Main!$B:$G,5,FALSE),"") -> 44484 | G64: =IFERROR(VLOOKUP(B64,Main!$B:$G,6,FALSE),"") -> 44484 | H64: =IFERROR(VLOOKUP(B64,Service!$B:$G,5,FALSE),"") | I64: =IFERROR(VLOOKUP(B64,Service!$B:$G,6,FALSE),"") | J64: =IFERROR(VLOOKUP(B64,Rest!$B:$F,5,FALSE),"") -> 44489 | K64: =IFERROR(VLOOKUP(B64,Rest!$B:$G,6,FALSE),"") -> 44489 | L64: No Services in this segement
A65: Muni13110 | B65: PROJ-0951-MUN-2.47.12.2 | C65: 2021 GRP - Municipality | D65: Install Main - W Warren Ave (1) (Asbury Park & 209' EEPL Asbury Park) | E65: 215 | F65: =IFERROR(VLOOKUP(B65,Main!$B:$G,5,FALSE),"") -> 44512 | G65: =IFERROR(VLOOKUP(B65,Main!$B:$G,6,FALSE),"") -> 44512 | H65: =IFERROR(VLOOKUP(B65,Service!$B:$G,5,FALSE),"") | I65: =IFERROR(VLOOKUP(B65,Service!$B:$G,6,FALSE),"") | J65: =IFERROR(VLOOKUP(B65,Rest!$B:$F,5,FALSE),"") -> 44517 | K65: =IFERROR(VLOOKUP(B65,Rest!$B:$G,6,FALSE),"") -> 44517 | L65: No Services in this segement
... A67: Muni13190 | B67: PROJ-0951-MUN-2.47.13.2 | C67: 2021 GRP - Municipality | D67: Install Main - W Warren Ave (1) (Mettetal St & 266' EEPL Mettetal St) | E67: 270 | F67: =IFERROR(VLOOKUP(B67,Main!$B:$G,5,FALSE),"") -> 44516 | G67: =IFERROR(VLOOKUP(B67,Main!$B:$G,6,FALSE),"") -> 44516 | H67: =IFERROR(VLOOKUP(B67,Service!$B:$G,5,FALSE),"") | I67: =IFERROR(VLOOKUP(B67,Service!$B:$G,6,FALSE),"") | J67: =IFERROR(VLOOKUP(B67,Rest!$B:$F,5,FALSE),"") -> 44518 | K67: =IFERROR(VLOOKUP(B67,Rest!$B:$G,6,FALSE),"") -> 44518 | L67: No Services in this segement
A68: Muni9190 | B68: PROJ-0951-MUN-2.15.3.2 | C68: 2021 GRP - Municipality | D68: Install Main - West Grand Blvd (1) (EOM & Mckinley) | E68: 82 | F68: =IFERROR(VLOOKUP(B68,Main!$B:$G,5,FALSE),"") -> 06-23-21 A | G68: =IFERROR(VLOOKUP(B68,Main!$B:$G,6,FALSE),"") -> 06-24-21 A | H68: =IFERROR(VLOOKUP(B68,Service!$B:$G,5,FALSE),"") -> 44459 | I68: =IFERROR(VLOOKUP(B68,Service!$B:$G,6,FALSE),"") -> 44470 | J68: =IFERROR(VLOOKUP(B68,Rest!$B:$F,5,FALSE),"") -> 44475 | K68: =IFERROR(VLOOKUP(B68,Rest!$B:$G,6,FALSE),"") -> 44475
A69: Muni8390 | B69: PROJ-0951-MUN-2.15.1.2 | C69: 2021 GRP - Municipality | D69: Install Main - West Grand Blvd (1) (West Grand Blvd & EOM) | E69: 109 | F69: =IFERROR(VLOOKUP(B69,Main!$B:$G,5,FALSE),"") -> 06-15-21 A | G69: =IFERROR(VLOOKUP(B69,Main!$B:$G,6,FALSE),"") -> 06-16-21 A | H69: =IFERROR(VLOOKUP(B69,Service!$B:$G,5,FALSE),"") -> 44459 | I69: =IFERROR(VLOOKUP(B69,Service!$B:$G,6,FALSE),"") -> 44470 | J69: =IFERROR(VLOOKUP(B69,Rest!$B:$F,5,FALSE),"") -> 44474 | K69: =IFERROR(VLOOKUP(B69,Rest!$B:$G,6,FALSE),"") -> 44474
A70: Muni9110 | B70: PROJ-0951-MUN-2.15.2.2 | C70: 2021 GRP - Municipality | D70: Install Main - West Grand Blvd (1) (West Grand Blvd & Vinewood) | E70: 336 | F70: =IFERROR(VLOOKUP(B70,Main!$B:$G,5,FALSE),"") -> 06-15-21 A | G70: =IFERROR(VLOOKUP(B70,Main!$B:$G,6,FALSE),"") -> 06-16-21 A | H70: =IFERROR(VLOOKUP(B70,Service!$B:$G,5,FALSE),"") -> 44459 | I70: =IFERROR(VLOOKUP(B70,Service!$B:$G,6,FALSE),"") -> 44470 | J70: =IFERROR(VLOOKUP(B70,Rest!$B:$F,5,FALSE),"") -> 44475 | K70: =IFERROR(VLOOKUP(B70,Rest!$B:$G,6,FALSE),"") -> 44475
A71: Muni9270 | B71: PROJ-0951-MUN-2.22.4.2 | C71: 2021 GRP - Municipality | D71: Install Main - West Grand Blvd (2) (Mckinley & Ash) | E71: 589 | F71: =IFERROR(VLOOKUP(B71,Main!$B:$G,5,FALSE),"") -> 06-17-21 A | G71: =IFERROR(VLOOKUP(B71,Main!$B:$G,6,FALSE),"") -> 06-22-21 A | H71: =IFERROR(VLOOKUP(B71,Service!$B:$G,5,FALSE),"") -> 44459 | I71: =IFERROR(VLOOKUP(B71,Service!$B:$G,6,FALSE),"") -> 44470 | J71: =IFERROR(VLOOKUP(B71,Rest!$B:$F,5,FALSE),"") -> 44475 | K71: =IFERROR(VLOOKUP(B71,Rest!$B:$G,6,FALSE),"") -> 44475
A72: Muni11430 | B72: PROJ-0951-MUN-2.48.1.2 | C72: 2021 GRP - Municipality | D72: Install Main - Woodmont Ave (1) (ANO W Warren Ave & W Warren Ave) | E72: 115 | F72: =IFERROR(VLOOKUP(B72,Main!$B:$G,5,FALSE),"") | G72: =IFERROR(VLOOKUP(B72,Main!$B:$G,6,FALSE),"") | H72: =IFERROR(VLOOKUP(B72,Service!$B:$G,5,FALSE),"") | I72: =IFERROR(VLOOKUP(B72,Service!$B:$G,6,FALSE),"") | J72: =IFERROR(VLOOKUP(B72,Rest!$B:$F,5,FALSE),"") | K72: =IFERROR(VLOOKUP(B72,Rest!$B:$G,6,FALSE),"") | L72: No Services in this segement
A73: Muni11510 | B73: PROJ-0951-MUN-2.49.1.2 | C73: 2021 GRP - Municipality | D73: Install Main - Woodmont Ave (2) (W Warren Ave & ASO W Warren Ave) | E73: 100 | F73: =IFERROR(VLOOKUP(B73,Main!$B:$G,5,FALSE),"") | G73: =IFERROR(VLOOKUP(B73,Main!$B:$G,6,FALSE),"") | H73: =IFERROR(VLOOKUP(B73,Service!$B:$G,5,FALSE),"") | I73: =IFERROR(VLOOKUP(B73,Service!$B:$G,6,FALSE),"") | J73: =IFERROR(VLOOKUP(B73,Rest!$B:$F,5,FALSE),"") -> 44524 | K73: =IFERROR(VLOOKUP(B73,Rest!$B:$G,6,FALSE),"") -> 44524 | L73: Restoration only Could be carryover
A74: Muni7350 | B74: PROJ-0951-MUN-2.3.1.2 | C74: 2021 GRP - Municipality | D74: Install Main - Wyoming (ANO Chicago & Chicago) | E74: 167 | F74: =IFERROR(VLOOKUP(B74,Main!$B:$G,5,FALSE),"") -> 07-02-21 A | G74: =IFERROR(VLOOKUP(B74,Main!$B:$G,6,FALSE),"") -> 07-13-21 A | H74: =IFERROR(VLOOKUP(B74,Service!$B:$G,5,FALSE),"") -> 44459 | I74: =IFERROR(VLOOKUP(B74,Service!$B:$G,6,FALSE),"") -> 44459 | J74: =IFERROR(VLOOKUP(B74,Rest!$B:$F,5,FALSE),"") -> 44462 | L74: No Services in this segement
A75: RR1 11181 | B75: GRP-2021-FR.55.1.2 | C75: 2021 GRP - Field Recommendation | D75: Install Main - 18th (9'WEPL 18th & 3' WWPL 18th) | E75: 18 | F75: =IFERROR(VLOOKUP(B75,Main!$B:$G,5,FALSE),"") -> 44482 | G75: =IFERROR(VLOOKUP(B75,Main!$B:$G,6,FALSE),"") -> 44483 | H75: =IFERROR(VLOOKUP(B75,Service!$B:$G,5,FALSE),"") | I75: =IFERROR(VLOOKUP(B75,Service!$B:$G,6,FALSE),"") | J75: =IFERROR(VLOOKUP(B75,Rest!$B:$F,5,FALSE),"") -> 44540 | K75: =IFERROR(VLOOKUP(B74,Rest!$B:$G,6,FALSE),"") -> 44462 | L75: Fixed no services

Sheet Residential Paving
A1: Activity ID | B1: WBS | C1: Project Name | D1: Activity Name | E1: Footage | F1: Main Start | G1: Main Finish | H1: Service Start | I1: Service Finish | J1: Resto Start | K1: Resto Finish
A2: EDET1 50657 | B2: GRP-2021-ED1.37.1.2 | C2: 2021 GRP - East Detroit 1 | D2: Install Main - Yorkshire Rd (2) (Waveney St & Mack Ave) | E2: 2610 | F2: =IFERROR(VLOOKUP(B2,Main!$B:$F,5,FALSE),"") -> 01-04-21 A | G2: =IFERROR(VLOOKUP(B2,Main!$B:$G,6,FALSE),"") -> 01-12-21 A | H2: =IFERROR(VLOOKUP(B2,Service!$B:$F,5,FALSE),"") -> 01-19-21 A | I2: =IFERROR(VLOOKUP(B2,Service!$B:$G,6,FALSE),"") -> 02-22-21 A | J2: =IFERROR(VLOOKUP(B2,Rest!$B:$F,5,FALSE),"") -> 05-18-21 A | K2: =IFERROR(VLOOKUP(B2,Rest!$B:$G,6,FALSE),"") -> 05-26-21 A
A3: EDET1 50643 | B3: GRP-2021-ED1.22.1.2 | C3: 2021 GRP - East Detroit 1 | D3: Install Main - Bishop St (2) (Waveney St & Mack Ave) | E3: 1400 | F3: =IFERROR(VLOOKUP(B3,Main!$B:$F,5,FALSE),"") -> 01-04-21 A | G3: =IFERROR(VLOOKUP(B3,Main!$B:$G,6,FALSE),"") -> 01-07-21 A | H3: =IFERROR(VLOOKUP(B3,Service!$B:$F,5,FALSE),"") -> 02-01-21 A | I3: =IFERROR(VLOOKUP(B3,Service!$B:$G,6,FALSE),"") -> 03-09-21 A | J3: =IFERROR(VLOOKUP(B3,Rest!$B:$F,5,FALSE),"") -> 05-04-21 A | K3: =IFERROR(VLOOKUP(B3,Rest!$B:$G,6,FALSE),"") -> 05-26-21 A
A4: EDET1 50640 | B4: GRP-2021-ED1.19.1.2 | C4: 2021 GRP - East Detroit 1 | D4: Install Main - Audubon Rd (2) (E Warrern Ave & Waveney St) | E4: 1765 | F4: =IFERROR(VLOOKUP(B4,Main!$B:$F,5,FALSE),"") -> 02-01-21 A | G4: =IFERROR(VLOOKUP(B4,Main!$B:$G,6,FALSE),"") -> 03-09-21 A | H4: =IFERROR(VLOOKUP(B4,Service!$B:$F,5,FALSE),"") -> 03-29-21 A | I4: =IFERROR(VLOOKUP(B4,Service!$B:$G,6,FALSE),"") -> 05-03-21 A | J4: =IFERROR(VLOOKUP(B4,Rest!$B:$F,5,FALSE),"") -> 05-27-21 A | K4: =IFERROR(VLOOKUP(B4,Rest!$B:$G,6,FALSE),"") -> 05-28-21 A
A5: NCDET - 5220 | B5: NEWPROJ-6.3.2.2 | C5: 2020 GRP - Carry Over - North Central Detroit 3 | D5: Install Main - Birwood (ANO Fenkell & Fenkell) - "Only to be installed if services cannot be moved to the alley" | E5: 104 | F5: =IFERROR(VLOOKUP(B5,Main!$B:$F,5,FALSE),"") -> 02-02-21 A | G5: =IFERROR(VLOOKUP(B5,Main!$B:$G,6,FALSE),"") -> 02-02-21 A | H5: =IFERROR(VLOOKUP(B5,Service!$B:$F,5,FALSE),"") | I5: =IFERROR(VLOOKUP(B5,Service!$B:$G,6,FALSE),"") | J5: =IFERROR(VLOOKUP(B5,Rest!$B:$F,5,FALSE),"") -> 44462 | K5: =IFERROR(VLOOKUP(B5,Rest!$B:$G,6,FALSE),"") -> 44468
A6: CDET2-1535 | B6: GRP-2021-CDet2.2.1.2 | C6: 2021 GRP - Central Detroit 2 | D6: Install Main - Glynn 1 (Dexter & Linwood) | E6: 2624 | F6: =IFERROR(VLOOKUP(B6,Main!$B:$F,5,FALSE),"") -> 02-02-21 A | G6: =IFERROR(VLOOKUP(B6,Main!$B:$G,6,FALSE),"") -> 02-23-21 A | H6: =IFERROR(VLOOKUP(B6,Service!$B:$F,5,FALSE),"") -> 03-11-21 A | I6: =IFERROR(VLOOKUP(B6,Service!$B:$G,6,FALSE),"") -> 04-12-21 A | J6: =IFERROR(VLOOKUP(B6,Rest!$B:$F,5,FALSE),"") -> 06-22-21 A | K6: =IFERROR(VLOOKUP(B6,Rest!$B:$G,6,FALSE),"") -> 07-21-21 A
A7: EDET1 50656 | B7: GRP-2021-ED1.36.1.2 | C7: 2021 GRP - East Detroit 1 | D7: Install Main - Yorkshire Rd (1) (E Warrern Ave & Waveney St) | E7: 1775 | F7: =IFERROR(VLOOKUP(B7,Main!$B:$F,5,FALSE),"") -> 02-22-21 A | G7: =IFERROR(VLOOKUP(B7,Main!$B:$G,6,FALSE),"") -> 02-26-21 A | H7: =IFERROR(VLOOKUP(B7,Service!$B:$F,5,FALSE),"") -> 03-24-21 A | I7: =IFERROR(VLOOKUP(B7,Service!$B:$G,6,FALSE),"") -> 03-31-21 A | J7: =IFERROR(VLOOKUP(B7,Rest!$B:$F,5,FALSE),"") -> 05-26-21 A | K7: =IFERROR(VLOOKUP(B7,Rest!$B:$G,6,FALSE),"") -> 05-26-21 A
A8: EDET1 504716 | B8: GRP-2021-ED1.18.5.2 | C8: 2021 GRP - East Detroit 1 | D8: Install Main - E Warren Ave (3) (Cadieux Dr & ASO E Warren Ave) | E8: 110 | F8: =IFERROR(VLOOKUP(B8,Main!$B:$F,5,FALSE),"") -> 03-05-21 A | G8: =IFERROR(VLOOKUP(B8,Main!$B:$G,6,FALSE),"") -> 03-05-21 A | H8: =IFERROR(VLOOKUP(B8,Service!$B:$F,5,FALSE),"") -> 44459 | I8: =IFERROR(VLOOKUP(B8,Service!$B:$G,6,FALSE),"") -> 44459 | J8: =IFERROR(VLOOKUP(B8,Rest!$B:$F,5,FALSE),"") -> 44463 | K8: =IFERROR(VLOOKUP(B8,Rest!$B:$G,6,FALSE),"") -> 44468
A9: EDET1 505196 | B9: GRP-2021-ED1.18.11.2 | C9: 2021 GRP - East Detroit 1 | D9: Install Main - E Warren Ave (3) S (Bishop St & Grayton St) | E9: 315 | F9: =IFERROR(VLOOKUP(B9,Main!$B:$F,5,FALSE),"") -> 03-08-21 A | G9: =IFERROR(VLOOKUP(B9,Main!$B:$G,6,FALSE),"") -> 03-09-21 A | H9: =IFERROR(VLOOKUP(B9,Service!$B:$F,5,FALSE),"") -> 44459 | I9: =IFERROR(VLOOKUP(B9,Service!$B:$G,6,FALSE),"") -> 44459 | J9: =IFERROR(VLOOKUP(B9,Rest!$B:$F,5,FALSE),"") -> 44462 | K9: =IFERROR(VLOOKUP(B9,Rest!$B:$G,6,FALSE),"") -> 44467
A10: EDET1 501120 | B10: GRP-2021-ED1.74.1.2 | C10: 2021 GRP - East Detroit 1 | D10: Install Main - Buckingham Ave (2) (Waveney St & Mack Ave) | E10: 2600 | F10: =IFERROR(VLOOKUP(B10,Main!$B:$F,5,FALSE),"") -> 03-11-21 A | G10: =IFERROR(VLOOKUP(B10,Main!$B:$G,6,FALSE),"") -> 03-17-21 A | H10: =IFERROR(VLOOKUP(B10,Service!$B:$F,5,FALSE),"") -> 06-18-21 A | I10: =IFERROR(VLOOKUP(B10,Service!$B:$G,6,FALSE),"") -> 06-21-21 A | J10: =IFERROR(VLOOKUP(B10,Rest!$B:$F,5,FALSE),"") -> 06-02-21 A | K10: =IFERROR(VLOOKUP(B10,Rest!$B:$G,6,FALSE),"") -> 44467
A11: EDET1 503756 | B11: GRP-2021-ED1.69.3.2 | C11: 2021 GRP - East Detroit 1 | D11: Install Main - Bedford St (1) (E Warren Ave & Waveney St) East | E11: 1820 | F11: =IFERROR(VLOOKUP(B11,Main!$B:$F,5,FALSE),"") -> 03-18-21 A | G11: =IFERROR(VLOOKUP(B11,Main!$B:$G,6,FALSE),"") -> 03-23-21 A | H11: =IFERROR(VLOOKUP(B11,Service!$B:$F,5,FALSE),"") -> 04-12-21 A | I11: =IFERROR(VLOOKUP(B11,Service!$B:$G,6,FALSE),"") -> 05-19-21 A | J11: =IFERROR(VLOOKUP(B11,Rest!$B:$F,5,FALSE),"") -> 05-27-21 A | K11: =IFERROR(VLOOKUP(B11,Rest!$B:$G,6,FALSE),"") -> 06-07-21 A
A12: EDET1 507396 | B12: GRP-2021-ED1.69.1.2 | C12: 2021 GRP - East Detroit 1 | D12: Install Main - Bedford St (1) (E Warren Ave & Waveney St) West | E12: 1820 | F12: =IFERROR(VLOOKUP(B12,Main!$B:$F,5,FALSE),"") -> 03-22-21 A | G12: =IFERROR(VLOOKUP(B12,Main!$B:$G,6,FALSE),"") -> 03-30-21 A | H12: =IFERROR(VLOOKUP(B12,Service!$B:$F,5,FALSE),"") | I12: =IFERROR(VLOOKUP(B12,Service!$B:$G,6,FALSE),"") | J12: =IFERROR(VLOOKUP(B12,Rest!$B:$F,5,FALSE),"") -> 05-27-21 A | K12: =IFERROR(VLOOKUP(B12,Rest!$B:$G,6,FALSE),"") -> 06-07-21 A
A13: EDET1 50469 | B13: GRP-2021-ED1.18.1.2 | C13: 2021 GRP - East Detroit 1 | D13: Install Main - E Warren Ave (3) S (Bishop St & Grayton St) | E13: 315 | F13: =IFERROR(VLOOKUP(B13,Main!$B:$F,5,FALSE),"") -> 04-12-21 A | G13: =IFERROR(VLOOKUP(B13,Main!$B:$G,6,FALSE),"") -> 04-28-21 A | H13: =IFERROR(VLOOKUP(B13,Service!$B:$F,5,FALSE),"") -> 44459 | I13: =IFERROR(VLOOKUP(B13,Service!$B:$G,6,FALSE),"") -> 44459 | J13: =IFERROR(VLOOKUP(B13,Rest!$B:$F,5,FALSE),"") -> 44466 | K13: =IFERROR(VLOOKUP(B13,Rest!$B:$G,6,FALSE),"") -> 44469
... A105: RR1 11371 | B105: GRP-2021-FR.65.1.2 | C105: 2021 GRP - Field Recommendation | D105: Install Main - Rohns (Mack & Goethe) | E105: 891 | F105: =IFERROR(VLOOKUP(B105,Main!$B:$F,5,FALSE),"") -> 06-22-21 A | G105: =IFERROR(VLOOKUP(B105,Main!$B:$G,6,FALSE),"") -> 06-24-21 A | H105: =IFERROR(VLOOKUP(B105,Service!$B:$F,5,FALSE),"") -> 44459 | I105: =IFERROR(VLOOKUP(B105,Service!$B:$G,6,FALSE),"") -> 44459 | J105: =IFERROR(VLOOKUP(B105,Rest!$B:$F,5,FALSE),"") -> 44463 | K105: =IFERROR(VLOOKUP(B105,Rest!$B:$G,6,FALSE),"") -> 44468

Sheet Speed Hump
A1: OBJECTID1 | B1: Join_Count | C1: TARGET_FID | D1: OBJECTID | E1: RDNAME | F1: FROMDESC | G1: TODESC | H1: Activity ID | I1: WBS | J1: Activity Name | K1: Main Start | L1: Main Finish | M1: Selected_Blocks | N1: COUNT | O1: site_status | P1: Id | Q1: Agency | R1: Phase | S1: Activity | T1: Project_ID | U1: Length | V1: Contract | W1: Proj_Type | X1: Street | Y1: From_ | Z1: To | AA1: Start_Date | AB1: End_Date | AC1: Contact | AD1: Phone | AE1: Email | AF1: Pub_Contac | AG1: Pub_Phone | AH1: Pub_Web | AI1: Last_Updat | AJ1: Datum | AK1: Municipali | AL1: Name | AM1: Name_1 | AN1: Shape__Area | AO1: Shape__Length | AP1: Shape_Length | AQ1: Service Start | AR1: Service Finish | AS1: Restoration Start | AT1: Restoration Finish
A2: 1 | B2: 1 | C2: 2 | D2: 2329 | E2: Binder St | F2: E Lantz St | G2: E Outer Dr | H2: NDET3-7515 | I2: GRP-2021-ND3.63.1.2 | J2: =IFERROR(VLOOKUP(H2,[1]Sheet1!$A:$H,3,FALSE),"") -> Elevate Main - Binder St (1) (8 Mile Rd (M102) & E Outer Dr) | K2: =IFERROR(VLOOKUP('Speed Hump'!H2,Main!$A:$G,6,FALSE),"") -> 06-21-21 A | L2: =IFERROR(VLOOKUP('Speed Hump'!H2,Main!$A:$G,7,FALSE),"") -> 06-29-21 A | M2: Yes | N2: 2 | O2: Will be Installed 2021 | P2: 0 | Q2: DTE Gas - GRP | R2: Design - Planning | S2: Gas Main Renewal | T2: SEGRID2021NDet3 | W2: 2021 MGA Grid | X2: Multiple | Y2: Multiple | Z2: Multiple | AA2: 44197 | AB2: 44561 | AC2: Dan Sand | AD2: 734-444-5737 | AE2: daniel.sand@dteenergy.com | AI2: 5/5/2020 | AJ2: NAD 1983 | AK2: Detroit | AL2: North Detroit 3 (NDet3) | AM2: NDet3 | AN2: 9178519.1 | AO2: 14104.415 | AP2: 342.33958 | AQ2: =IFERROR(VLOOKUP(I2,Service!$B:$G,5,FALSE),"") -> 06-18-21 A | AR2: =IFERROR(VLOOKUP(I2,Service!$B:$G,6,FALSE),"") -> 06-21-21 A | AS2: =IFERROR(VLOOKUP(I2,Rest!$B:$G,5,FALSE),"") -> 44463 | AT2: =IFERROR(VLOOKUP(I2,Rest!$B:$G,6,FALSE),"") -> 44468
A3: 2 | B3: 1 | C3: 11 | D3: 3965 | E3: Mitchell St | F3: E 7 Mile Rd | G3: Emery St | H3: NDET3-6795 | I3: GRP-2021-ND3.79.1.2 | J3: =IFERROR(VLOOKUP(H3,[1]Sheet1!$A:$H,3,FALSE),"") -> Elevate Main - Mitchell St (2) (E Outer Dr & ANO 7 Mile Rd) | K3: =IFERROR(VLOOKUP('Speed Hump'!H3,Main!$A:$G,6,FALSE),"") -> 10-06-21* | L3: =IFERROR(VLOOKUP('Speed Hump'!H3,Main!$A:$G,7,FALSE),"") -> 44483 | M3: Yes | N3: 2 | O3: Will be Installed 2021 | P3: 0 | Q3: DTE Gas - GRP | R3: Design - Planning | S3: Gas Main Renewal | T3: SEGRID2021NDet3 | W3: 2021 MGA Grid | X3: Multiple | Y3: Multiple | Z3: Multiple | AA3: 44197 | AB3: 44561 | AC3: Dan Sand | AD3: 734-444-5737 | AE3: daniel.sand@dteenergy.com | AI3: 5/5/2020 | AJ3: NAD 1983 | AK3: Detroit | AL3: North Detroit 3 (NDet3) | AM3: NDet3 | AN3: 9178519.1 | AO3: 14104.415 | AP3: 394.72841 | AQ3: =IFERROR(VLOOKUP(I3,Service!$B:$G,5,FALSE),"") -> 44462 | AR3: =IFERROR(VLOOKUP(I3,Service!$B:$G,6,FALSE),"") -> 44474 | AS3: =IFERROR(VLOOKUP(I3,Rest!$B:$G,5,FALSE),"") -> 44490 | AT3: =IFERROR(VLOOKUP(I3,Rest!$B:$G,6,FALSE),"") -> 44495
A4: 5 | B4: 1 | C4: 25 | D4: 962 | E4: Binder St | F4: E Remington St | G4: E Winchester Ave | H4: NDET3-7515 | I4: GRP-2021-ND3.63.1.2 | J4: =IFERROR(VLOOKUP(H4,[1]Sheet1!$A:$H,3,FALSE),"") -> Elevate Main - Binder St (1) (8 Mile Rd (M102) & E Outer Dr) | K4: =IFERROR(VLOOKUP('Speed Hump'!H4,Main!$A:$G,6,FALSE),"") -> 06-21-21 A | L4: =IFERROR(VLOOKUP('Speed Hump'!H4,Main!$A:$G,7,FALSE),"") -> 06-29-21 A | M4: Yes | N4: 2 | O4: Will be Installed 2021 | P4: 0 | Q4: DTE Gas - GRP | R4: Design - Planning | S4: Gas Main Renewal | T4: SEGRID2021NDet3 | W4: 2021 MGA Grid | X4: Multiple | Y4: Multiple | Z4: Multiple | AA4: 44197 | AB4: 44561 | AC4: Dan Sand | AD4: 734-444-5737 | AE4: daniel.sand@dteenergy.com | AI4: 5/5/2020 | AJ4: NAD 1983 | AK4: Detroit | AL4: North Detroit 3 (NDet3) | AM4: NDet3 | AN4: 9178519.1 | AO4: 14104.415 | AP4: 373.64104 | AQ4: =IFERROR(VLOOKUP(I4,Service!$B:$G,5,FALSE),"") -> 06-18-21 A | AR4: =IFERROR(VLOOKUP(I4,Service!$B:$G,6,FALSE),"") -> 06-21-21 A | AS4: =IFERROR(VLOOKUP(I4,Rest!$B:$G,5,FALSE),"") -> 44463 | AT4: =IFERROR(VLOOKUP(I4,Rest!$B:$G,6,FALSE),"") -> 44468
A5: 10 | B5: 1 | C5: 62 | D5: 2310 | E5: Sunset St | F5: E Lantz St | G5: E Outer Dr | H5: NDET3-6790 | I5: GRP-2021-ND3.61.1.2 | J5: =IFERROR(VLOOKUP(H5,[1]Sheet1!$A:$H,3,FALSE),"") -> Elevate Main - Sunset St (1) (8 Mile Rd (M102) & E Outer Dr) | K5: =IFERROR(VLOOKUP('Speed Hump'!H5,Main!$A:$G,6,FALSE),"") -> 06-03-21 A | L5: =IFERROR(VLOOKUP('Speed Hump'!H5,Main!$A:$G,7,FALSE),"") -> 06-04-21 A | M5: Yes | N5: 2 | O5: Will be Installed 2021 | P5: 0 | Q5: DTE Gas - GRP | R5: Design - Planning | S5: Gas Main Renewal | T5: SEGRID2021NDet3 | W5: 2021 MGA Grid | X5: Multiple | Y5: Multiple | Z5: Multiple | AA5: 44197 | AB5: 44561 | AC5: Dan Sand | AD5: 734-444-5737 | AE5: daniel.sand@dteenergy.com | AI5: 5/5/2020 | AJ5: NAD 1983 | AK5: Detroit | AL5: North Detroit 3 (NDet3) | AM5: NDet3 | AN5: 9178519.1 | AO5: 14104.415 | AP5: 342.64974 | AQ5: =IFERROR(VLOOKUP(I5,Service!$B:$G,5,FALSE),"") -> 05-11-21 A | AR5: =IFERROR(VLOOKUP(I5,Service!$B:$G,6,FALSE),"") -> 05-11-21 A | AS5: =IFERROR(VLOOKUP(I5,Rest!$B:$G,5,FALSE),"") -> 06-16-21 A | AT5: =IFERROR(VLOOKUP(I5,Rest!$B:$G,6,FALSE),"") -> 44468
A6: 21 | B6: 1 | C6: 108 | D6: 4655 | E6: Spring Garden St | F6: Queen St | G6: Hayes St | H6: RR1 6101 | I6: GRP-2021-RR.9.1.2 | J6: =IFERROR(VLOOKUP(H6,[1]Sheet1!$A:$H,3,FALSE),"") -> Install Main - Spring Garden 1 (Chalmers & Hayes) | K6: =IFERROR(VLOOKUP('Speed Hump'!H6,Main!$A:$G,6,FALSE),"") -> 44501 | L6: =IFERROR(VLOOKUP('Speed Hump'!H6,Main!$A:$G,7,FALSE),"") -> 44518 | M6: Yes | N6: 1 | O6: Will be Installed 2021 | P6: 0 | Q6: DTE Gas - GRP | R6: Design - Planning | S6: Gas Main Renewal | W6: 2021 Risk Rank | X6: Springarden | Y6: Kelly | Z6: Chalmers | AA6: 44197 | AB6: 44561 | AC6: Dan Sand | AD6: 734-444-5737 | AE6: daniel.sand@dteenergy.com | AI6: 6/11/2020 | AJ6: NAD 1983 | AK6: Detroit | AL6: Springarden (Kelly-Chalmers) | AN6: 181497.56 | AO6: 4059.3786 | AP6: 273.17316 | AQ6: =IFERROR(VLOOKUP(I6,Service!$B:$G,5,FALSE),"") -> 44459 | AR6: =IFERROR(VLOOKUP(I6,Service!$B:$G,6,FALSE),"") -> 44468 | AS6: =IFERROR(VLOOKUP(I6,Rest!$B:$G,5,FALSE),"") -> 44474 | AT6: =IFERROR(VLOOKUP(I6,Rest!$B:$G,6,FALSE),"") -> 44477
A7: 26 | B7: 1 | C7: 139 | D7: 955 | E7: Conley St | F7: Cordova St | G7: Amrad St | H7: NDET3-6830 | I7: GRP-2021-ND3.52.1.2 | J7: =IFERROR(VLOOKUP(H7,[1]Sheet1!$A:$H,3,FALSE),"") -> Install Main - Conley Ave (1) (8 Mile Rd (M102) & Hamlet St) | K7: =IFERROR(VLOOKUP('Speed Hump'!H7,Main!$A:$G,6,FALSE),"") -> 04-15-21 A | L7: =IFERROR(VLOOKUP('Speed Hump'!H7,Main!$A:$G,7,FALSE),"") -> 04-15-21 A | M7: Yes | N7: 1 | O7: Will be Installed 2021 | P7: 0 | Q7: DTE Gas - GRP | R7: Design - Planning | S7: Gas Main Renewal | T7: SEGRID2021NDet3 | W7: 2021 MGA Grid | X7: Multiple | Y7: Multiple | Z7: Multiple | AA7: 44197 | AB7: 44561 | AC7: Dan Sand | AD7: 734-444-5737 | AE7: daniel.sand@dteenergy.com | AI7: 5/5/2020 | AJ7: NAD 1983 | AK7: Detroit | AL7: North Detroit 3 (NDet3) | AM7: NDet3 | AN7: 9178519.1 | AO7: 14104.415 | AP7: 273.74084 | AQ7: =IFERROR(VLOOKUP(I7,Service!$B:$G,5,FALSE),"") -> 09-13-21 A | AR7: =IFERROR(VLOOKUP(I7,Service!$B:$G,6,FALSE),"") -> 09-14-21 A | AS7: =IFERROR(VLOOKUP(I7,Rest!$B:$G,5,FALSE),"") -> 44462 | AT7: =IFERROR(VLOOKUP(I7,Rest!$B:$G,6,FALSE),"") -> 44467
A8: 27 | B8: 1 | C8: 140 | D8: 2834 | E8: Buffalo St | F8: Emery St | G8: E Lantz St | H8: NDET3-6825 | I8: GRP-2021-ND3.50.1.2 | J8: =IFERROR(VLOOKUP(H8,[1]Sheet1!$A:$H,3,FALSE),"") -> Install Main - Buffalo St (1) (8 Mile Rd (M102) & Hamlet St) | K8: =IFERROR(VLOOKUP('Speed Hump'!H8,Main!$A:$G,6,FALSE),"") -> 05-12-21 A | L8: =IFERROR(VLOOKUP('Speed Hump'!H8,Main!$A:$G,7,FALSE),"") -> 05-14-21 A | M8: Yes | N8: 2 | O8: Will be Installed 2021 | P8: 0 | Q8: DTE Gas - GRP | R8: Design - Planning | S8: Gas Main Renewal | T8: SEGRID2021NDet3 | W8: 2021 MGA Grid | X8: Multiple | Y8: Multiple | Z8: Multiple | AA8: 44197 | AB8: 44561 | AC8: Dan Sand | AD8: 734-444-5737 | AE8: daniel.sand@dteenergy.com | AI8: 5/5/2020 | AJ8: NAD 1983 | AK8: Detroit | AL8: North Detroit 3 (NDet3) | AM8: NDet3 | AN8: 9178519.1 | AO8: 14104.415 | AP8: 357.78427 | AQ8: =IFERROR(VLOOKUP(I8,Service!$B:$G,5,FALSE),"") -> 08-16-21 A | AR8: =IFERROR(VLOOKUP(I8,Service!$B:$G,6,FALSE),"") -> 08-16-21 A | AS8: =IFERROR(VLOOKUP(I8,Rest!$B:$G,5,FALSE),"") -> 08-26-21 A | AT8: =IFERROR(VLOOKUP(I8,Rest!$B:$G,6,FALSE),"") -> 08-26-21 A
A9: 48 | B9: 1 | C9: 309 | D9: 3974 | E9: Harned St | F9: E 7 Mile Rd | G9: Emery St | H9: NDET3-190 | I9: GRP-2021-ND3.3.2.2 | J9: =IFERROR(VLOOKUP(H9,[1]Sheet1!$A:$H,3,FALSE),"") -> Install Main - E Outer Dr (South) - (Crossing At Harned St) | K9: =IFERROR(VLOOKUP('Speed Hump'!H9,Main!$A:$G,6,FALSE),"") -> 06-08-21 A | L9: =IFERROR(VLOOKUP('Speed Hump'!H9,Main!$A:$G,7,FALSE),"") -> 06-08-21 A | M9: Yes | N9: 2 | O9: Will be Installed 2021 | P9: 0 | Q9: DTE Gas - GRP | R9: Design - Planning | S9: Gas Main Renewal | T9: SEGRID2021NDet3 | W9: 2021 MGA Grid | X9: Multiple | Y9: Multiple | Z9: Multiple | AA9: 44197 | AB9: 44561 | AC9: Dan Sand | AD9: 734-444-5737 | AE9: daniel.sand@dteenergy.com | AI9: 5/5/2020 | AJ9: NAD 1983 | AK9: Detroit | AL9: North Detroit 3 (NDet3) | AM9: NDet3 | AN9: 9178519.1 | AO9: 14104.415 | AP9: 392.33964 | AQ9: =IFERROR(VLOOKUP(I9,Service!$B:$G,5,FALSE),"") | AR9: =IFERROR(VLOOKUP(I9,Service!$B:$G,6,FALSE),"") | AS9: =IFERROR(VLOOKUP(I9,Rest!$B:$G,5,FALSE),"") -> 44463 | AT9: =IFERROR(VLOOKUP(I9,Rest!$B:$G,6,FALSE),"") -> 44468
A10: 49 | B10: 1 | C10: 328 | D10: 1975 | E10: E Lantz St | F10: Syracuse St | G10: Albany St | H10: NDET3-7025 | I10: GRP-2021-ND3.97.1.2 | J10: =IFERROR(VLOOKUP(H10,[1]Sheet1!$A:$H,3,FALSE),"") -> Install Main - E Lantz Ave (1) (Keystone & Bloom) | K10: =IFERROR(VLOOKUP('Speed Hump'!H10,Main!$A:$G,6,FALSE),"") -> 06-28-21 A | L10: =IFERROR(VLOOKUP('Speed Hump'!H10,Main!$A:$G,7,FALSE),"") -> 06-28-21 A | M10: Yes | N10: 1 | O10: Will be Installed 2021 | P10: 0 | Q10: DTE Gas - GRP | R10: Design - Planning | S10: Gas Main Renewal | T10: SEGRID2021NDet3 | W10: 2021 MGA Grid | X10: Multiple | Y10: Multiple | Z10: Multiple | AA10: 44197 | AB10: 44561 | AC10: Dan Sand | AD10: 734-444-5737 | AE10: daniel.sand@dteenergy.com | AI10: 5/5/2020 | AJ10: NAD 1983 | AK10: Detroit | AL10: North Detroit 3 (NDet3) | AM10: NDet3 | AN10: 9178519.1 | AO10: 14104.415 | AP10: 117.05203 | AQ10: =IFERROR(VLOOKUP(I10,Service!$B:$G,5,FALSE),"") | AR10: =IFERROR(VLOOKUP(I10,Service!$B:$G,6,FALSE),"") | AS10: =IFERROR(VLOOKUP(I10,Rest!$B:$G,5,FALSE),"") -> 44463 | AT10: =IFERROR(VLOOKUP(I10,Rest!$B:$G,6,FALSE),"") -> 44468
A11: 51 | B11: 1 | C11: 350 | D11: 3561 | E11: Keystone St | F11: E 7 Mile Rd | G11: Emery St | H11: NDET3-7125 | I11: GRP-2021-ND3.37.1.2 | J11: =IFERROR(VLOOKUP(H11,[1]Sheet1!$A:$H,3,FALSE),"") -> Install Main - Keystone St (2) (E Lantz St & ANO 7 Mile Rd) | K11: =IFERROR(VLOOKUP('Speed Hump'!H11,Main!$A:$G,6,FALSE),"") -> 06-30-21 A | L11: =IFERROR(VLOOKUP('Speed Hump'!H11,Main!$A:$G,7,FALSE),"") -> 07-07-21 A | M11: Yes | N11: 2 | O11: Will be Installed 2021 | P11: 0 | Q11: DTE Gas - GRP | R11: Design - Planning | S11: Gas Main Renewal | T11: SEGRID2021NDet3 | W11: 2021 MGA Grid | X11: Multiple | Y11: Multiple | Z11: Multiple | AA11: 44197 | AB11: 44561 | AC11: Dan Sand | AD11: 734-444-5737 | AE11: daniel.sand@dteenergy.com | AI11: 5/5/2020 | AJ11: NAD 1983 | AK11: Detroit | AL11: North Detroit 3 (NDet3) | AM11: NDet3 | AN11: 9178519.1 | AO11: 14104.415 | AP11: 383.53958 | AQ11: =IFERROR(VLOOKUP(I11,Service!$B:$G,5,FALSE),"") -> 44459 | AR11: =IFERROR(VLOOKUP(I11,Service!$B:$G,6,FALSE),"") -> 44473 | AS11: =IFERROR(VLOOKUP(I11,Rest!$B:$G,5,FALSE),"") -> 44480 | AT11: =IFERROR(VLOOKUP(I11,Rest!$B:$G,6,FALSE),"") -> 44483
A12: 54 | B12: 1 | C12: 366 | D12: 2029 | E12: E Lantz St | F12: Fenelon St | G12: Conley St | H12: NDET3-7070 | I12: GRP-2021-ND3.97.3.2 | J12: =IFERROR(VLOOKUP(H12,[1]Sheet1!$A:$H,3,FALSE),"") -> Install Main - E Lantz Ave (1) (E Lantz Ave & E Lantz Ave) - Bloom Crossing | K12: =IFERROR(VLOOKUP('Speed Hump'!H12,Main!$A:$G,6,FALSE),"") -> 06-22-21 A | L12: =IFERROR(VLOOKUP('Speed Hump'!H12,Main!$A:$G,7,FALSE),"") -> 06-22-21 A | M12: Yes | N12: 1 | O12: Will be Installed 2021 | P12: 0 | Q12: DTE Gas - GRP | R12: Design - Planning | S12: Gas Main Renewal | T12: SEGRID2021NDet3 | W12: 2021 MGA Grid | X12: Multiple | Y12: Multiple | Z12: Multiple | AA12: 44197 | AB12: 44561 | AC12: Dan Sand | AD12: 734-444-5737 | AE12: daniel.sand@dteenergy.com | AI12: 5/5/2020 | AJ12: NAD 1983 | AK12: Detroit | AL12: North Detroit 3 (NDet3) | AM12: NDet3 | AN12: 9178519.1 | AO12: 14104.415 | AP12: 133.24952 | AQ12: =IFERROR(VLOOKUP(I12,Service!$B:$G,5,FALSE),"") | AR12: =IFERROR(VLOOKUP(I12,Service!$B:$G,6,FALSE),"") | AS12: =IFERROR(VLOOKUP(I12,Rest!$B:$G,5,FALSE),"") -> 44462 | AT12: =IFERROR(VLOOKUP(I12,Rest!$B:$G,6,FALSE),"") -> 44467
A13: 62 | B13: 1 | C13: 477 | D13: 1479 | E13: Revere St | F13: E Outer Dr | G13: E Remington St | H13: NDET3-6945 | I13: GRP-2021-ND3.83.1.2 | J13: =IFERROR(VLOOKUP(H13,[1]Sheet1!$A:$H,3,FALSE),"") -> Elevate Main - Revere Ave (2) (E Outer Dr & 7 Mile Rd) | K13: =IFERROR(VLOOKUP('Speed Hump'!H13,Main!$A:$G,6,FALSE),"") -> 44474 | L13: =IFERROR(VLOOKUP('Speed Hump'!H13,Main!$A:$G,7,FALSE),"") -> 44477 | M13: Yes | N13: 2 | O13: Will be Installed 2021 | P13: 0 | Q13: DTE Gas - GRP | R13: Design - Planning | S13: Gas Main Renewal | T13: SEGRID2021NDet3 | W13: 2021 MGA Grid | X13: Multiple | Y13: Multiple | Z13: Multiple | AA13: 44197 | AB13: 44561 | AC13: Dan Sand | AD13: 734-444-5737 | AE13: daniel.sand@dteenergy.com | AI13: 5/5/2020 | AJ13: NAD 1983 | AK13: Detroit | AL13: North Detroit 3 (NDet3) | AM13: NDet3 | AN13: 9178519.1 | AO13: 14104.415 | AP13: 335.01113 | AQ13: =IFERROR(VLOOKUP(I13,Service!$B:$G,5,FALSE),"") -> 44460 | AR13: =IFERROR(VLOOKUP(I13,Service!$B:$G,6,FALSE),"") -> 44473 | AS13: =IFERROR(VLOOKUP(I13,Rest!$B:$G,5,FALSE),"") -> 44484 | AT13: =IFERROR(VLOOKUP(I13,Rest!$B:$G,6,FALSE),"") -> 44489
A14: 68 | B14: 1 | C14: 506 | D14: 2844 | E14: E Lantz St | F14: Andover St | G14: Irvington St | H14: NDET3-7070 | I14: GRP-2021-ND3.97.3.2 | J14: =IFERROR(VLOOKUP(H14,[1]Sheet1!$A:$H,3,FALSE),"") -> Install Main - E Lantz Ave (1) (E Lantz Ave & E Lantz Ave) - Bloom Crossing | K14: =IFERROR(VLOOKUP('Speed Hump'!H14,Main!$A:$G,6,FALSE),"") -> 06-22-21 A | L14: =IFERROR(VLOOKUP('Speed Hump'!H14,Main!$A:$G,7,FALSE),"") -> 06-22-21 A | M14: Yes | N14: 1 | O14: Will be Installed 2021 | P14: 0 | Q14: DTE Gas - GRP | R14: Design - Planning | S14: Gas Main Renewal | W14: 2021 Risk Rank | X14: Irvington | Y14: State Fair | Z14: 7 Mile | AA14: 44197 | AB14: 44561 | AC14: Dan Sand | AD14: 734-444-5737 | AE14: daniel.sand@dteenergy.com | AI14: 6/11/2020 | AJ14: NAD 1983 | AK14: Detroit | AL14: Irvington (State Fair-7 Mile) | AN14: 107646.32 | AO14: 2321.9092 | AP14: 120.83116 | AQ14: =IFERROR(VLOOKUP(I14,Service!$B:$G,5,FALSE),"") | AR14: =IFERROR(VLOOKUP(I14,Service!$B:$G,6,FALSE),"") | AS14: =IFERROR(VLOOKUP(I14,Rest!$B:$G,5,FALSE),"") -> 44462 | AT14: =IFERROR(VLOOKUP(I14,Rest!$B:$G,6,FALSE),"") -> 44467
A15: 69 | B15: 1 | C15: 508 | D15: 2317 | E15: E Lantz St | F15: Dean St | G15: Sunset St | H15: NDET3-7070 | I15: GRP-2021-ND3.97.3.2 | J15: =IFERROR(VLOOKUP(H15,[1]Sheet1!$A:$H,3,FALSE),"") -> Install Main - E Lantz Ave (1) (E Lantz Ave & E Lantz Ave) - Bloom Crossing | K15: =IFERROR(VLOOKUP('Speed Hump'!H15,Main!$A:$G,6,FALSE),"") -> 06-22-21 A | L15: =IFERROR(VLOOKUP('Speed Hump'!H15,Main!$A:$G,7,FALSE),"") -> 06-22-21 A | M15: Yes | N15: 1 | O15: Will be Installed 2021 | P15: 0 | Q15: DTE Gas - GRP | R15: Design - Planning | S15: Gas Main Renewal | T15: SEGRID2021NDet3 | W15: 2021 MGA Grid | X15: Multiple | Y15: Multiple | Z15: Multiple | AA15: 44197 | AB15: 44561 | AC15: Dan Sand | AD15: 734-444-5737 | AE15: daniel.sand@dteenergy.com | AI15: 5/5/2020 | AJ15: NAD 1983 | AK15: Detroit | AL15: North Detroit 3 (NDet3) | AM15: NDet3 | AN15: 9178519.1 | AO15: 14104.415 | AP15: 128.22557 | AQ15: =IFERROR(VLOOKUP(I15,Service!$B:$G,5,FALSE),"") | AR15: =IFERROR(VLOOKUP(I15,Service!$B:$G,6,FALSE),"") | AS15: =IFERROR(VLOOKUP(I15,Rest!$B:$G,5,FALSE),"") -> 44462 | AT15: =IFERROR(VLOOKUP(I15,Rest!$B:$G,6,FALSE),"") -> 44467
A16: 72 | B16: 1 | C16: 524 | D16: 1830 | E16: Saint Louis St | F16: E Lantz St | G16: E Outer Dr | H16: NDET3-4825 | I16: GRP-2021-ND3.22.1.2 | J16: =IFERROR(VLOOKUP(H16,[1]Sheet1!$A:$H,3,FALSE),"") -> Install Main - St Louis Ave (E Outer Dr & ANO 7 Mile Rd) | K16: =IFERROR(VLOOKUP('Speed Hump'!H16,Main!$A:$G,6,FALSE),"") -> 05-18-21 A | L16: =IFERROR(VLOOKUP('Speed Hump'!H16,Main!$A:$G,7,FALSE),"") -> 05-20-21 A | M16: Yes | N16: 1 | O16: Will be Installed 2021 | P16: 0 | Q16: DTE Gas - GRP | R16: Design - Planning | S16: Gas Main Renewal | T16: SEGRID2021NDet3 | W16: 2021 MGA Grid | X16: Multiple | Y16: Multiple | Z16: Multiple | AA16: 44197 | AB16: 44561 | AC16: Dan Sand | AD16: 734-444-5737 | AE16: daniel.sand@dteenergy.com | AI16: 5/5/2020 | AJ16: NAD 1983 | AK16: Detroit | AL16: North Detroit 3 (NDet3) | AM16: NDet3 | AN16: 9178519.1 | AO16: 14104.415 | AP16: 253.41706 | AQ16: =IFERROR(VLOOKUP(I16,Service!$B:$G,5,FALSE),"") -> 07-26-21 A | AR16: =IFERROR(VLOOKUP(I16,Service!$B:$G,6,FALSE),"") -> 09-01-21 A | AS16: =IFERROR(VLOOKUP(I16,Rest!$B:$G,5,FALSE),"") -> 44463 | AT16: =IFERROR(VLOOKUP(I16,Rest!$B:$G,6,FALSE),"") -> 44468
A17: 88 | B17: 1 | C17: 753 | D17: 2871 | E17: Keystone St | F17: Emery St | G17: E Lantz St | H17: NDET3-7125 | I17: GRP-2021-ND3.37.1.2 | J17: =IFERROR(VLOOKUP(H17,[1]Sheet1!$A:$H,3,FALSE),"") -> Install Main - Keystone St (2) (E Lantz St & ANO 7 Mile Rd) | K17: =IFERROR(VLOOKUP('Speed Hump'!H17,Main!$A:$G,6,FALSE),"") -> 06-30-21 A | L17: =IFERROR(VLOOKUP('Speed Hump'!H17,Main!$A:$G,7,FALSE),"") -> 07-07-21 A | M17: Yes | N17: 2 | O17: Will be Installed 2021 | P17: 0 | Q17: DTE Gas - GRP | R17: Design - Planning | S17: Gas Main Renewal | T17: SEGRID2021NDet3 | W17: 2021 MGA Grid | X17: Multiple | Y17: Multiple | Z17: Multiple | AA17: 44197 | AB17: 44561 | AC17: Dan Sand | AD17: 734-444-5737 | AE17: daniel.sand@dteenergy.com | AI17: 5/5/2020 | AJ17: NAD 1983 | AK17: Detroit | AL17: North Detroit 3 (NDet3) | AM17: NDet3 | AN17: 9178519.1 | AO17: 14104.415 | AP17: 356.18497 | AQ17: =IFERROR(VLOOKUP(I17,Service!$B:$G,5,FALSE),"") -> 44459 | AR17: =IFERROR(VLOOKUP(I17,Service!$B:$G,6,FALSE),"") -> 44473 | AS17: =IFERROR(VLOOKUP(I17,Rest!$B:$G,5,FALSE),"") -> 44480 | AT17: =IFERROR(VLOOKUP(I17,Rest!$B:$G,6,FALSE),"") -> 44483
A18: 104 | B18: 1 | C18: 882 | D18: 557 | E18: Amrad St | F18: Moenart St | G18: Bloom St | H18: NDET3-6920 | I18: GRP-2021-ND3.50.4.2 | J18: =IFERROR(VLOOKUP(H18,[1]Sheet1!$A:$H,3,FALSE),"") -> Install Main - Buffalo St (1) (Hamlet St & Amrad St) | K18: =IFERROR(VLOOKUP('Speed Hump'!H18,Main!$A:$G,6,FALSE),"") -> 05-14-21 A | L18: =IFERROR(VLOOKUP('Speed Hump'!H18,Main!$A:$G,7,FALSE),"") -> 05-14-21 A | M18: Yes | N18: 1 | O18: Will be Installed 2021 | P18: 0 | Q18: DTE Gas - GRP | R18: Design - Planning | S18: Gas Main Renewal | T18: SEGRID2021NDet3 | W18: 2021 MGA Grid | X18: Multiple | Y18: Multiple | Z18: Multiple | AA18: 44197 | AB18: 44561 | AC18: Dan Sand | AD18: 734-444-5737 | AE18: daniel.sand@dteenergy.com | AI18: 5/5/2020 | AJ18: NAD 1983 | AK18: Detroit | AL18: North Detroit 3 (NDet3) | AM18: NDet3 | AN18: 9178519.1 | AO18: 14104.415 | AP18: 113.80365 | AQ18: =IFERROR(VLOOKUP(I18,Service!$B:$G,5,FALSE),"") -> 08-12-21 A | AR18: =IFERROR(VLOOKUP(I18,Service!$B:$G,6,FALSE),"") -> 08-16-21 A | AS18: =IFERROR(VLOOKUP(I18,Rest!$B:$G,5,FALSE),"") -> 08-26-21 A | AT18: =IFERROR(VLOOKUP(I18,Rest!$B:$G,6,FALSE),"") -> 08-26-21 A
A19: 119 | B19: 1 | C19: 998 | D19: 2982 | E19: Dean St | F19: Emery St | G19: E Lantz St | H19: NDET3-6235 | I19: GRP-2021-ND3.29.1.2 | J19: =IFERROR(VLOOKUP(H19,[1]Sheet1!$A:$H,3,FALSE),"") -> Install Main - Dean Ave (2) (E Outer Dr & ANO 7 Mile Rd) | K19: =IFERROR(VLOOKUP('Speed Hump'!H19,Main!$A:$G,6,FALSE),"") -> 08-04-21 A | L19: =IFERROR(VLOOKUP('Speed Hump'!H19,Main!$A:$G,7,FALSE),"") -> 08-10-21 A | M19: Yes | N19: 2 | O19: Will be Installed 2021 | P19: 0 | Q19: DTE Gas - GRP | R19: Design - Planning | S19: Gas Main Renewal | T19: SEGRID2021NDet3 | W19: 2021 MGA Grid | X19: Multiple | Y19: Multiple | Z19: Multiple | AA19: 44197 | AB19: 44561 | AC19: Dan Sand | AD19: 734-444-5737 | AE19: daniel.sand@dteenergy.com | AI19: 5/5/2020 | AJ19: NAD 1983 | AK19: Detroit | AL19: North Detroit 3 (NDet3) | AM19: NDet3 | AN19: 9178519.1 | AO19: 14104.415 | AP19: 355.96289 | AQ19: =IFERROR(VLOOKUP(I19,Service!$B:$G,5,FALSE),"") -> 44459 | AR19: =IFERROR(VLOOKUP(I19,Service!$B:$G,6,FALSE),"") -> 44474 | AS19: =IFERROR(VLOOKUP(I19,Rest!$B:$G,5,FALSE),"") -> 44480 | AT19: =IFERROR(VLOOKUP(I19,Rest!$B:$G,6,FALSE),"") -> 44483
A20: 122 | B20: 1 | C20: 1022 | D20: 2999 | E20: Binder St | F20: Emery St | G20: E Lantz St | H20: NDET3-7295 | I20: GRP-2021-ND3.64.1.2 | J20: =IFERROR(VLOOKUP(H20,[1]Sheet1!$A:$H,3,FALSE),"") -> Elevate Main - Binder St (2) (E Outer Dr & ANO 7 Mile Rd) | K20: =IFERROR(VLOOKUP('Speed Hump'!H20,Main!$A:$G,6,FALSE),"") -> 44496 | L20: =IFERROR(VLOOKUP('Speed Hump'!H20,Main!$A:$G,7,FALSE),"") -> 44501 | M20: Yes | N20: 2 | O20: Will be Installed 2021 | P20: 0 | Q20: DTE Gas - GRP | R20: Design - Planning | S20: Gas Main Renewal | T20: SEGRID2021NDet3 | W20: 2021 MGA Grid | X20: Multiple | Y20: Multiple | Z20: Multiple | AA20: 44197 | AB20: 44561 | AC20: Dan Sand | AD20: 734-444-5737 | AE20: daniel.sand@dteenergy.com | AI20: 5/5/2020 | AJ20: NAD 1983 | AK20: Detroit | AL20: North Detroit 3 (NDet3) | AM20: NDet3 | AN20: 9178519.1 | AO20: 14104.415 | AP20: 355.94695 | AQ20: =IFERROR(VLOOKUP(I20,Service!$B:$G,5,FALSE),"") -> 44481 | AR20: =IFERROR(VLOOKUP(I20,Service!$B:$G,6,FALSE),"") -> 44495 | AS20: =IFERROR(VLOOKUP(I20,Rest!$B:$G,5,FALSE),"") -> 44505 | AT20: =IFERROR(VLOOKUP(I20,Rest!$B:$G,6,FALSE),"") -> 44510
A21: 132 | B21: 1 | C21: 1096 | D21: 1956 | E21: Gable St | F21: E Lantz St | G21: E Outer Dr | H21: NDET3-5010 | I21: GRP-2021-ND3.19.1.2 | J21: =IFERROR(VLOOKUP(H21,[1]Sheet1!$A:$H,3,FALSE),"") -> Install Main - Gable Ave (E Outer Dr & ANO 7 Mile Rd) | K21: =IFERROR(VLOOKUP('Speed Hump'!H21,Main!$A:$G,6,FALSE),"") -> 05-24-21 A | L21: =IFERROR(VLOOKUP('Speed Hump'!H21,Main!$A:$G,7,FALSE),"") -> 06-02-21 A | M21: Yes | N21: 2 | O21: Will be Installed 2021 | P21: 0 | Q21: DTE Gas - GRP | R21: Design - Planning | S21: Gas Main Renewal | T21: SEGRID2021NDet3 | W21: 2021 MGA Grid | X21: Multiple | Y21: Multiple | Z21: Multiple | AA21: 44197 | AB21: 44561 | AC21: Dan Sand | AD21: 734-444-5737 | AE21: daniel.sand@dteenergy.com | AI21: 5/5/2020 | AJ21: NAD 1983 | AK21: Detroit | AL21: North Detroit 3 (NDet3) | AM21: NDet3 | AN21: 9178519.1 | AO21: 14104.415 | AP21: 342.98693 | AQ21: =IFERROR(VLOOKUP(I21,Service!$B:$G,5,FALSE),"") -> 44459 | AR21: =IFERROR(VLOOKUP(I21,Service!$B:$G,6,FALSE),"") -> 44473 | AS21: =IFERROR(VLOOKUP(I21,Rest!$B:$G,5,FALSE),"") -> 44480 | AT21: =IFERROR(VLOOKUP(I21,Rest!$B:$G,6,FALSE),"") -> 44483
A22: 150 | B22: 1 | C22: 1189 | D22: 545 | E22: Amrad St | F22: Buffalo St | G22: Caldwell St | H22: NDET3-6920 | I22: GRP-2021-ND3.50.4.2 | J22: =IFERROR(VLOOKUP(H22,[1]Sheet1!$A:$H,3,FALSE),"") -> Install Main - Buffalo St (1) (Hamlet St & Amrad St) | K22: =IFERROR(VLOOKUP('Speed Hump'!H22,Main!$A:$G,6,FALSE),"") -> 05-14-21 A | L22: =IFERROR(VLOOKUP('Speed Hump'!H22,Main!$A:$G,7,FALSE),"") -> 05-14-21 A | M22: Yes | N22: 1 | O22: Will be Installed 2021 | P22: 0 | Q22: DTE Gas - GRP | R22: Design - Planning | S22: Gas Main Renewal | T22: SEGRID2021NDet3 | W22: 2021 MGA Grid | X22: Multiple | Y22: Multiple | Z22: Multiple | AA22: 44197 | AB22: 44561 | AC22: Dan Sand | AD22: 734-444-5737 | AE22: daniel.sand@dteenergy.com | AI22: 5/5/2020 | AJ22: NAD 1983 | AK22: Detroit | AL22: North Detroit 3 (NDet3) | AM22: NDet3 | AN22: 9178519.1 | AO22: 14104.415 | AP22: 121.39525 | AQ22: =IFERROR(VLOOKUP(I22,Service!$B:$G,5,FALSE),"") -> 08-12-21 A | AR22: =IFERROR(VLOOKUP(I22,Service!$B:$G,6,FALSE),"") -> 08-16-21 A | AS22: =IFERROR(VLOOKUP(I22,Rest!$B:$G,5,FALSE),"") -> 08-26-21 A | AT22: =IFERROR(VLOOKUP(I22,Rest!$B:$G,6,FALSE),"") -> 08-26-21 A
A23: 159 | B23: 1 | C23: 1258 | D23: 1379 | E23: Keystone St | F23: E Outer Dr | G23: Cordova St | H23: NDET3-325 | I23: GRP-2021-ND3.59.3.2 | J23: =IFERROR(VLOOKUP(H23,[1]Sheet1!$A:$H,3,FALSE),"") -> Install Main - Keystone St (1) (Hamlet St & E Outer Dr) | K23: =IFERROR(VLOOKUP('Speed Hump'!H23,Main!$A:$G,6,FALSE),"") -> 04-20-21 A | L23: =IFERROR(VLOOKUP('Speed Hump'!H23,Main!$A:$G,7,FALSE),"") -> 04-23-21 A | M23: Yes | N23: 1 | O23: Will be Installed 2021 | P23: 0 | Q23: DTE Gas - GRP | R23: Design - Planning | S23: Gas Main Renewal | T23: SEGRID2021NDet3 | W23: 2021 MGA Grid | X23: Multiple | Y23: Multiple | Z23: Multiple | AA23: 44197 | AB23: 44561 | AC23: Dan Sand | AD23: 734-444-5737 | AE23: daniel.sand@dteenergy.com | AI23: 5/5/2020 | AJ23: NAD 1983 | AK23: Detroit | AL23: North Detroit 3 (NDet3) | AM23: NDet3 | AN23: 9178519.1 | AO23: 14104.415 | AP23: 257.52856 | AQ23: =IFERROR(VLOOKUP(I23,Service!$B:$G,5,FALSE),"") -> 08-30-21 A | AR23: =IFERROR(VLOOKUP(I23,Service!$B:$G,6,FALSE),"") -> 09-01-21 A | AS23: =IFERROR(VLOOKUP(I23,Rest!$B:$G,5,FALSE),"") -> 08-27-21 A | AT23: =IFERROR(VLOOKUP(I23,Rest!$B:$G,6,FALSE),"") -> 44467
A24: 170 | B24: 1 | C24: 1334 | D24: 950 | E24: Keystone St | F24: Cordova St | G24: Amrad St | H24: NDET3-325 | I24: GRP-2021-ND3.59.3.2 | J24: =IFERROR(VLOOKUP(H24,[1]Sheet1!$A:$H,3,FALSE),"") -> Install Main - Keystone St (1) (Hamlet St & E Outer Dr) | K24: =IFERROR(VLOOKUP('Speed Hump'!H24,Main!$A:$G,6,FALSE),"") -> 04-20-21 A | L24: =IFERROR(VLOOKUP('Speed Hump'!H24,Main!$A:$G,7,FALSE),"") -> 04-23-21 A | M24: Yes | N24: 1 | O24: Will be Installed 2021 | P24: 0 | Q24: DTE Gas - GRP | R24: Design - Planning | S24: Gas Main Renewal | T24: SEGRID2021NDet3 | W24: 2021 MGA Grid | X24: Multiple | Y24: Multiple | Z24: Multiple | AA24: 44197 | AB24: 44561 | AC24: Dan Sand | AD24: 734-444-5737 | AE24: daniel.sand@dteenergy.com | AI24: 5/5/2020 | AJ24: NAD 1983 | AK24: Detroit | AL24: North Detroit 3 (NDet3) | AM24: NDet3 | AN24: 9178519.1 | AO24: 14104.415 | AP24: 273.89715 | AQ24: =IFERROR(VLOOKUP(I24,Service!$B:$G,5,FALSE),"") -> 08-30-21 A | AR24: =IFERROR(VLOOKUP(I24,Service!$B:$G,6,FALSE),"") -> 09-01-21 A | AS24: =IFERROR(VLOOKUP(I24,Rest!$B:$G,5,FALSE),"") -> 08-27-21 A | AT24: =IFERROR(VLOOKUP(I24,Rest!$B:$G,6,FALSE),"") -> 44467
A25: 171 | B25: 1 | C25: 1341 | D25: 3826 | E25: Dean St | F25: E 7 Mile Rd | G25: Emery St | H25: NDET3-6235 | I25: GRP-2021-ND3.29.1.2 | J25: =IFERROR(VLOOKUP(H25,[1]Sheet1!$A:$H,3,FALSE),"") -> Install Main - Dean Ave (2) (E Outer Dr & ANO 7 Mile Rd) | K25: =IFERROR(VLOOKUP('Speed Hump'!H25,Main!$A:$G,6,FALSE),"") -> 08-04-21 A | L25: =IFERROR(VLOOKUP('Speed Hump'!H25,Main!$A:$G,7,FALSE),"") -> 08-10-21 A | M25: Yes | N25: 2 | O25: Will be Installed 2021 | P25: 0 | Q25: DTE Gas - GRP | R25: Design - Planning | S25: Gas Main Renewal | T25: SEGRID2021NDet3 | W25: 2021 MGA Grid | X25: Multiple | Y25: Multiple | Z25: Multiple | AA25: 44197 | AB25: 44561 | AC25: Dan Sand | AD25: 734-444-5737 | AE25: daniel.sand@dteenergy.com | AI25: 5/5/2020 | AJ25: NAD 1983 | AK25: Detroit | AL25: North Detroit 3 (NDet3) | AM25: NDet3 | AN25: 9178519.1 | AO25: 14104.415 | AP25: 387.65593 | AQ25: =IFERROR(VLOOKUP(I25,Service!$B:$G,5,FALSE),"") -> 44459 | AR25: =IFERROR(VLOOKUP(I25,Service!$B:$G,6,FALSE),"") -> 44474 | AS25: =IFERROR(VLOOKUP(I25,Rest!$B:$G,5,FALSE),"") -> 44480 | AT25: =IFERROR(VLOOKUP(I25,Rest!$B:$G,6,FALSE),"") -> 44483
A26: 173 | B26: 1 | C26: 1346 | D26: 3516 | E26: Buffalo St | F26: E 7 Mile Rd | G26: Emery St | H26: NDET3-6825 | I26: GRP-2021-ND3.50.1.2 | J26: =IFERROR(VLOOKUP(H26,[1]Sheet1!$A:$H,3,FALSE),"") -> Install Main - Buffalo St (1) (8 Mile Rd (M102) & Hamlet St) | K26: =IFERROR(VLOOKUP('Speed Hump'!H26,Main!$A:$G,6,FALSE),"") -> 05-12-21 A | L26: =IFERROR(VLOOKUP('Speed Hump'!H26,Main!$A:$G,7,FALSE),"") -> 05-14-21 A | M26: Yes | N26: 2 | O26: Will be Installed 2021 | P26: 0 | Q26: DTE Gas - GRP | R26: Design - Planning | S26: Gas Main Renewal | T26: SEGRID2021NDet3 | W26: 2021 MGA Grid | X26: Multiple | Y26: Multiple | Z26: Multiple | AA26: 44197 | AB26: 44561 | AC26: Dan Sand | AD26: 734-444-5737 | AE26: daniel.sand@dteenergy.com | AI26: 5/5/2020 | AJ26: NAD 1983 | AK26: Detroit | AL26: North Detroit 3 (NDet3) | AM26: NDet3 | AN26: 9178519.1 | AO26: 14104.415 | AP26: 381.43286 | AQ26: =IFERROR(VLOOKUP(I26,Service!$B:$G,5,FALSE),"") -> 08-16-21 A | AR26: =IFERROR(VLOOKUP(I26,Service!$B:$G,6,FALSE),"") -> 08-16-21 A | AS26: =IFERROR(VLOOKUP(I26,Rest!$B:$G,5,FALSE),"") -> 08-26-21 A | AT26: =IFERROR(VLOOKUP(I26,Rest!$B:$G,6,FALSE),"") -> 08-26-21 A
... A40: 293 | B40: 1 | C40: 2247 | D40: 1485 | E40: Klinger St | F40: E Outer Dr | G40: E Remington St | H40: NDET3-7150 | I40: GRP-2021-ND3.77.1.2 | J40: =IFERROR(VLOOKUP(H40,[1]Sheet1!$A:$H,3,FALSE),"") -> Elevate Main - Klinger St (2) (E Outer Dr& 7 Mile Rd) | K40: =IFERROR(VLOOKUP('Speed Hump'!H40,Main!$A:$G,6,FALSE),"") -> 09-16-21 A | L40: =IFERROR(VLOOKUP('Speed Hump'!H40,Main!$A:$G,7,FALSE),"") -> 44474 | M40: Yes | N40: 2 | O40: Will be Installed 2021 | P40: 0 | Q40: DTE Gas - GRP | R40: Design - Planning | S40: Gas Main Renewal | T40: SEGRID2021NDet3 | W40: 2021 MGA Grid | X40: Multiple | Y40: Multiple | Z40: Multiple | AA40: 44197 | AB40: 44561 | AC40: Dan Sand | AD40: 734-444-5737 | AE40: daniel.sand@dteenergy.com | AI40: 5/5/2020 | AJ40: NAD 1983 | AK40: Detroit | AL40: North Detroit 3 (NDet3) | AM40: NDet3 | AN40: 9178519.1 | AO40: 14104.415 | AP40: 337.00434 | AQ40: =IFERROR(VLOOKUP(I40,Service!$B:$G,5,FALSE),"") -> 44459 | AR40: =IFERROR(VLOOKUP(I40,Service!$B:$G,6,FALSE),"") -> 44473 | AS40: =IFERROR(VLOOKUP(I40,Rest!$B:$G,5,FALSE),"") -> 44480 | AT40: =IFERROR(VLOOKUP(I40,Rest!$B:$G,6,FALSE),"") -> 44483
A41: 303 | B41: 1 | C41: 2307 | D41: 1910 | E41: Chippewa St | F41: Santa Rosa Dr | G41: Stoepel St | H41: DNE IN P6 LAYOUT | J41: =IFERROR(VLOOKUP(H41,[1]Sheet1!$A:$H,3,FALSE),"") | K41: =IFERROR(VLOOKUP('Speed Hump'!H41,Main!$A:$G,6,FALSE),"") | L41: =IFERROR(VLOOKUP('Speed Hump'!H41,Main!$A:$G,7,FALSE),"") | M41: Yes | N41: 1 | O41: Will be Installed 2021 | P41: 0 | Q41: DTE Gas - GRP | R41: Design - Planning | S41: Gas Main Renewal | W41: 2021 Risk Rank | X41: Stoepel | Y41: 8 Mile | Z41: Pembroke | AA41: 44197 | AB41: 44561 | AC41: Dan Sand | AD41: 734-444-5737 | AE41: daniel.sand@dteenergy.com | AI41: 6/11/2020 | AJ41: NAD 1983 | AK41: Detroit | AL41: Stoepel (8 Mile-Pembroke) | AN41: 90202.932 | AO41: 2296.9196 | AP41: 109.45001 | AQ41: =IFERROR(VLOOKUP(I41,Service!$B:$G,5,FALSE),"") | AR41: =IFERROR(VLOOKUP(I41,Service!$B:$G,6,FALSE),"") | AS41: =IFERROR(VLOOKUP(I41,Rest!$B:$G,5,FALSE),"") | AT41: =IFERROR(VLOOKUP(I41,Rest!$B:$G,6,FALSE),"")
A42: 312 | B42: 1 | C42: 2348 | D42: 2629 | E42: Gable St | F42: Emery St | G42: E Lantz St | H42: NDET3-5010 | I42: GRP-2021-ND3.19.1.2 | J42: =IFERROR(VLOOKUP(H42,[1]Sheet1!$A:$H,3,FALSE),"") -> Install Main - Gable Ave (E Outer Dr & ANO 7 Mile Rd) | K42: =IFERROR(VLOOKUP('Speed Hump'!H42,Main!$A:$G,6,FALSE),"") -> 05-24-21 A | L42: =IFERROR(VLOOKUP('Speed Hump'!H42,Main!$A:$G,7,FALSE),"") -> 06-02-21 A | M42: Yes | N42: 2 | O42: Will be Installed 2021 | P42: 0 | Q42: DTE Gas - GRP | R42: Design - Planning | S42: Gas Main Renewal | T42: SEGRID2021NDet3 | W42: 2021 MGA Grid | X42: Multiple | Y42: Multiple | Z42: Multiple | AA42: 44197 | AB42: 44561 | AC42: Dan Sand | AD42: 734-444-5737 | AE42: daniel.sand@dteenergy.com | AI42: 5/5/2020 | AJ42: NAD 1983 | AK42: Detroit | AL42: North Detroit 3 (NDet3) | AM42: NDet3 | AN42: 9178519.1 | AO42: 14104.415 | AP42: 356.72812 | AQ42: =IFERROR(VLOOKUP(I42,Service!$B:$G,5,FALSE),"") -> 44459 | AR42: =IFERROR(VLOOKUP(I42,Service!$B:$G,6,FALSE),"") -> 44473 | AS42: =IFERROR(VLOOKUP(I42,Rest!$B:$G,5,FALSE),"") -> 44480 | AT42: =IFERROR(VLOOKUP(I42,Rest!$B:$G,6,FALSE),"") -> 44483
A43: 318 | B43: 1 | C43: 2402 | D43: 3049 | E43: Gallagher St | F43: Emery St | G43: E Lantz St | H43: NDET3-4235 | I43: GRP-2021-ND3.70.1.2 | J43: =IFERROR(VLOOKUP(H43,[1]Sheet1!$A:$H,3,FALSE),"") -> Elevate Main - Gallagher (1) (8 Mile Rd (M102) & E Outer Dr) | K43: =IFERROR(VLOOKUP('Speed Hump'!H43,Main!$A:$G,6,FALSE),"") -> 08-05-21 A | L43: =IFERROR(VLOOKUP('Speed Hump'!H43,Main!$A:$G,7,FALSE),"") -> 08-10-21 A | M43: Yes | N43: 2 | O43: Will be Installed 2021 | P43: 0 | Q43: DTE Gas - GRP | R43: Design - Planning | S43: Gas Main Renewal | T43: SEGRID2021NDet3 | W43: 2021 MGA Grid | X43: Multiple | Y43: Multiple | Z43: Multiple | AA43: 44197 | AB43: 44561 | AC43: Dan Sand | AD43: 734-444-5737 | AE43: daniel.sand@dteenergy.com | AI43: 5/5/2020 | AJ43: NAD 1983 | AK43: Detroit | AL43: North Detroit 3 (NDet3) | AM43: NDet3 | AN43: 9178519.1 | AO43: 14104.415 | AP43: 355.95862 | AQ43: =IFERROR(VLOOKUP(I43,Service!$B:$G,5,FALSE),"") -> 07-27-21 A | AR43: =IFERROR(VLOOKUP(I43,Service!$B:$G,6,FALSE),"") -> 08-10-21 A | AS43: =IFERROR(VLOOKUP(I43,Rest!$B:$G,5,FALSE),"") -> 08-26-21 A | AT43: =IFERROR(VLOOKUP(I43,Rest!$B:$G,6,FALSE),"") -> 08-26-21 A
A44: 338 | B44: 1 | C44: 2579 | D44: 1511 | E44: Mitchell St | F44: E Outer Dr | G44: E Remington St | H44: NDET3-7400 | I44: GRP-2021-ND3.78.1.2 | J44: =IFERROR(VLOOKUP(H44,[1]Sheet1!$A:$H,3,FALSE),"") -> Elevate Main - Mitchell St (1) (8 Mile Rd (M102) & E Outer Dr) | K44: =IFERROR(VLOOKUP('Speed Hump'!H44,Main!$A:$G,6,FALSE),"") -> 08-19-21 A | L44: =IFERROR(VLOOKUP('Speed Hump'!H44,Main!$A:$G,7,FALSE),"") -> 08-24-21 A | M44: Yes | N44: 2 | O44: Will be Installed 2021 | P44: 0 | Q44: DTE Gas - GRP | R44: Design - Planning | S44: Gas Main Renewal | T44: SEGRID2021NDet3 | W44: 2021 MGA Grid | X44: Multiple | Y44: Multiple | Z44: Multiple | AA44: 44197 | AB44: 44561 | AC44: Dan Sand | AD44: 734-444-5737 | AE44: daniel.sand@dteenergy.com | AI44: 5/5/2020 | AJ44: NAD 1983 | AK44: Detroit | AL44: North Detroit 3 (NDet3) | AM44: NDet3 | AN44: 9178519.1 | AO44: 14104.415 | AP44: 341.68132 | AQ44: =IFERROR(VLOOKUP(I44,Service!$B:$G,5,FALSE),"") -> 08-04-21 A | AR44: =IFERROR(VLOOKUP(I44,Service!$B:$G,6,FALSE),"") -> 09-01-21 A | AS44: =IFERROR(VLOOKUP(I44,Rest!$B:$G,5,FALSE),"") -> 44463 | AT44: =IFERROR(VLOOKUP(I44,Rest!$B:$G,6,FALSE),"") -> 44468
A45: 340 | B45: 1 | C45: 2590 | D45: 1459 | E45: Binder St | F45: E Outer Dr | G45: E Remington St | H45: NDET3-7515 | I45: GRP-2021-ND3.63.1.2 | J45: =IFERROR(VLOOKUP(H45,[1]Sheet1!$A:$H,3,FALSE),"") -> Elevate Main - Binder St (1) (8 Mile Rd (M102) & E Outer Dr) | K45: =IFERROR(VLOOKUP('Speed Hump'!H45,Main!$A:$G,6,FALSE),"") -> 06-21-21 A | L45: =IFERROR(VLOOKUP('Speed Hump'!H45,Main!$A:$G,7,FALSE),"") -> 06-29-21 A | M45: Yes | N45: 1 | O45: Will be Installed 2021 | P45: 0 | Q45: DTE Gas - GRP | R45: Design - Planning | S45: Gas Main Renewal | T45: SEGRID2021NDet3 | W45: 2021 MGA Grid | X45: Multiple | Y45: Multiple | Z45: Multiple | AA45: 44197 | AB45: 44561 | AC45: Dan Sand | AD45: 734-444-5737 | AE45: daniel.sand@dteenergy.com | AI45: 5/5/2020 | AJ45: NAD 1983 | AK45: Detroit | AL45: North Detroit 3 (NDet3) | AM45: NDet3 | AN45: 9178519.1 | AO45: 14104.415 | AP45: 328.87416 | AQ45: =IFERROR(VLOOKUP(I45,Service!$B:$G,5,FALSE),"") -> 06-18-21 A | AR45: =IFERROR(VLOOKUP(I45,Service!$B:$G,6,FALSE),"") -> 06-21-21 A | AS45: =IFERROR(VLOOKUP(I45,Rest!$B:$G,5,FALSE),"") -> 44463 | AT45: =IFERROR(VLOOKUP(I45,Rest!$B:$G,6,FALSE),"") -> 44468
A46: 346 | B46: 1 | C46: 2680 | D46: 2862 | E46: Saint Louis St | F46: Emery St | G46: E Lantz St | H46: NDET3-4825 | I46: GRP-2021-ND3.22.1.2 | J46: =IFERROR(VLOOKUP(H46,[1]Sheet1!$A:$H,3,FALSE),"") -> Install Main - St Louis Ave (E Outer Dr & ANO 7 Mile Rd) | K46: =IFERROR(VLOOKUP('Speed Hump'!H46,Main!$A:$G,6,FALSE),"") -> 05-18-21 A | L46: =IFERROR(VLOOKUP('Speed Hump'!H46,Main!$A:$G,7,FALSE),"") -> 05-20-21 A | M46: Yes | N46: 2 | O46: Will be Installed 2021 | P46: 0 | Q46: DTE Gas - GRP | R46: Design - Planning | S46: Gas Main Renewal | T46: SEGRID2021NDet3 | W46: 2021 MGA Grid | X46: Multiple | Y46: Multiple | Z46: Multiple | AA46: 44197 | AB46: 44561 | AC46: Dan Sand | AD46: 734-444-5737 | AE46: daniel.sand@dteenergy.com | AI46: 5/5/2020 | AJ46: NAD 1983 | AK46: Detroit | AL46: North Detroit 3 (NDet3) | AM46: NDet3 | AN46: 9178519.1 | AO46: 14104.415 | AP46: 428.75786 | AQ46: =IFERROR(VLOOKUP(I46,Service!$B:$G,5,FALSE),"") -> 07-26-21 A | AR46: =IFERROR(VLOOKUP(I46,Service!$B:$G,6,FALSE),"") -> 09-01-21 A | AS46: =IFERROR(VLOOKUP(I46,Rest!$B:$G,5,FALSE),"") -> 44463 | AT46: =IFERROR(VLOOKUP(I46,Rest!$B:$G,6,FALSE),"") -> 44468
A47: 353 | B47: 1 | C47: 2739 | D47: 2661 | E47: Albany St | F47: Emery St | G47: E Lantz St | H47: NDET3-6270 | I47: GRP-2021-ND3.46.1.2 | J47: =IFERROR(VLOOKUP(H47,[1]Sheet1!$A:$H,3,FALSE),"") -> Install Main - Albany Ave (1) (Hamlet & Amrad St) | K47: =IFERROR(VLOOKUP('Speed Hump'!H47,Main!$A:$G,6,FALSE),"") -> 05-10-21 A | L47: =IFERROR(VLOOKUP('Speed Hump'!H47,Main!$A:$G,7,FALSE),"") -> 05-11-21 A | M47: Yes | N47: 2 | O47: Will be Installed 2021 | P47: 0 | Q47: DTE Gas - GRP | R47: Design - Planning | S47: Gas Main Renewal | T47: SEGRID2021NDet3 | W47: 2021 MGA Grid | X47: Multiple | Y47: Multiple | Z47: Multiple | AA47: 44197 | AB47: 44561 | AC47: Dan Sand | AD47: 734-444-5737 | AE47: daniel.sand@dteenergy.com | AI47: 5/5/2020 | AJ47: NAD 1983 | AK47: Detroit | AL47: North Detroit 3 (NDet3) | AM47: NDet3 | AN47: 9178519.1 | AO47: 14104.415 | AP47: 356.25366 | AQ47: =IFERROR(VLOOKUP(I47,Service!$B:$G,5,FALSE),"") -> 08-16-21 A | AR47: =IFERROR(VLOOKUP(I47,Service!$B:$G,6,FALSE),"") -> 08-16-21 A | AS47: =IFERROR(VLOOKUP(I47,Rest!$B:$G,5,FALSE),"") -> 44462 | AT47: =IFERROR(VLOOKUP(I47,Rest!$B:$G,6,FALSE),"") -> 44467
A48: 359 | B48: 1 | C48: 2787 | D48: 498 | E48: Binder St | F48: E Winchester Ave | G48: 8 Mile Rd | H48: NDET3-7515 | I48: GRP-2021-ND3.63.1.2 | J48: =IFERROR(VLOOKUP(H48,[1]Sheet1!$A:$H,3,FALSE),"") -> Elevate Main - Binder St (1) (8 Mile Rd (M102) & E Outer Dr) | K48: =IFERROR(VLOOKUP('Speed Hump'!H48,Main!$A:$G,6,FALSE),"") -> 06-21-21 A | L48: =IFERROR(VLOOKUP('Speed Hump'!H48,Main!$A:$G,7,FALSE),"") -> 06-29-21 A | M48: Yes | N48: 1 | O48: Will be Installed 2021 | P48: 0 | Q48: DTE Gas - GRP | R48: Design - Planning | S48: Gas Main Renewal | T48: SEGRID2021NDet3 | W48: 2021 MGA Grid | X48: Multiple | Y48: Multiple | Z48: Multiple | AA48: 44197 | AB48: 44561 | AC48: Dan Sand | AD48: 734-444-5737 | AE48: daniel.sand@dteenergy.com | AI48: 5/5/2020 | AJ48: NAD 1983 | AK48: Detroit | AL48: North Detroit 3 (NDet3) | AM48: NDet3 | AN48: 9178519.1 | AO48: 14104.415 | AP48: 313.37508 | AQ48: =IFERROR(VLOOKUP(I48,Service!$B:$G,5,FALSE),"") -> 06-18-21 A | AR48: =IFERROR(VLOOKUP(I48,Service!$B:$G,6,FALSE),"") -> 06-21-21 A | AS48: =IFERROR(VLOOKUP(I48,Rest!$B:$G,5,FALSE),"") -> 44463 | AT48: =IFERROR(VLOOKUP(I48,Rest!$B:$G,6,FALSE),"") -> 44468
A49: 372 | B49: 1 | C49: 2915 | D49: 2914 | E49: Healy St | F49: Emery St | G49: E Lantz St | H49: NDET3-5200 | I49: GRP-2021-ND3.35.1.2 | J49: =IFERROR(VLOOKUP(H49,[1]Sheet1!$A:$H,3,FALSE),"") -> Install Main - Healy St (E Outer Dr & ANO 7 Mile Rd) | K49: =IFERROR(VLOOKUP('Speed Hump'!H49,Main!$A:$G,6,FALSE),"") -> 07-08-21 A | L49: =IFERROR(VLOOKUP('Speed Hump'!H49,Main!$A:$G,7,FALSE),"") -> 07-20-21 A | M49: Yes | N49: 2 | O49: Will be Installed 2021 | P49: 0 | Q49: DTE Gas - GRP | R49: Design - Planning | S49: Gas Main Renewal | T49: SEGRID2021NDet3 | W49: 2021 MGA Grid | X49: Multiple | Y49: Multiple | Z49: Multiple | AA49: 44197 | AB49: 44561 | AC49: Dan Sand | AD49: 734-444-5737 | AE49: daniel.sand@dteenergy.com | AI49: 5/5/2020 | AJ49: NAD 1983 | AK49: Detroit | AL49: North Detroit 3 (NDet3) | AM49: NDet3 | AN49: 9178519.1 | AO49: 14104.415 | AP49: 355.72389 | AQ49: =IFERROR(VLOOKUP(I49,Service!$B:$G,5,FALSE),"") -> 44459 | AR49: =IFERROR(VLOOKUP(I49,Service!$B:$G,6,FALSE),"") -> 44473 | AS49: =IFERROR(VLOOKUP(I49,Rest!$B:$G,5,FALSE),"") -> 44480 | AT49: =IFERROR(VLOOKUP(I49,Rest!$B:$G,6,FALSE),"") -> 44483
A50: 377 | B50: 1 | C50: 2934 | D50: 3323 | E50: Eastwood St | F50: Goulburn St | G50: Westphalia St | H50: DNE IN P6 LAYOUT | J50: =IFERROR(VLOOKUP(H50,[1]Sheet1!$A:$H,3,FALSE),"") | K50: =IFERROR(VLOOKUP('Speed Hump'!H50,Main!$A:$G,6,FALSE),"") | L50: =IFERROR(VLOOKUP('Speed Hump'!H50,Main!$A:$G,7,FALSE),"") | M50: Yes | N50: 1 | O50: Will be Installed 2021 | P50: 0 | Q50: DTE Gas - GRP | R50: Design - Planning | S50: Gas Main Renewal | W50: 2021 Risk Rank | X50: Westphalia | Y50: 7 Mile | Z50: Greiner | AA50: 44197 | AB50: 44561 | AC50: Dan Sand | AD50: 734-444-5737 | AE50: daniel.sand@dteenergy.com | AI50: 6/11/2020 | AJ50: NAD 1983 | AK50: Detroit | AL50: Westphalia (7 Mile-Greiner) | AN50: 101051.7 | AO50: 2387.8145 | AP50: 134.53018 | AQ50: =IFERROR(VLOOKUP(I50,Service!$B:$G,5,FALSE),"") | AR50: =IFERROR(VLOOKUP(I50,Service!$B:$G,6,FALSE),"") | AS50: =IFERROR(VLOOKUP(I50,Rest!$B:$G,5,FALSE),"") | AT50: =IFERROR(VLOOKUP(I50,Rest!$B:$G,6,FALSE),"")
A51: 379 | B51: 1 | C51: 2941 | D51: 2089 | E51: Shields St | F51: E Lantz St | G51: E Outer Dr | H51: NDET3-5950 | I51: GRP-2021-ND3.42.1.2 | J51: =IFERROR(VLOOKUP(H51,[1]Sheet1!$A:$H,3,FALSE),"") -> Install Main - Shields St (E Outer Dr & ANO 7 Mile Rd) | K51: =IFERROR(VLOOKUP('Speed Hump'!H51,Main!$A:$G,6,FALSE),"") -> 07-28-21 A | L51: =IFERROR(VLOOKUP('Speed Hump'!H51,Main!$A:$G,7,FALSE),"") -> 08-03-21 A | M51: Yes | N51: 2 | O51: Will be Installed 2021 | P51: 0 | Q51: DTE Gas - GRP | R51: Design - Planning | S51: Gas Main Renewal | T51: SEGRID2021NDet3 | W51: 2021 MGA Grid | X51: Multiple | Y51: Multiple | Z51: Multiple | AA51: 44197 | AB51: 44561 | AC51: Dan Sand | AD51: 734-444-5737 | AE51: daniel.sand@dteenergy.com | AI51: 5/5/2020 | AJ51: NAD 1983 | AK51: Detroit | AL51: North Detroit 3 (NDet3) | AM51: NDet3 | AN51: 9178519.1 | AO51: 14104.415 | AP51: 342.6391 | AQ51: =IFERROR(VLOOKUP(I51,Service!$B:$G,5,FALSE),"") -> 44459 | AR51: =IFERROR(VLOOKUP(I51,Service!$B:$G,6,FALSE),"") -> 44474 | AS51: =IFERROR(VLOOKUP(I51,Rest!$B:$G,5,FALSE),"") -> 44481 | AT51: =IFERROR(VLOOKUP(I51,Rest!$B:$G,6,FALSE),"") -> 44484
A52: 382 | B52: 1 | C52: 2949 | D52: 431 | E52: Keystone St | F52: Hamlet St | G52: 8 Mile Rd | H52: NDET3-6780 | I52: GRP-2021-ND3.59.1.2 | J52: =IFERROR(VLOOKUP(H52,[1]Sheet1!$A:$H,3,FALSE),"") -> Install Main - Keystone St (1) (8 Mile Rd (M102) & Hamlet St) | K52: =IFERROR(VLOOKUP('Speed Hump'!H52,Main!$A:$G,6,FALSE),"") -> 04-26-21 A | L52: =IFERROR(VLOOKUP('Speed Hump'!H52,Main!$A:$G,7,FALSE),"") -> 04-26-21 A | M52: Yes | N52: 1 | O52: Will be Installed 2021 | P52: 0 | Q52: DTE Gas - GRP | R52: Design - Planning | S52: Gas Main Renewal | T52: SEGRID2021NDet3 | W52: 2021 MGA Grid | X52: Multiple | Y52: Multiple | Z52: Multiple | AA52: 44197 | AB52: 44561 | AC52: Dan Sand | AD52: 734-444-5737 | AE52: daniel.sand@dteenergy.com | AI52: 5/5/2020 | AJ52: NAD 1983 | AK52: Detroit | AL52: North Detroit 3 (NDet3) | AM52: NDet3 | AN52: 9178519.1 | AO52: 14104.415 | AP52: 221.29279 | AQ52: =IFERROR(VLOOKUP(I52,Service!$B:$G,5,FALSE),"") -> 08-30-21 A | AR52: =IFERROR(VLOOKUP(I52,Service!$B:$G,6,FALSE),"") -> 09-01-21 A | AS52: =IFERROR(VLOOKUP(I52,Rest!$B:$G,5,FALSE),"") -> 08-27-21 A | AT52: =IFERROR(VLOOKUP(I52,Rest!$B:$G,6,FALSE),"") -> 08-27-21 A
A53: 383 | B53: 1 | C53: 2975 | D53: 3554 | E53: Moenart St | F53: E 7 Mile Rd | G53: Emery St | H53: NDET3-7245 | I53: GRP-2021-ND3.39.3.2 | J53: =IFERROR(VLOOKUP(H53,[1]Sheet1!$A:$H,3,FALSE),"") -> Install Main - Moenart St (2) (E Outer Dr & ANO 7 Mile Rd) | K53: =IFERROR(VLOOKUP('Speed Hump'!H53,Main!$A:$G,6,FALSE),"") -> 06-22-21 A | L53: =IFERROR(VLOOKUP('Speed Hump'!H53,Main!$A:$G,7,FALSE),"") -> 06-28-21 A | M53: Yes | N53: 2 | O53: Will be Installed 2021 | P53: 0 | Q53: DTE Gas - GRP | R53: Design - Planning | S53: Gas Main Renewal | T53: SEGRID2021NDet3 | W53: 2021 MGA Grid | X53: Multiple | Y53: Multiple | Z53: Multiple | AA53: 44197 | AB53: 44561 | AC53: Dan Sand | AD53: 734-444-5737 | AE53: daniel.sand@dteenergy.com | AI53: 5/5/2020 | AJ53: NAD 1983 | AK53: Detroit | AL53: North Detroit 3 (NDet3) | AM53: NDet3 | AN53: 9178519.1 | AO53: 14104.415 | AP53: 383.96225 | AQ53: =IFERROR(VLOOKUP(I53,Service!$B:$G,5,FALSE),"") -> 44459 | AR53: =IFERROR(VLOOKUP(I53,Service!$B:$G,6,FALSE),"") -> 44466 | AS53: =IFERROR(VLOOKUP(I53,Rest!$B:$G,5,FALSE),"") -> 44473 | AT53: =IFERROR(VLOOKUP(I53,Rest!$B:$G,6,FALSE),"") -> 44476
A54: 387 | B54: 1 | C54: 2994 | D54: 2030 | E54: Fenelon St | F54: E Lantz St | G54: E Outer Dr | H54: NDET3-4840 | I54: GRP-2021-ND3.33.1.2 | J54: =IFERROR(VLOOKUP(H54,[1]Sheet1!$A:$H,3,FALSE),"") -> Install Main - Fenelon Ave (2) (E Outer Dr & 7 Mile Rd) | K54: =IFERROR(VLOOKUP('Speed Hump'!H54,Main!$A:$G,6,FALSE),"") -> 07-01-21 A | L54: =IFERROR(VLOOKUP('Speed Hump'!H54,Main!$A:$G,7,FALSE),"") -> 07-14-21 A | M54: Yes | N54: 2 | O54: Will be Installed 2021 | P54: 0 | Q54: DTE Gas - GRP | R54: Design - Planning | S54: Gas Main Renewal | T54: SEGRID2021NDet3 | W54: 2021 MGA Grid | X54: Multiple | Y54: Multiple | Z54: Multiple | AA54: 44197 | AB54: 44561 | AC54: Dan Sand | AD54: 734-444-5737 | AE54: daniel.sand@dteenergy.com | AI54: 5/5/2020 | AJ54: NAD 1983 | AK54: Detroit | AL54: North Detroit 3 (NDet3) | AM54: NDet3 | AN54: 9178519.1 | AO54: 14104.415 | AP54: 341.51251 | AQ54: =IFERROR(VLOOKUP(I54,Service!$B:$G,5,FALSE),"") -> 44459 | AR54: =IFERROR(VLOOKUP(I54,Service!$B:$G,6,FALSE),"") -> 44470 | AS54: =IFERROR(VLOOKUP(I54,Rest!$B:$G,5,FALSE),"") -> 44476 | AT54: =IFERROR(VLOOKUP(I54,Rest!$B:$G,6,FALSE),"") -> 44481
A55: 389 | B55: 1 | C55: 3007 | D55: 236 | E55: Bringard Dr | F55: Anvil St | G55: Regent Dr | H55: RR1 5781 | I55: GRP-2021-RR.5.1.2 | J55: =IFERROR(VLOOKUP(H55,[1]Sheet1!$A:$H,3,FALSE),"") -> Install Main - Bringard (Reno & Regent) | K55: =IFERROR(VLOOKUP('Speed Hump'!H55,Main!$A:$G,6,FALSE),"") -> 04-14-21 A | L55: =IFERROR(VLOOKUP('Speed Hump'!H55,Main!$A:$G,7,FALSE),"") -> 04-29-21 A | M55: Yes | N55: 1 | O55: Will be Installed 2021 | P55: 0 | Q55: DTE Gas - GRP | R55: Design - Planning | S55: Gas Main Renewal | W55: 2021 Risk Rank | X55: Bringard | Y55: Regent | Z55: Reno | AA55: 44197 | AB55: 44561 | AC55: Dan Sand | AD55: 734-444-5737 | AE55: daniel.sand@dteenergy.com | AI55: 6/11/2020 | AJ55: NAD 1983 | AK55: Detroit | AL55: Bringard (Regent-Reno) | AN55: 77579.438 | AO55: 1714.8368 | AP55: 273.63475 | AQ55: =IFERROR(VLOOKUP(I55,Service!$B:$G,5,FALSE),"") -> 07-07-21 A | AR55: =IFERROR(VLOOKUP(I55,Service!$B:$G,6,FALSE),"") -> 07-20-21 A | AS55: =IFERROR(VLOOKUP(I55,Rest!$B:$G,5,FALSE),"") -> 08-26-21 A | AT55: =IFERROR(VLOOKUP(I55,Rest!$B:$G,6,FALSE),"") -> 44467
A56: 393 | B56: 1 | C56: 3028 | D56: 2067 | E56: Eureka St | F56: E Lantz St | G56: E Outer Dr | H56: NDET3-5550 | I56: GRP-2021-ND3.32.1.2 | J56: =IFERROR(VLOOKUP(H56,[1]Sheet1!$A:$H,3,FALSE),"") -> Install Main - Eureka St (E Outer Dr & ANO 7 Mile Rd) | K56: =IFERROR(VLOOKUP('Speed Hump'!H56,Main!$A:$G,6,FALSE),"") -> 07-15-21 A | L56: =IFERROR(VLOOKUP('Speed Hump'!H56,Main!$A:$G,7,FALSE),"") -> 07-21-21 A | M56: Yes | N56: 2 | O56: Will be Installed 2021 | P56: 0 | Q56: DTE Gas - GRP | R56: Design - Planning | S56: Gas Main Renewal | T56: SEGRID2021NDet3 | W56: 2021 MGA Grid | X56: Multiple | Y56: Multiple | Z56: Multiple | AA56: 44197 | AB56: 44561 | AC56: Dan Sand | AD56: 734-444-5737 | AE56: daniel.sand@dteenergy.com | AI56: 5/5/2020 | AJ56: NAD 1983 | AK56: Detroit | AL56: North Detroit 3 (NDet3) | AM56: NDet3 | AN56: 9178519.1 | AO56: 14104.415 | AP56: 342.59675 | AQ56: =IFERROR(VLOOKUP(I56,Service!$B:$G,5,FALSE),"") -> 44459 | AR56: =IFERROR(VLOOKUP(I56,Service!$B:$G,6,FALSE),"") -> 44469 | AS56: =IFERROR(VLOOKUP(I56,Rest!$B:$G,5,FALSE),"") -> 44476 | AT56: =IFERROR(VLOOKUP(I56,Rest!$B:$G,6,FALSE),"") -> 44481
A57: 406 | B57: 1 | C57: 3142 | D57: 3004 | E57: Emery St | F57: Wexford St | G57: Binder St | H57: NDET3-5930 | I57: GRP-2021-ND3.102.1.2 | J57: =IFERROR(VLOOKUP(H57,[1]Sheet1!$A:$H,3,FALSE),"") -> Install Main - Emery St (Buffalo St & Caldwell St) | K57: =IFERROR(VLOOKUP('Speed Hump'!H57,Main!$A:$G,6,FALSE),"") -> 06-16-21 A | L57: =IFERROR(VLOOKUP('Speed Hump'!H57,Main!$A:$G,7,FALSE),"") -> 06-16-21 A | M57: Yes | N57: 1 | O57: Will be Installed 2021 | P57: 0 | Q57: DTE Gas - GRP | R57: Design - Planning | S57: Gas Main Renewal | T57: SEGRID2021NDet3 | W57: 2021 MGA Grid | X57: Multiple | Y57: Multiple | Z57: Multiple | AA57: 44197 | AB57: 44561 | AC57: Dan Sand | AD57: 734-444-5737 | AE57: daniel.sand@dteenergy.com | AI57: 5/5/2020 | AJ57: NAD 1983 | AK57: Detroit | AL57: North Detroit 3 (NDet3) | AM57: NDet3 | AN57: 9178519.1 | AO57: 14104.415 | AP57: 109.35164 | AQ57: =IFERROR(VLOOKUP(I57,Service!$B:$G,5,FALSE),"") | AR57: =IFERROR(VLOOKUP(I57,Service!$B:$G,6,FALSE),"") | AS57: =IFERROR(VLOOKUP(I57,Rest!$B:$G,5,FALSE),"") -> 44463 | AT57: =IFERROR(VLOOKUP(I57,Rest!$B:$G,6,FALSE),"") -> 44468
A58: 407 | B58: 1 | C58: 3143 | D58: 531 | E58: Amrad St | F58: Syracuse St | G58: Albany St | H58: NDET3-6920 | I58: GRP-2021-ND3.50.4.2 | J58: =IFERROR(VLOOKUP(H58,[1]Sheet1!$A:$H,3,FALSE),"") -> Install Main - Buffalo St (1) (Hamlet St & Amrad St) | K58: =IFERROR(VLOOKUP('Speed Hump'!H58,Main!$A:$G,6,FALSE),"") -> 05-14-21 A | L58: =IFERROR(VLOOKUP('Speed Hump'!H58,Main!$A:$G,7,FALSE),"") -> 05-14-21 A | M58: Yes | N58: 1 | O58: Will be Installed 2021 | P58: 0 | Q58: DTE Gas - GRP | R58: Design - Planning | S58: Gas Main Renewal | T58: SEGRID2021NDet3 | W58: 2021 MGA Grid | X58: Multiple | Y58: Multiple | Z58: Multiple | AA58: 44197 | AB58: 44561 | AC58: Dan Sand | AD58: 734-444-5737 | AE58: daniel.sand@dteenergy.com | AI58: 5/5/2020 | AJ58: NAD 1983 | AK58: Detroit | AL58: North Detroit 3 (NDet3) | AM58: NDet3 | AN58: 9178519.1 | AO58: 14104.415 | AP58: 119.56795 | AQ58: =IFERROR(VLOOKUP(I58,Service!$B:$G,5,FALSE),"") -> 08-12-21 A | AR58: =IFERROR(VLOOKUP(I58,Service!$B:$G,6,FALSE),"") -> 08-16-21 A | AS58: =IFERROR(VLOOKUP(I58,Rest!$B:$G,5,FALSE),"") -> 08-26-21 A | AT58: =IFERROR(VLOOKUP(I58,Rest!$B:$G,6,FALSE),"") -> 08-26-21 A
A59: 427 | B59: 1 | C59: 3311 | D59: 1494 | E59: Gallagher St | F59: E Outer Dr | G59: E Remington St | H59: NDET3-4235 | I59: GRP-2021-ND3.70.1.2 | J59: =IFERROR(VLOOKUP(H59,[1]Sheet1!$A:$H,3,FALSE),"") -> Elevate Main - Gallagher (1) (8 Mile Rd (M102) & E Outer Dr) | K59: =IFERROR(VLOOKUP('Speed Hump'!H59,Main!$A:$G,6,FALSE),"") -> 08-05-21 A | L59: =IFERROR(VLOOKUP('Speed Hump'!H59,Main!$A:$G,7,FALSE),"") -> 08-10-21 A | M59: Yes | N59: 2 | O59: Will be Installed 2021 | P59: 0 | Q59: DTE Gas - GRP | R59: Design - Planning | S59: Gas Main Renewal | T59: SEGRID2021NDet3 | W59: 2021 MGA Grid | X59: Multiple | Y59: Multiple | Z59: Multiple | AA59: 44197 | AB59: 44561 | AC59: Dan Sand | AD59: 734-444-5737 | AE59: daniel.sand@dteenergy.com | AI59: 5/5/2020 | AJ59: NAD 1983 | AK59: Detroit | AL59: North Detroit 3 (NDet3) | AM59: NDet3 | AN59: 9178519.1 | AO59: 14104.415 | AP59: 338.82169 | AQ59: =IFERROR(VLOOKUP(I59,Service!$B:$G,5,FALSE),"") -> 07-27-21 A | AR59: =IFERROR(VLOOKUP(I59,Service!$B:$G,6,FALSE),"") -> 08-10-21 A | AS59: =IFERROR(VLOOKUP(I59,Rest!$B:$G,5,FALSE),"") -> 08-26-21 A | AT59: =IFERROR(VLOOKUP(I59,Rest!$B:$G,6,FALSE),"") -> 08-26-21 A
A60: 437 | B60: 1 | C60: 3362 | D60: 240 | E60: Bringard Dr | F60: Hoyt St | G60: Anvil St | H60: RR1 5781 | I60: GRP-2021-RR.5.1.2 | J60: =IFERROR(VLOOKUP(H60,[1]Sheet1!$A:$H,3,FALSE),"") -> Install Main - Bringard (Reno & Regent) | K60: =IFERROR(VLOOKUP('Speed Hump'!H60,Main!$A:$G,6,FALSE),"") -> 04-14-21 A | L60: =IFERROR(VLOOKUP('Speed Hump'!H60,Main!$A:$G,7,FALSE),"") -> 04-29-21 A | M60: Yes | N60: 1 | O60: Will be Installed 2021 | P60: 0 | Q60: DTE Gas - GRP | R60: Design - Planning | S60: Gas Main Renewal | W60: 2021 Risk Rank | X60: Bringard | Y60: Regent | Z60: Reno | AA60: 44197 | AB60: 44561 | AC60: Dan Sand | AD60: 734-444-5737 | AE60: daniel.sand@dteenergy.com | AI60: 6/11/2020 | AJ60: NAD 1983 | AK60: Detroit | AL60: Bringard (Regent-Reno) | AN60: 77579.438 | AO60: 1714.8368 | AP60: 273.61221 | AQ60: =IFERROR(VLOOKUP(I60,Service!$B:$G,5,FALSE),"") -> 07-07-21 A | AR60: =IFERROR(VLOOKUP(I60,Service!$B:$G,6,FALSE),"") -> 07-20-21 A | AS60: =IFERROR(VLOOKUP(I60,Rest!$B:$G,5,FALSE),"") -> 08-26-21 A | AT60: =IFERROR(VLOOKUP(I60,Rest!$B:$G,6,FALSE),"") -> 44467
A61: 448 | B61: 1 | C61: 3500 | D61: 2049 | E61: E Lantz St | F61: Healy St | G61: Lamont St | H61: NDET3-7070 | I61: GRP-2021-ND3.97.3.2 | J61: =IFERROR(VLOOKUP(H61,[1]Sheet1!$A:$H,3,FALSE),"") -> Install Main - E Lantz Ave (1) (E Lantz Ave & E Lantz Ave) - Bloom Crossing | K61: =IFERROR(VLOOKUP('Speed Hump'!H61,Main!$A:$G,6,FALSE),"") -> 06-22-21 A | L61: =IFERROR(VLOOKUP('Speed Hump'!H61,Main!$A:$G,7,FALSE),"") -> 06-22-21 A | M61: Yes | N61: 1 | O61: Will be Installed 2021 | P61: 0 | Q61: DTE Gas - GRP | R61: Design - Planning | S61: Gas Main Renewal | T61: SEGRID2021NDet3 | W61: 2021 MGA Grid | X61: Multiple | Y61: Multiple | Z61: Multiple | AA61: 44197 | AB61: 44561 | AC61: Dan Sand | AD61: 734-444-5737 | AE61: daniel.sand@dteenergy.com | AI61: 5/5/2020 | AJ61: NAD 1983 | AK61: Detroit | AL61: North Detroit 3 (NDet3) | AM61: NDet3 | AN61: 9178519.1 | AO61: 14104.415 | AP61: 110.10287 | AQ61: =IFERROR(VLOOKUP(I61,Service!$B:$G,5,FALSE),"") | AR61: =IFERROR(VLOOKUP(I61,Service!$B:$G,6,FALSE),"") | AS61: =IFERROR(VLOOKUP(I61,Rest!$B:$G,5,FALSE),"") -> 44462 | AT61: =IFERROR(VLOOKUP(I61,Rest!$B:$G,6,FALSE),"") -> 44467
A62: 449 | B62: 1 | C62: 3502 | D62: 2050 | E62: Healy St | F62: E Lantz St | G62: E Outer Dr | H62: NDET3-5200 | I62: GRP-2021-ND3.35.1.2 | J62: =IFERROR(VLOOKUP(H62,[1]Sheet1!$A:$H,3,FALSE),"") -> Install Main - Healy St (E Outer Dr & ANO 7 Mile Rd) | K62: =IFERROR(VLOOKUP('Speed Hump'!H62,Main!$A:$G,6,FALSE),"") -> 07-08-21 A | L62: =IFERROR(VLOOKUP('Speed Hump'!H62,Main!$A:$G,7,FALSE),"") -> 07-20-21 A | M62: Yes | N62: 2 | O62: Will be Installed 2021 | P62: 0 | Q62: DTE Gas - GRP | R62: Design - Planning | S62: Gas Main Renewal | T62: SEGRID2021NDet3 | W62: 2021 MGA Grid | X62: Multiple | Y62: Multiple | Z62: Multiple | AA62: 44197 | AB62: 44561 | AC62: Dan Sand | AD62: 734-444-5737 | AE62: daniel.sand@dteenergy.com | AI62: 5/5/2020 | AJ62: NAD 1983 | AK62: Detroit | AL62: North Detroit 3 (NDet3) | AM62: NDet3 | AN62: 9178519.1 | AO62: 14104.415 | AP62: 342.49154 | AQ62: =IFERROR(VLOOKUP(I62,Service!$B:$G,5,FALSE),"") -> 44459 | AR62: =IFERROR(VLOOKUP(I62,Service!$B:$G,6,FALSE),"") -> 44473 | AS62: =IFERROR(VLOOKUP(I62,Rest!$B:$G,5,FALSE),"") -> 44480 | AT62: =IFERROR(VLOOKUP(I62,Rest!$B:$G,6,FALSE),"") -> 44483
A63: 450 | B63: 1 | C63: 3503 | D63: 2039 | E63: Lamont St | F63: E Lantz St | G63: E Outer Dr | H63: NDET3-5030 | I63: GRP-2021-ND3.38.1.2 | J63: =IFERROR(VLOOKUP(H63,[1]Sheet1!$A:$H,3,FALSE),"") -> Install Main - Lamont Ave (E Outer Dr & 7 Mile Rd) | K63: =IFERROR(VLOOKUP('Speed Hump'!H63,Main!$A:$G,6,FALSE),"") -> 07-08-21 A | L63: =IFERROR(VLOOKUP('Speed Hump'!H63,Main!$A:$G,7,FALSE),"") -> 07-13-21 A | M63: Yes | N63: 2 | O63: Will be Installed 2021 | P63: 0 | Q63: DTE Gas - GRP | R63: Design - Planning | S63: Gas Main Renewal | T63: SEGRID2021NDet3 | W63: 2021 MGA Grid | X63: Multiple | Y63: Multiple | Z63: Multiple | AA63: 44197 | AB63: 44561 | AC63: Dan Sand | AD63: 734-444-5737 | AE63: daniel.sand@dteenergy.com | AI63: 5/5/2020 | AJ63: NAD 1983 | AK63: Detroit | AL63: North Detroit 3 (NDet3) | AM63: NDet3 | AN63: 9178519.1 | AO63: 14104.415 | AP63: 341.71581 | AQ63: =IFERROR(VLOOKUP(I63,Service!$B:$G,5,FALSE),"") -> 44459 | AR63: =IFERROR(VLOOKUP(I63,Service!$B:$G,6,FALSE),"") -> 44473 | AS63: =IFERROR(VLOOKUP(I63,Rest!$B:$G,5,FALSE),"") -> 44477 | AT63: =IFERROR(VLOOKUP(I63,Rest!$B:$G,6,FALSE),"") -> 44482
A64: 482 | B64: 1 | C64: 3717 | D64: 1990 | E64: Buffalo St | F64: E Lantz St | G64: E Outer Dr | H64: NDET3-6115 | I64: GRP-2021-ND3.26.1.2 | J64: =IFERROR(VLOOKUP(H64,[1]Sheet1!$A:$H,3,FALSE),"") -> Install Main - Buffalo St (2) (E Outer Dr & ANO 7 Mile Rd) | K64: =IFERROR(VLOOKUP('Speed Hump'!H64,Main!$A:$G,6,FALSE),"") -> 06-09-21 A | L64: =IFERROR(VLOOKUP('Speed Hump'!H64,Main!$A:$G,7,FALSE),"") -> 06-15-21 A | M64: Yes | N64: 2 | O64: Will be Installed 2021 | P64: 0 | Q64: DTE Gas - GRP | R64: Design - Planning | S64: Gas Main Renewal | T64: SEGRID2021NDet3 | W64: 2021 MGA Grid | X64: Multiple | Y64: Multiple | Z64: Multiple | AA64: 44197 | AB64: 44561 | AC64: Dan Sand | AD64: 734-444-5737 | AE64: daniel.sand@dteenergy.com | AI64: 5/5/2020 | AJ64: NAD 1983 | AK64: Detroit | AL64: North Detroit 3 (NDet3) | AM64: NDet3 | AN64: 9178519.1 | AO64: 14104.415 | AP64: 341.32724 | AQ64: =IFERROR(VLOOKUP(I64,Service!$B:$G,5,FALSE),"") -> 44459 | AR64: =IFERROR(VLOOKUP(I64,Service!$B:$G,6,FALSE),"") -> 44474 | AS64: =IFERROR(VLOOKUP(I64,Rest!$B:$G,5,FALSE),"") -> 44481 | AT64: =IFERROR(VLOOKUP(I64,Rest!$B:$G,6,FALSE),"") -> 44484
A65: 484 | B65: 1 | C65: 3719 | D65: 979 | E65: Revere St | F65: E Remington St | G65: E Winchester Ave | H65: NDET3-6945 | I65: GRP-2021-ND3.83.1.2 | J65: =IFERROR(VLOOKUP(H65,[1]Sheet1!$A:$H,3,FALSE),"") -> Elevate Main - Revere Ave (2) (E Outer Dr & 7 Mile Rd) | K65: =IFERROR(VLOOKUP('Speed Hump'!H65,Main!$A:$G,6,FALSE),"") -> 44474 | L65: =IFERROR(VLOOKUP('Speed Hump'!H65,Main!$A:$G,7,FALSE),"") -> 44477 | M65: Yes | N65: 2 | O65: Will be Installed 2021 | P65: 0 | Q65: DTE Gas - GRP | R65: Design - Planning | S65: Gas Main Renewal | T65: SEGRID2021NDet3 | W65: 2021 MGA Grid | X65: Multiple | Y65: Multiple | Z65: Multiple | AA65: 44197 | AB65: 44561 | AC65: Dan Sand | AD65: 734-444-5737 | AE65: daniel.sand@dteenergy.com | AI65: 5/5/2020 | AJ65: NAD 1983 | AK65: Detroit | AL65: North Detroit 3 (NDet3) | AM65: NDet3 | AN65: 9178519.1 | AO65: 14104.415 | AP65: 371.28529 | AQ65: =IFERROR(VLOOKUP(I65,Service!$B:$G,5,FALSE),"") -> 44460 | AR65: =IFERROR(VLOOKUP(I65,Service!$B:$G,6,FALSE),"") -> 44473 | AS65: =IFERROR(VLOOKUP(I65,Rest!$B:$G,5,FALSE),"") -> 44484 | AT65: =IFERROR(VLOOKUP(I65,Rest!$B:$G,6,FALSE),"") -> 44489
A66: 486 | B66: 1 | C66: 3758 | D66: 411 | E66: Syracuse St | F66: Hamlet St | G66: 8 Mile Rd | H66: NDET3-6385 | I66: GRP-2021-ND3.62.1.2 | J66: =IFERROR(VLOOKUP(H66,[1]Sheet1!$A:$H,3,FALSE),"") -> Install Main - Syracuse Ave (1) (8 Mile Rd (M102) & Hamlet St) | K66: =IFERROR(VLOOKUP('Speed Hump'!H66,Main!$A:$G,6,FALSE),"") -> 05-13-21 A | L66: =IFERROR(VLOOKUP('Speed Hump'!H66,Main!$A:$G,7,FALSE),"") -> 05-13-21 A | M66: Yes | N66: 1 | O66: Will be Installed 2021 | P66: 0 | Q66: DTE Gas - GRP | R66: Design - Planning | S66: Gas Main Renewal | T66: SEGRID2021NDet3 | W66: 2021 MGA Grid | X66: Multiple | Y66: Multiple | Z66: Multiple | AA66: 44197 | AB66: 44561 | AC66: Dan Sand | AD66: 734-444-5737 | AE66: daniel.sand@dteenergy.com | AI66: 5/5/2020 | AJ66: NAD 1983 | AK66: Detroit | AL66: North Detroit 3 (NDet3) | AM66: NDet3 | AN66: 9178519.1 | AO66: 14104.415 | AP66: 223.81427 | AQ66: =IFERROR(VLOOKUP(I66,Service!$B:$G,5,FALSE),"") -> 07-19-21 A | AR66: =IFERROR(VLOOKUP(I66,Service!$B:$G,6,FALSE),"") -> 07-20-21 A | AS66: =IFERROR(VLOOKUP(I66,Rest!$B:$G,5,FALSE),"") -> 44462 | AT66: =IFERROR(VLOOKUP(I66,Rest!$B:$G,6,FALSE),"") -> 44467
A67: 492 | B67: 1 | C67: 3806 | D67: 3989 | E67: Filer St | F67: E Robinwood St | G67: E 7 Mile Rd | H67: NDET3-6505 | I67: GRP-2021-ND3.18.1.2 | J67: =IFERROR(VLOOKUP(H67,[1]Sheet1!$A:$H,3,FALSE),"") -> Install Main - Filer Ave (2) (Emery St & ANO 7 Mile Rd) | K67: =IFERROR(VLOOKUP('Speed Hump'!H67,Main!$A:$G,6,FALSE),"") -> 06-03-21 A | L67: =IFERROR(VLOOKUP('Speed Hump'!H67,Main!$A:$G,7,FALSE),"") -> 06-03-21 A | M67: Yes | N67: 1 | O67: Will be Installed 2021 | P67: 0 | Q67: DTE Gas - GRP | R67: Design - Planning | S67: Gas Main Renewal | T67: SEGRID2021NDet3 | W67: 2021 MGA Grid | X67: Multiple | Y67: Multiple | Z67: Multiple | AA67: 44197 | AB67: 44561 | AC67: Dan Sand | AD67: 734-444-5737 | AE67: daniel.sand@dteenergy.com | AI67: 5/5/2020 | AJ67: NAD 1983 | AK67: Detroit | AL67: North Detroit 3 (NDet3) | AM67: NDet3 | AN67: 9178519.1 | AO67: 14104.415 | AP67: 273.1008 | AQ67: =IFERROR(VLOOKUP(I67,Service!$B:$G,5,FALSE),"") -> 44459 | AR67: =IFERROR(VLOOKUP(I67,Service!$B:$G,6,FALSE),"") -> 44460 | AS67: =IFERROR(VLOOKUP(I67,Rest!$B:$G,5,FALSE),"") -> 44467 | AT67: =IFERROR(VLOOKUP(I67,Rest!$B:$G,6,FALSE),"") -> 44470
A68: 500 | B68: 1 | C68: 3862 | D68: 2088 | E68: E Lantz St | F68: Shields St | G68: Justine St | H68: NDET3-7070 | I68: GRP-2021-ND3.97.3.2 | J68: =IFERROR(VLOOKUP(H68,[1]Sheet1!$A:$H,3,FALSE),"") -> Install Main - E Lantz Ave (1) (E Lantz Ave & E Lantz Ave) - Bloom Crossing | K68: =IFERROR(VLOOKUP('Speed Hump'!H68,Main!$A:$G,6,FALSE),"") -> 06-22-21 A | L68: =IFERROR(VLOOKUP('Speed Hump'!H68,Main!$A:$G,7,FALSE),"") -> 06-22-21 A | M68: Yes | N68: 1 | O68: Will be Installed 2021 | P68: 0 | Q68: DTE Gas - GRP | R68: Design - Planning | S68: Gas Main Renewal | T68: SEGRID2021NDet3 | W68: 2021 MGA Grid | X68: Multiple | Y68: Multiple | Z68: Multiple | AA68: 44197 | AB68: 44561 | AC68: Dan Sand | AD68: 734-444-5737 | AE68: daniel.sand@dteenergy.com | AI68: 5/5/2020 | AJ68: NAD 1983 | AK68: Detroit | AL68: North Detroit 3 (NDet3) | AM68: NDet3 | AN68: 9178519.1 | AO68: 14104.415 | AP68: 114.70389 | AQ68: =IFERROR(VLOOKUP(I68,Service!$B:$G,5,FALSE),"") | AR68: =IFERROR(VLOOKUP(I68,Service!$B:$G,6,FALSE),"") | AS68: =IFERROR(VLOOKUP(I68,Rest!$B:$G,5,FALSE),"") -> 44462 | AT68: =IFERROR(VLOOKUP(I68,Rest!$B:$G,6,FALSE),"") -> 44467
A69: 506 | B69: 1 | C69: 3893 | D69: 3455 | E69: Gable St | F69: E 7 Mile Rd | G69: Emery St | H69: NDET3-5010 | I69: GRP-2021-ND3.19.1.2 | J69: =IFERROR(VLOOKUP(H69,[1]Sheet1!$A:$H,3,FALSE),"") -> Install Main - Gable Ave (E Outer Dr & ANO 7 Mile Rd) | K69: =IFERROR(VLOOKUP('Speed Hump'!H69,Main!$A:$G,6,FALSE),"") -> 05-24-21 A | L69: =IFERROR(VLOOKUP('Speed Hump'!H69,Main!$A:$G,7,FALSE),"") -> 06-02-21 A | M69: Yes | N69: 2 | O69: Will be Installed 2021 | P69: 0 | Q69: DTE Gas - GRP | R69: Design - Planning | S69: Gas Main Renewal | T69: SEGRID2021NDet3 | W69: 2021 MGA Grid | X69: Multiple | Y69: Multiple | Z69: Multiple | AA69: 44197 | AB69: 44561 | AC69: Dan Sand | AD69: 734-444-5737 | AE69: daniel.sand@dteenergy.com | AI69: 5/5/2020 | AJ69: NAD 1983 | AK69: Detroit | AL69: North Detroit 3 (NDet3) | AM69: NDet3 | AN69: 9178519.1 | AO69: 14104.415 | AP69: 379.2473 | AQ69: =IFERROR(VLOOKUP(I69,Service!$B:$G,5,FALSE),"") -> 44459 | AR69: =IFERROR(VLOOKUP(I69,Service!$B:$G,6,FALSE),"") -> 44473 | AS69: =IFERROR(VLOOKUP(I69,Rest!$B:$G,5,FALSE),"") -> 44480 | AT69: =IFERROR(VLOOKUP(I69,Rest!$B:$G,6,FALSE),"") -> 44483
A70: 509 | B70: 1 | C70: 3907 | D70: 3533 | E70: Bloom St | F70: E 7 Mile Rd | G70: Emery St | H70: NDET3-6365 | I70: GRP-2021-ND3.49.3.2 | J70: =IFERROR(VLOOKUP(H70,[1]Sheet1!$A:$H,3,FALSE),"") -> Install Main - Bloom St (1) (Hamlet St & E Outer Dr) | K70: =IFERROR(VLOOKUP('Speed Hump'!H70,Main!$A:$G,6,FALSE),"") -> 05-06-21 A | L70: =IFERROR(VLOOKUP('Speed Hump'!H70,Main!$A:$G,7,FALSE),"") -> 05-11-21 A | M70: Yes | N70: 2 | O70: Will be Installed 2021 | P70: 0 | Q70: DTE Gas - GRP | R70: Design - Planning | S70: Gas Main Renewal | T70: SEGRID2021NDet3 | W70: 2021 MGA Grid | X70: Multiple | Y70: Multiple | Z70: Multiple | AA70: 44197 | AB70: 44561 | AC70: Dan Sand | AD70: 734-444-5737 | AE70: daniel.sand@dteenergy.com | AI70: 5/5/2020 | AJ70: NAD 1983 | AK70: Detroit | AL70: North Detroit 3 (NDet3) | AM70: NDet3 | AN70: 9178519.1 | AO70: 14104.415 | AP70: 382.36142 | AQ70: =IFERROR(VLOOKUP(I70,Service!$B:$G,5,FALSE),"") -> 08-10-21 A | AR70: =IFERROR(VLOOKUP(I70,Service!$B:$G,6,FALSE),"") -> 08-16-21 A | AS70: =IFERROR(VLOOKUP(I70,Rest!$B:$G,5,FALSE),"") -> 09-07-21 A | AT70: =IFERROR(VLOOKUP(I70,Rest!$B:$G,6,FALSE),"") -> 44467
A71: 514 | B71: 1 | C71: 3978 | D71: 3617 | E71: Healy St | F71: E 7 Mile Rd | G71: Emery St | H71: NDET3-5200 | I71: GRP-2021-ND3.35.1.2 | J71: =IFERROR(VLOOKUP(H71,[1]Sheet1!$A:$H,3,FALSE),"") -> Install Main - Healy St (E Outer Dr & ANO 7 Mile Rd) | K71: =IFERROR(VLOOKUP('Speed Hump'!H71,Main!$A:$G,6,FALSE),"") -> 07-08-21 A | L71: =IFERROR(VLOOKUP('Speed Hump'!H71,Main!$A:$G,7,FALSE),"") -> 07-20-21 A | M71: Yes | N71: 2 | O71: Will be Installed 2021 | P71: 0 | Q71: DTE Gas - GRP | R71: Design - Planning | S71: Gas Main Renewal | T71: SEGRID2021NDet3 | W71: 2021 MGA Grid | X71: Multiple | Y71: Multiple | Z71: Multiple | AA71: 44197 | AB71: 44561 | AC71: Dan Sand | AD71: 734-444-5737 | AE71: daniel.sand@dteenergy.com | AI71: 5/5/2020 | AJ71: NAD 1983 | AK71: Detroit | AL71: North Detroit 3 (NDet3) | AM71: NDet3 | AN71: 9178519.1 | AO71: 14104.415 | AP71: 386.55373 | AQ71: =IFERROR(VLOOKUP(I71,Service!$B:$G,5,FALSE),"") -> 44459 | AR71: =IFERROR(VLOOKUP(I71,Service!$B:$G,6,FALSE),"") -> 44473 | AS71: =IFERROR(VLOOKUP(I71,Rest!$B:$G,5,FALSE),"") -> 44480 | AT71: =IFERROR(VLOOKUP(I71,Rest!$B:$G,6,FALSE),"") -> 44483
A72: 518 | B72: 1 | C72: 3990 | D72: 515 | E72: Revere St | F72: E Winchester Ave | G72: 8 Mile Rd | H72: NDET3-7275 | I72: GRP-2021-ND3.82.1.2 | J72: =IFERROR(VLOOKUP(H72,[1]Sheet1!$A:$H,3,FALSE),"") -> Elevate Main - Revere Ave (1) (8 Mile Rd (M102) & E Outer Dr) | K72: =IFERROR(VLOOKUP('Speed Hump'!H72,Main!$A:$G,6,FALSE),"") -> 07-21-21 A | L72: =IFERROR(VLOOKUP('Speed Hump'!H72,Main!$A:$G,7,FALSE),"") -> 07-27-21 A | M72: Yes | N72: 1 | O72: Will be Installed 2021 | P72: 0 | Q72: DTE Gas - GRP | R72: Design - Planning | S72: Gas Main Renewal | T72: SEGRID2021NDet3 | W72: 2021 MGA Grid | X72: Multiple | Y72: Multiple | Z72: Multiple | AA72: 44197 | AB72: 44561 | AC72: Dan Sand | AD72: 734-444-5737 | AE72: daniel.sand@dteenergy.com | AI72: 5/5/2020 | AJ72: NAD 1983 | AK72: Detroit | AL72: North Detroit 3 (NDet3) | AM72: NDet3 | AN72: 9178519.1 | AO72: 14104.415 | AP72: 312.39486 | AQ72: =IFERROR(VLOOKUP(I72,Service!$B:$G,5,FALSE),"") -> 07-26-21 A | AR72: =IFERROR(VLOOKUP(I72,Service!$B:$G,6,FALSE),"") -> 07-27-21 A | AS72: =IFERROR(VLOOKUP(I72,Rest!$B:$G,5,FALSE),"") -> 07-23-21 A | AT72: =IFERROR(VLOOKUP(I72,Rest!$B:$G,6,FALSE),"") -> 08-13-21 A
... A83: 623 | B83: 1 | C83: 4702 | D83: 3437 | E83: Saint Louis St | F83: E 7 Mile Rd | G83: Emery St | H83: NDET3-4825 | I83: GRP-2021-ND3.22.1.2 | J83: =IFERROR(VLOOKUP(H83,[1]Sheet1!$A:$H,3,FALSE),"") -> Install Main - St Louis Ave (E Outer Dr & ANO 7 Mile Rd) | K83: =IFERROR(VLOOKUP('Speed Hump'!H83,Main!$A:$G,6,FALSE),"") -> 05-18-21 A | L83: =IFERROR(VLOOKUP('Speed Hump'!H83,Main!$A:$G,7,FALSE),"") -> 05-20-21 A | M83: Yes | N83: 1 | O83: Will be Installed 2021 | P83: 0 | Q83: DTE Gas - GRP | R83: Design - Planning | S83: Gas Main Renewal | T83: SEGRID2021NDet3 | W83: 2021 MGA Grid | X83: Multiple | Y83: Multiple | Z83: Multiple | AA83: 44197 | AB83: 44561 | AC83: Dan Sand | AD83: 734-444-5737 | AE83: daniel.sand@dteenergy.com | AI83: 5/5/2020 | AJ83: NAD 1983 | AK83: Detroit | AL83: North Detroit 3 (NDet3) | AM83: NDet3 | AN83: 9178519.1 | AO83: 14104.415 | AP83: 305.81737 | AQ83: =IFERROR(VLOOKUP(I83,Service!$B:$G,5,FALSE),"") -> 07-26-21 A | AR83: =IFERROR(VLOOKUP(I83,Service!$B:$G,6,FALSE),"") -> 09-01-21 A | AS83: =IFERROR(VLOOKUP(I83,Rest!$B:$G,5,FALSE),"") -> 44463 | AT83: =IFERROR(VLOOKUP(I83,Rest!$B:$G,6,FALSE),"") -> 44468
A84: 803 | B84: 1 | C84: 6166 | D84: 9396 | E84: Elmo St | F84: Nashville St | G84: Engleside St | H84: DNE IN P6 LAYOUT | J84: =IFERROR(VLOOKUP(H84,[1]Sheet1!$A:$H,3,FALSE),"") | K84: =IFERROR(VLOOKUP('Speed Hump'!H84,Main!$A:$G,6,FALSE),"") | L84: =IFERROR(VLOOKUP('Speed Hump'!H84,Main!$A:$G,7,FALSE),"") | M84: Yes | N84: 1 | O84: Will be Installed 2021 | P84: 0 | Q84: DTE Gas - GRP | R84: Design - Planning | S84: Gas Main Renewal | W84: 2021 Risk Rank | X84: Engleside | Y84: Conner | Z84: Gunston | AA84: 44197 | AB84: 44561 | AC84: Dan Sand | AD84: 734-444-5737 | AE84: daniel.sand@dteenergy.com | AI84: 6/11/2020 | AJ84: NAD 1983 | AK84: Detroit | AL84: Engleside (Connor-Gunston) | AN84: 97941.264 | AO84: 1888.7879 | AP84: 138.46162 | AQ84: =IFERROR(VLOOKUP(I84,Service!$B:$G,5,FALSE),"") | AR84: =IFERROR(VLOOKUP(I84,Service!$B:$G,6,FALSE),"") | AS84: =IFERROR(VLOOKUP(I84,Rest!$B:$G,5,FALSE),"") | AT84: =IFERROR(VLOOKUP(I84,Rest!$B:$G,6,FALSE),"")
A85: 830 | B85: 1 | C85: 6419 | D85: 9039 | E85: Kenmoor St | F85: Algonac St | G85: Elmo St | H85: DNE IN P6 LAYOUT | J85: =IFERROR(VLOOKUP(H85,[1]Sheet1!$A:$H,3,FALSE),"") | K85: =IFERROR(VLOOKUP('Speed Hump'!H85,Main!$A:$G,6,FALSE),"") | L85: =IFERROR(VLOOKUP('Speed Hump'!H85,Main!$A:$G,7,FALSE),"") | M85: Yes | N85: 1 | O85: Will be Installed 2021 | P85: 0 | Q85: DTE Gas - GRP | R85: Design - Planning | S85: Gas Main Renewal | W85: 2021 Risk Rank | X85: Kenmoor | Y85: Conner | Z85: Gunston | AA85: 44197 | AB85: 44561 | AC85: Dan Sand | AD85: 734-444-5737 | AE85: daniel.sand@dteenergy.com | AI85: 6/11/2020 | AJ85: NAD 1983 | AK85: Detroit | AL85: Kenmoor (Conner-Gunston) | AN85: 82696.722 | AO85: 1879.512 | AP85: 272.40619 | AQ85: =IFERROR(VLOOKUP(I85,Service!$B:$G,5,FALSE),"") | AR85: =IFERROR(VLOOKUP(I85,Service!$B:$G,6,FALSE),"") | AS85: =IFERROR(VLOOKUP(I85,Rest!$B:$G,5,FALSE),"") | AT85: =IFERROR(VLOOKUP(I85,Rest!$B:$G,6,FALSE),"")
A86: 840 | B86: 1 | C86: 6481 | D86: 6608 | E86: Mayfield St | F86: Hayes St | G86: Kelly Rd | H86: RR1 5941 | I86: GRP-2021-RR.7.1.2 | J86: =IFERROR(VLOOKUP(H86,[1]Sheet1!$A:$H,3,FALSE),"") -> Install Main - Mayfield (Chalmers & Kelly) | K86: =IFERROR(VLOOKUP('Speed Hump'!H86,Main!$A:$G,6,FALSE),"") -> 44459 | L86: =IFERROR(VLOOKUP('Speed Hump'!H86,Main!$A:$G,7,FALSE),"") -> 44481 | M86: Yes | N86: 1 | O86: Will be Installed 2021 | P86: 0 | Q86: DTE Gas - GRP | R86: Design - Planning | S86: Gas Main Renewal | W86: 2021 Risk Rank | X86: Mayfield | Y86: Kelly | Z86: Chalmers | AA86: 44197 | AB86: 44561 | AC86: Dan Sand | AD86: 734-444-5737 | AE86: daniel.sand@dteenergy.com | AI86: 6/11/2020 | AJ86: NAD 1983 | AK86: Detroit | AL86: Mayfield (Kelly-Chalmers) | AN86: 150630.1 | AO86: 2971.3446 | AP86: 304.91834 | AQ86: =IFERROR(VLOOKUP(I86,Service!$B:$G,5,FALSE),"") -> 44482 | AR86: =IFERROR(VLOOKUP(I86,Service!$B:$G,6,FALSE),"") -> 44489 | AS86: =IFERROR(VLOOKUP(I86,Rest!$B:$G,5,FALSE),"") -> 44495 | AT86: =IFERROR(VLOOKUP(I86,Rest!$B:$G,6,FALSE),"") -> 44498
A87: 851 | B87: 1 | C87: 6582 | D87: 9404 | E87: Engleside St | F87: Algonac St | G87: Elmo St | H87: RR1 8841 | I87: GRP-2021-RR.45.1.2 | J87: =IFERROR(VLOOKUP(H87,[1]Sheet1!$A:$H,3,FALSE),"") -> Install Main - Engleside (Conner & Gunston) | K87: =IFERROR(VLOOKUP('Speed Hump'!H87,Main!$A:$G,6,FALSE),"") -> 04-23-21 A | L87: =IFERROR(VLOOKUP('Speed Hump'!H87,Main!$A:$G,7,FALSE),"") -> 04-30-21 A | M87: Yes | N87: 1 | O87: Will be Installed 2021 | P87: 0 | Q87: DTE Gas - GRP | R87: Design - Planning | S87: Gas Main Renewal | W87: 2021 Risk Rank | X87: Engleside | Y87: Conner | Z87: Gunston | AA87: 44197 | AB87: 44561 | AC87: Dan Sand | AD87: 734-444-5737 | AE87: daniel.sand@dteenergy.com | AI87: 6/11/2020 | AJ87: NAD 1983 | AK87: Detroit | AL87: Engleside (Connor-Gunston) | AN87: 97941.264 | AO87: 1888.7879 | AP87: 272.42238 | AQ87: =IFERROR(VLOOKUP(I87,Service!$B:$G,5,FALSE),"") -> 08-30-21 A | AR87: =IFERROR(VLOOKUP(I87,Service!$B:$G,6,FALSE),"") -> 09-01-21 A | AS87: =IFERROR(VLOOKUP(I87,Rest!$B:$G,5,FALSE),"") -> 09-16-21 A | AT87: =IFERROR(VLOOKUP(I87,Rest!$B:$G,6,FALSE),"") -> 09-16-21 A
A88: 863 | B88: 1 | C88: 6701 | D88: 9040 | E88: Algonac St | F88: Kenmoor St | G88: Kennebec St | H88: DNE IN P6 LAYOUT | J88: =IFERROR(VLOOKUP(H88,[1]Sheet1!$A:$H,3,FALSE),"") | K88: =IFERROR(VLOOKUP('Speed Hump'!H88,Main!$A:$G,6,FALSE),"") | L88: =IFERROR(VLOOKUP('Speed Hump'!H88,Main!$A:$G,7,FALSE),"") | M88: Yes | N88: 1 | O88: Will be Installed 2021 | P88: 0 | Q88: DTE Gas - GRP | R88: Design - Planning | S88: Gas Main Renewal | W88: 2021 Risk Rank | X88: Kenmoor | Y88: Conner | Z88: Gunston | AA88: 44197 | AB88: 44561 | AC88: Dan Sand | AD88: 734-444-5737 | AE88: daniel.sand@dteenergy.com | AI88: 6/11/2020 | AJ88: NAD 1983 | AK88: Detroit | AL88: Kenmoor (Conner-Gunston) | AN88: 82696.722 | AO88: 1879.512 | AP88: 130.19336 | AQ88: =IFERROR(VLOOKUP(I88,Service!$B:$G,5,FALSE),"") | AR88: =IFERROR(VLOOKUP(I88,Service!$B:$G,6,FALSE),"") | AS88: =IFERROR(VLOOKUP(I88,Rest!$B:$G,5,FALSE),"") | AT88: =IFERROR(VLOOKUP(I88,Rest!$B:$G,6,FALSE),"")
A89: 987 | B89: 1 | C89: 7801 | D89: 6399 | E89: Iowa St | F89: Sherwood St | G89: Carrie St | H89: RR1 5861 | I89: GRP-2021-RR.6.1.2 | J89: =IFERROR(VLOOKUP(H89,[1]Sheet1!$A:$H,3,FALSE),"") -> Install Main - Iowa (Sherwood & School) | K89: =IFERROR(VLOOKUP('Speed Hump'!H89,Main!$A:$G,6,FALSE),"") -> 05-17-21 A | L89: =IFERROR(VLOOKUP('Speed Hump'!H89,Main!$A:$G,7,FALSE),"") -> 06-14-21 A | M89: Yes | N89: 2 | O89: Will be Installed 2021 | P89: 0 | Q89: DTE Gas - GRP | R89: Design - Planning | S89: Gas Main Renewal | W89: 2021 Risk Rank | X89: Iowa | Y89: Sherwood | Z89: School | AA89: 44197 | AB89: 44561 | AC89: Dan Sand | AD89: 734-444-5737 | AE89: daniel.sand@dteenergy.com | AI89: 6/11/2020 | AJ89: NAD 1983 | AK89: Detroit | AL89: Iowa (Sherwood-School) | AN89: 78154.325 | AO89: 1921.2982 | AP89: 386.09011 | AQ89: =IFERROR(VLOOKUP(I89,Service!$B:$G,5,FALSE),"") -> 08-02-21 A | AR89: =IFERROR(VLOOKUP(I89,Service!$B:$G,6,FALSE),"") -> 08-16-21 A | AS89: =IFERROR(VLOOKUP(I89,Rest!$B:$G,5,FALSE),"") -> 09-14-21 A | AT89: =IFERROR(VLOOKUP(I89,Rest!$B:$G,6,FALSE),"") -> 09-14-21 A
A90: 1047 | B90: 1 | C90: 8276 | D90: 6593 | E90: Mayfield St | F90: Queen St | G90: Hayes St | H90: RR1 5941 | I90: GRP-2021-RR.7.1.2 | J90: =IFERROR(VLOOKUP(H90,[1]Sheet1!$A:$H,3,FALSE),"") -> Install Main - Mayfield (Chalmers & Kelly) | K90: =IFERROR(VLOOKUP('Speed Hump'!H90,Main!$A:$G,6,FALSE),"") -> 44459 | L90: =IFERROR(VLOOKUP('Speed Hump'!H90,Main!$A:$G,7,FALSE),"") -> 44481 | M90: Yes | N90: 1 | O90: Will be Installed 2021 | P90: 0 | Q90: DTE Gas - GRP | R90: Design - Planning | S90: Gas Main Renewal | W90: 2021 Risk Rank | X90: Mayfield | Y90: Kelly | Z90: Chalmers | AA90: 44197 | AB90: 44561 | AC90: Dan Sand | AD90: 734-444-5737 | AE90: daniel.sand@dteenergy.com | AI90: 6/11/2020 | AJ90: NAD 1983 | AK90: Detroit | AL90: Mayfield (Kelly-Chalmers) | AN90: 150630.1 | AO90: 2971.3446 | AP90: 272.85386 | AQ90: =IFERROR(VLOOKUP(I90,Service!$B:$G,5,FALSE),"") -> 44482 | AR90: =IFERROR(VLOOKUP(I90,Service!$B:$G,6,FALSE),"") -> 44489 | AS90: =IFERROR(VLOOKUP(I90,Rest!$B:$G,5,FALSE),"") -> 44495 | AT90: =IFERROR(VLOOKUP(I90,Rest!$B:$G,6,FALSE),"") -> 44498
A91: 1076 | B91: 1 | C91: 8513 | D91: 9442 | E91: Kenmoor St | F91: Conner St | G91: Algonac St | H91: DNE IN P6 LAYOUT | J91: =IFERROR(VLOOKUP(H91,[1]Sheet1!$A:$H,3,FALSE),"") | K91: =IFERROR(VLOOKUP('Speed Hump'!H91,Main!$A:$G,6,FALSE),"") | L91: =IFERROR(VLOOKUP('Speed Hump'!H91,Main!$A:$G,7,FALSE),"") | M91: Yes | N91: 1 | O91: Will be Installed 2021 | P91: 0 | Q91: DTE Gas - GRP | R91: Design - Planning | S91: Gas Main Renewal | W91: 2021 Risk Rank | X91: Kenmoor | Y91: Conner | Z91: Gunston | AA91: 44197 | AB91: 44561 | AC91: Dan Sand | AD91: 734-444-5737 | AE91: daniel.sand@dteenergy.com | AI91: 6/11/2020 | AJ91: NAD 1983 | AK91: Detroit | AL91: Kenmoor (Conner-Gunston) | AN91: 82696.722 | AO91: 1879.512 | AP91: 292.73612 | AQ91: =IFERROR(VLOOKUP(I91,Service!$B:$G,5,FALSE),"") | AR91: =IFERROR(VLOOKUP(I91,Service!$B:$G,6,FALSE),"") | AS91: =IFERROR(VLOOKUP(I91,Rest!$B:$G,5,FALSE),"") | AT91: =IFERROR(VLOOKUP(I91,Rest!$B:$G,6,FALSE),"")
A92: 1103 | B92: 1 | C92: 8700 | D92: 8833 | E92: Elmo St | F92: Kenmoor St | G92: Kennebec St | H92: DNE IN P6 LAYOUT | J92: =IFERROR(VLOOKUP(H92,[1]Sheet1!$A:$H,3,FALSE),"") | K92: =IFERROR(VLOOKUP('Speed Hump'!H92,Main!$A:$G,6,FALSE),"") | L92: =IFERROR(VLOOKUP('Speed Hump'!H92,Main!$A:$G,7,FALSE),"") | M92: Yes | N92: 1 | O92: Will be Installed 2021 | P92: 0 | Q92: DTE Gas - GRP | R92: Design - Planning | S92: Gas Main Renewal | W92: 2021 Risk Rank | X92: Kenmoor | Y92: Conner | Z92: Gunston | AA92: 44197 | AB92: 44561 | AC92: Dan Sand | AD92: 734-444-5737 | AE92: daniel.sand@dteenergy.com | AI92: 6/11/2020 | AJ92: NAD 1983 | AK92: Detroit | AL92: Kenmoor (Conner-Gunston) | AN92: 82696.722 | AO92: 1879.512 | AP92: 131.69713 | AQ92: =IFERROR(VLOOKUP(I92,Service!$B:$G,5,FALSE),"") | AR92: =IFERROR(VLOOKUP(I92,Service!$B:$G,6,FALSE),"") | AS92: =IFERROR(VLOOKUP(I92,Rest!$B:$G,5,FALSE),"") | AT92: =IFERROR(VLOOKUP(I92,Rest!$B:$G,6,FALSE),"")
A93: 1145 | B93: 1 | C93: 9080 | D93: 8832 | E93: Kenmoor St | F93: Elmo St | G93: Gunston St | H93: DNE IN P6 LAYOUT | J93: =IFERROR(VLOOKUP(H93,[1]Sheet1!$A:$H,3,FALSE),"") | K93: =IFERROR(VLOOKUP('Speed Hump'!H93,Main!$A:$G,6,FALSE),"") | L93: =IFERROR(VLOOKUP('Speed Hump'!H93,Main!$A:$G,7,FALSE),"") | M93: Yes | N93: 2 | O93: Will be Installed 2021 | P93: 0 | Q93: DTE Gas - GRP | R93: Design - Planning | S93: Gas Main Renewal | W93: 2021 Risk Rank | X93: Kenmoor | Y93: Conner | Z93: Gunston | AA93: 44197 | AB93: 44561 | AC93: Dan Sand | AD93: 734-444-5737 | AE93: daniel.sand@dteenergy.com | AI93: 6/11/2020 | AJ93: NAD 1983 | AK93: Detroit | AL93: Kenmoor (Conner-Gunston) | AN93: 82696.722 | AO93: 1879.512 | AP93: 413.47969 | AQ93: =IFERROR(VLOOKUP(I93,Service!$B:$G,5,FALSE),"") | AR93: =IFERROR(VLOOKUP(I93,Service!$B:$G,6,FALSE),"") | AS93: =IFERROR(VLOOKUP(I93,Rest!$B:$G,5,FALSE),"") | AT93: =IFERROR(VLOOKUP(I93,Rest!$B:$G,6,FALSE),"")
A94: 1148 | B94: 1 | C94: 9092 | D94: 9113 | E94: College St | F94: Gunston St | G94: Bradford St | H94: RR1 10231 | I94: GRP-2021-RR.46.2.2 | J94: =IFERROR(VLOOKUP(H94,[1]Sheet1!$A:$H,3,FALSE),"") -> Install Main - College (Gunston & Devon) | K94: =IFERROR(VLOOKUP('Speed Hump'!H94,Main!$A:$G,6,FALSE),"") -> 05-25-21 A | L94: =IFERROR(VLOOKUP('Speed Hump'!H94,Main!$A:$G,7,FALSE),"") -> 05-25-21 A | M94: Yes | N94: 2 | O94: Will be Installed 2021 | P94: 0 | Q94: DTE Gas - GRP | R94: Design - Planning | S94: Gas Main Renewal | W94: 2021 Risk Rank | X94: College | Y94: Connor | Z94: Devon | AA94: 44197 | AB94: 44561 | AC94: Dan Sand | AD94: 734-444-5737 | AE94: daniel.sand@dteenergy.com | AI94: 6/11/2020 | AJ94: NAD 1983 | AK94: Detroit | AL94: College (Connor-Devon) | AN94: 172995.46 | AO94: 3346.8888 | AP94: 400.29816 | AQ94: =IFERROR(VLOOKUP(I94,Service!$B:$G,5,FALSE),"") -> 08-30-21 A | AR94: =IFERROR(VLOOKUP(I94,Service!$B:$G,6,FALSE),"") -> 09-01-21 A | AS94: =IFERROR(VLOOKUP(I94,Rest!$B:$G,5,FALSE),"") -> 09-07-21 A | AT94: =IFERROR(VLOOKUP(I94,Rest!$B:$G,6,FALSE),"") -> 44467
A95: 1182 | B95: 1 | C95: 9351 | D95: 9024 | E95: Engleside St | F95: Elmo St | G95: Gunston St | H95: RR1 8841 | I95: GRP-2021-RR.45.1.2 | J95: =IFERROR(VLOOKUP(H95,[1]Sheet1!$A:$H,3,FALSE),"") -> Install Main - Engleside (Conner & Gunston) | K95: =IFERROR(VLOOKUP('Speed Hump'!H95,Main!$A:$G,6,FALSE),"") -> 04-23-21 A | L95: =IFERROR(VLOOKUP('Speed Hump'!H95,Main!$A:$G,7,FALSE),"") -> 04-30-21 A | M95: Yes | N95: 2 | O95: Will be Installed 2021 | P95: 0 | Q95: DTE Gas - GRP | R95: Design - Planning | S95: Gas Main Renewal | W95: 2021 Risk Rank | X95: Engleside | Y95: Conner | Z95: Gunston | AA95: 44197 | AB95: 44561 | AC95: Dan Sand | AD95: 734-444-5737 | AE95: daniel.sand@dteenergy.com | AI95: 6/11/2020 | AJ95: NAD 1983 | AK95: Detroit | AL95: Engleside (Connor-Gunston) | AN95: 97941.264 | AO95: 1888.7879 | AP95: 413.28609 | AQ95: =IFERROR(VLOOKUP(I95,Service!$B:$G,5,FALSE),"") -> 08-30-21 A | AR95: =IFERROR(VLOOKUP(I95,Service!$B:$G,6,FALSE),"") -> 09-01-21 A | AS95: =IFERROR(VLOOKUP(I95,Rest!$B:$G,5,FALSE),"") -> 09-16-21 A | AT95: =IFERROR(VLOOKUP(I95,Rest!$B:$G,6,FALSE),"") -> 09-16-21 A
A96: 1221 | B96: 1 | C96: 9815 | D96: 13588 | E96: Courville St | F96: Cornwall St | G96: E Warren Ave | H96: EDET1 50644 | I96: GRP-2021-ED1.24.1.2 | J96: =IFERROR(VLOOKUP(H96,[1]Sheet1!$A:$H,3,FALSE),"") -> Install Main - Courville St (1) (E Warrern Ave & Waveney St) | K96: =IFERROR(VLOOKUP('Speed Hump'!H96,Main!$A:$G,6,FALSE),"") -> 03-11-21 A | L96: =IFERROR(VLOOKUP('Speed Hump'!H96,Main!$A:$G,7,FALSE),"") -> 03-12-21 A | M96: Yes | N96: 1 | O96: Will be Installed 2021 | P96: 0 | Q96: DTE Gas - GRP | R96: Design - Planning | S96: Gas Main Renewal | T96: SEGRID2021EDet1 | W96: 2021 MGA Grid | X96: Multiple | Y96: Multiple | Z96: Multiple | AA96: 44197 | AB96: 44561 | AC96: Dan Sand | AD96: 734-444-5737 | AE96: daniel.sand@dteenergy.com | AI96: 1/29/2020 | AJ96: NAD 1983 | AK96: Detroit | AL96: East Detroit 1 (EDet1) | AM96: EDet1 | AN96: 5670348.3 | AO96: 11251.905 | AP96: 282.65822 | AQ96: =IFERROR(VLOOKUP(I96,Service!$B:$G,5,FALSE),"") -> 04-05-21 A | AR96: =IFERROR(VLOOKUP(I96,Service!$B:$G,6,FALSE),"") -> 06-15-21 A | AS96: =IFERROR(VLOOKUP(I96,Rest!$B:$G,5,FALSE),"") -> 05-28-21 A | AT96: =IFERROR(VLOOKUP(I96,Rest!$B:$G,6,FALSE),"") -> 06-07-21 A
A97: 1230 | B97: 1 | C97: 9906 | D97: 9918 | E97: Minden St | F97: Elmo St | G97: Gunston St | H97: RR1 9001 | I97: GRP-2021-RR.47.1.2 | J97: =IFERROR(VLOOKUP(H97,[1]Sheet1!$A:$H,3,FALSE),"") -> Install Main - Minden (Conner & Gunston) | K97: =IFERROR(VLOOKUP('Speed Hump'!H97,Main!$A:$G,6,FALSE),"") -> 08-02-21 A | L97: =IFERROR(VLOOKUP('Speed Hump'!H97,Main!$A:$G,7,FALSE),"") -> 08-17-21 A | M97: Yes | N97: 2 | O97: Will be Installed 2021 | P97: 0 | Q97: DTE Gas - GRP | R97: Design - Planning | S97: Gas Main Renewal | W97: 2021 Risk Rank | X97: Minden | Y97: Conner | Z97: Gunston | AA97: 44197 | AB97: 44561 | AC97: Dan Sand | AD97: 734-444-5737 | AE97: daniel.sand@dteenergy.com | AI97: 6/11/2020 | AJ97: NAD 1983 | AK97: Detroit | AL97: Minden (Conner-Gunston) | AN97: 81192.795 | AO97: 1809.223 | AP97: 413.37628 | AQ97: =IFERROR(VLOOKUP(I97,Service!$B:$G,5,FALSE),"") -> 44459 | AR97: =IFERROR(VLOOKUP(I97,Service!$B:$G,6,FALSE),"") -> 44475 | AS97: =IFERROR(VLOOKUP(I97,Rest!$B:$G,5,FALSE),"") -> 44481 | AT97: =IFERROR(VLOOKUP(I97,Rest!$B:$G,6,FALSE),"") -> 44484
A98: 1231 | B98: 1 | C98: 9913 | D98: 13054 | E98: Courville St | F98: E Warren Ave | G98: Frankfort St | H98: EDET1 50644 | I98: GRP-2021-ED1.24.1.2 | J98: =IFERROR(VLOOKUP(H98,[1]Sheet1!$A:$H,3,FALSE),"") -> Install Main - Courville St (1) (E Warrern Ave & Waveney St) | K98: =IFERROR(VLOOKUP('Speed Hump'!H98,Main!$A:$G,6,FALSE),"") -> 03-11-21 A | L98: =IFERROR(VLOOKUP('Speed Hump'!H98,Main!$A:$G,7,FALSE),"") -> 03-12-21 A | M98: Yes | N98: 1 | O98: Will be Installed 2021 | P98: 0 | Q98: DTE Gas - GRP | R98: Design - Planning | S98: Gas Main Renewal | T98: SEGRID2021EDet1 | W98: 2021 MGA Grid | X98: Multiple | Y98: Multiple | Z98: Multiple | AA98: 44197 | AB98: 44561 | AC98: Dan Sand | AD98: 734-444-5737 | AE98: daniel.sand@dteenergy.com | AI98: 1/29/2020 | AJ98: NAD 1983 | AK98: Detroit | AL98: East Detroit 1 (EDet1) | AM98: EDet1 | AN98: 5670348.3 | AO98: 11251.905 | AP98: 281.43871 | AQ98: =IFERROR(VLOOKUP(I98,Service!$B:$G,5,FALSE),"") -> 04-05-21 A | AR98: =IFERROR(VLOOKUP(I98,Service!$B:$G,6,FALSE),"") -> 06-15-21 A | AS98: =IFERROR(VLOOKUP(I98,Rest!$B:$G,5,FALSE),"") -> 05-28-21 A | AT98: =IFERROR(VLOOKUP(I98,Rest!$B:$G,6,FALSE),"") -> 06-07-21 A
A99: 1237 | B99: 1 | C99: 9967 | D99: 13087 | E99: Cornwall St | F99: Kensington Ave | G99: Yorkshire Rd | H99: DNE IN P6 LAYOUT | J99: =IFERROR(VLOOKUP(H99,[1]Sheet1!$A:$H,3,FALSE),"") | K99: =IFERROR(VLOOKUP('Speed Hump'!H99,Main!$A:$G,6,FALSE),"") | L99: =IFERROR(VLOOKUP('Speed Hump'!H99,Main!$A:$G,7,FALSE),"") | M99: Yes | N99: 1 | O99: Will be Installed 2021 | P99: 0 | Q99: DTE Gas - GRP | R99: Design - Planning | S99: Gas Main Renewal | T99: SEGRID2021EDet1 | W99: 2021 MGA Grid | X99: Multiple | Y99: Multiple | Z99: Multiple | AA99: 44197 | AB99: 44561 | AC99: Dan Sand | AD99: 734-444-5737 | AE99: daniel.sand@dteenergy.com | AI99: 1/29/2020 | AJ99: NAD 1983 | AK99: Detroit | AL99: East Detroit 1 (EDet1) | AM99: EDet1 | AN99: 5670348.3 | AO99: 11251.905 | AP99: 140.07908 | AQ99: =IFERROR(VLOOKUP(I99,Service!$B:$G,5,FALSE),"") | AR99: =IFERROR(VLOOKUP(I99,Service!$B:$G,6,FALSE),"") | AS99: =IFERROR(VLOOKUP(I99,Rest!$B:$G,5,FALSE),"") | AT99: =IFERROR(VLOOKUP(I99,Rest!$B:$G,6,FALSE),"")
A100: 1244 | B100: 1 | C100: 10032 | D100: 12987 | E100: Yorkshire Rd | F100: Cornwall St | G100: E Warren Ave | H100: EDET1 50656 | I100: GRP-2021-ED1.36.1.2 | J100: =IFERROR(VLOOKUP(H100,[1]Sheet1!$A:$H,3,FALSE),"") -> Install Main - Yorkshire Rd (1) (E Warrern Ave & Waveney St) | K100: =IFERROR(VLOOKUP('Speed Hump'!H100,Main!$A:$G,6,FALSE),"") -> 02-22-21 A | L100: =IFERROR(VLOOKUP('Speed Hump'!H100,Main!$A:$G,7,FALSE),"") -> 02-26-21 A | M100: Yes | N100: 1 | O100: Will be Installed 2021 | P100: 0 | Q100: DTE Gas - GRP | R100: Design - Planning | S100: Gas Main Renewal | T100: SEGRID2021EDet1 | W100: 2021 MGA Grid | X100: Multiple | Y100: Multiple | Z100: Multiple | AA100: 44197 | AB100: 44561 | AC100: Dan Sand | AD100: 734-444-5737 | AE100: daniel.sand@dteenergy.com | AI100: 1/29/2020 | AJ100: NAD 1983 | AK100: Detroit | AL100: East Detroit 1 (EDet1) | AM100: EDet1 | AN100: 5670348.3 | AO100: 11251.905 | AP100: 282.00419 | AQ100: =IFERROR(VLOOKUP(I100,Service!$B:$G,5,FALSE),"") -> 03-24-21 A | AR100: =IFERROR(VLOOKUP(I100,Service!$B:$G,6,FALSE),"") -> 03-31-21 A | AS100: =IFERROR(VLOOKUP(I100,Rest!$B:$G,5,FALSE),"") -> 05-26-21 A | AT100: =IFERROR(VLOOKUP(I100,Rest!$B:$G,6,FALSE),"") -> 05-26-21 A
A101: 1247 | B101: 1 | C101: 10065 | D101: 12418 | E101: Yorkshire Rd | F101: E Warren Ave | G101: Frankfort St | H101: EDET1 50656 | I101: GRP-2021-ED1.36.1.2 | J101: =IFERROR(VLOOKUP(H101,[1]Sheet1!$A:$H,3,FALSE),"") -> Install Main - Yorkshire Rd (1) (E Warrern Ave & Waveney St) | K101: =IFERROR(VLOOKUP('Speed Hump'!H101,Main!$A:$G,6,FALSE),"") -> 02-22-21 A | L101: =IFERROR(VLOOKUP('Speed Hump'!H101,Main!$A:$G,7,FALSE),"") -> 02-26-21 A | M101: Yes | N101: 1 | O101: Will be Installed 2021 | P101: 0 | Q101: DTE Gas - GRP | R101: Design - Planning | S101: Gas Main Renewal | T101: SEGRID2021EDet1 | W101: 2021 MGA Grid | X101: Multiple | Y101: Multiple | Z101: Multiple | AA101: 44197 | AB101: 44561 | AC101: Dan Sand | AD101: 734-444-5737 | AE101: daniel.sand@dteenergy.com | AI101: 1/29/2020 | AJ101: NAD 1983 | AK101: Detroit | AL101: East Detroit 1 (EDet1) | AM101: EDet1 | AN101: 5670348.3 | AO101: 11251.905 | AP101: 282.11319 | AQ101: =IFERROR(VLOOKUP(I101,Service!$B:$G,5,FALSE),"") -> 03-24-21 A | AR101: =IFERROR(VLOOKUP(I101,Service!$B:$G,6,FALSE),"") -> 03-31-21 A | AS101: =IFERROR(VLOOKUP(I101,Rest!$B:$G,5,FALSE),"") -> 05-26-21 A | AT101: =IFERROR(VLOOKUP(I101,Rest!$B:$G,6,FALSE),"") -> 05-26-21 A
A102: 1262 | B102: 1 | C102: 10225 | D102: 12860 | E102: Corbett Ave | F102: Annsbury Ave | G102: Park Dr | H102: RR1 551 | I102: GRP-2021-RR.17.1.2 | J102: =IFERROR(VLOOKUP(H102,[1]Sheet1!$A:$H,3,FALSE),"") -> Install Main - Corbett 1 (Annsbury & Coplin) | K102: =IFERROR(VLOOKUP('Speed Hump'!H102,Main!$A:$G,6,FALSE),"") -> 09-28-21* | L102: =IFERROR(VLOOKUP('Speed Hump'!H102,Main!$A:$G,7,FALSE),"") -> 44484 | M102: Yes | N102: 2 | O102: Will be Installed 2021 | P102: 0 | Q102: DTE Gas - GRP | R102: Design - Planning | S102: Gas Main Renewal | W102: 2021 Risk Rank | X102: Corbett | Y102: Chalmers | Z102: Annsbury | AA102: 44197 | AB102: 44561 | AC102: Dan Sand | AD102: 734-444-5737 | AE102: daniel.sand@dteenergy.com | AI102: 6/11/2020 | AJ102: NAD 1983 | AK102: Detroit | AL102: Corbett (Chalmers-Annsbury) | AN102: 171623.47 | AO102: 3537.4533 | AP102: 333.493 | AQ102: =IFERROR(VLOOKUP(I102,Service!$B:$G,5,FALSE),"") -> 44488 | AR102: =IFERROR(VLOOKUP(I102,Service!$B:$G,6,FALSE),"") -> 44505 | AS102: =IFERROR(VLOOKUP(I102,Rest!$B:$G,5,FALSE),"") -> 44511 | AT102: =IFERROR(VLOOKUP(I102,Rest!$B:$G,6,FALSE),"") -> 44516
A103: 1287 | B103: 1 | C103: 10495 | D103: 10963 | E103: Hereford St | F103: E Warren Ave | G103: Southampton St | H103: EDET1 502806 | I103: GRP-2021-ED1.80.2.2 | J103: =IFERROR(VLOOKUP(H103,[1]Sheet1!$A:$H,3,FALSE),"") -> Install Main - ANO E Warren Ave (2) (Neff Ave & Hereford St) | K103: =IFERROR(VLOOKUP('Speed Hump'!H103,Main!$A:$G,6,FALSE),"") -> 05-24-21 A | L103: =IFERROR(VLOOKUP('Speed Hump'!H103,Main!$A:$G,7,FALSE),"") -> 05-27-21 A | M103: Yes | N103: 3 | O103: Will be Installed 2021 | P103: 0 | Q103: DTE Gas - GRP | R103: Design - Planning | S103: Gas Main Renewal | T103: SEGRID2021EDet1 | W103: 2021 MGA Grid | X103: Multiple | Y103: Multiple | Z103: Multiple | AA103: 44197 | AB103: 44561 | AC103: Dan Sand | AD103: 734-444-5737 | AE103: daniel.sand@dteenergy.com | AI103: 1/29/2020 | AJ103: NAD 1983 | AK103: Detroit | AL103: East Detroit 1 (EDet1) | AM103: EDet1 | AN103: 5670348.3 | AO103: 11251.905 | AP103: 562.51072 | AQ103: =IFERROR(VLOOKUP(I103,Service!$B:$G,5,FALSE),"") -> 44459 | AR103: =IFERROR(VLOOKUP(I103,Service!$B:$G,6,FALSE),"") -> 44459 | AS103: =IFERROR(VLOOKUP(I103,Rest!$B:$G,5,FALSE),"") -> 44463 | AT103: =IFERROR(VLOOKUP(I103,Rest!$B:$G,6,FALSE),"") -> 44468
A104: 1295 | B104: 1 | C104: 10541 | D104: 11955 | E104: Harvard Rd | F104: E Warren Ave | G104: Frankfort St | H104: EDET1 507796 | I104: GRP-2021-ED1.6.3.2 | J104: =IFERROR(VLOOKUP(H104,[1]Sheet1!$A:$H,3,FALSE),"") -> Install Main - Harvard Rd (1) (ASO Warren & Waveney) | K104: =IFERROR(VLOOKUP('Speed Hump'!H104,Main!$A:$G,6,FALSE),"") -> 01-25-21 A | L104: =IFERROR(VLOOKUP('Speed Hump'!H104,Main!$A:$G,7,FALSE),"") -> 02-03-21 A | M104: Yes | N104: 1 | O104: Will be Installed 2021 | P104: 0 | Q104: DTE Gas - GRP | R104: Design - Planning | S104: Gas Main Renewal | T104: SEGRID2021EDet1 | W104: 2021 MGA Grid | X104: Multiple | Y104: Multiple | Z104: Multiple | AA104: 44197 | AB104: 44561 | AC104: Dan Sand | AD104: 734-444-5737 | AE104: daniel.sand@dteenergy.com | AI104: 1/29/2020 | AJ104: NAD 1983 | AK104: Detroit | AL104: East Detroit 1 (EDet1) | AM104: EDet1 | AN104: 5670348.3 | AO104: 11251.905 | AP104: 281.85271 | AQ104: =IFERROR(VLOOKUP(I104,Service!$B:$G,5,FALSE),"") | AR104: =IFERROR(VLOOKUP(I104,Service!$B:$G,6,FALSE),"") | AS104: =IFERROR(VLOOKUP(I104,Rest!$B:$G,5,FALSE),"") -> 05-10-21 A | AT104: =IFERROR(VLOOKUP(I104,Rest!$B:$G,6,FALSE),"") -> 05-27-21 A
A105: 1316 | B105: 1 | C105: 10722 | D105: 14089 | E105: Haverhill St | F105: Cornwall St | G105: E Warren Ave | H105: EDET1 50649 | I105: GRP-2021-ED1.29.1.2 | J105: =IFERROR(VLOOKUP(H105,[1]Sheet1!$A:$H,3,FALSE),"") -> Install Main - Haverhill St (1) (E Warrern Ave & Waveney St) | K105: =IFERROR(VLOOKUP('Speed Hump'!H105,Main!$A:$G,6,FALSE),"") -> 04-05-21 A | L105: =IFERROR(VLOOKUP('Speed Hump'!H105,Main!$A:$G,7,FALSE),"") -> 04-13-21 A | M105: Yes | N105: 1 | O105: Will be Installed 2021 | P105: 0 | Q105: DTE Gas - GRP | R105: Design - Planning | S105: Gas Main Renewal | T105: SEGRID2021EDet1 | W105: 2021 MGA Grid | X105: Multiple | Y105: Multiple | Z105: Multiple | AA105: 44197 | AB105: 44561 | AC105: Dan Sand | AD105: 734-444-5737 | AE105: daniel.sand@dteenergy.com | AI105: 1/29/2020 | AJ105: NAD 1983 | AK105: Detroit | AL105: East Detroit 1 (EDet1) | AM105: EDet1 | AN105: 5670348.3 | AO105: 11251.905 | AP105: 281.99312 | AQ105: =IFERROR(VLOOKUP(I105,Service!$B:$G,5,FALSE),"") -> 05-23-21 A | AR105: =IFERROR(VLOOKUP(I105,Service!$B:$G,6,FALSE),"") -> 05-23-21 A | AS105: =IFERROR(VLOOKUP(I105,Rest!$B:$G,5,FALSE),"") -> 06-10-21 A | AT105: =IFERROR(VLOOKUP(I105,Rest!$B:$G,6,FALSE),"") -> 44467
A106: 1318 | B106: 1 | C106: 10739 | D106: 11988 | E106: Guilford St | F106: Cornwall St | G106: E Warren Ave | H106: DNE IN P6 LAYOUT | J106: =IFERROR(VLOOKUP(H106,[1]Sheet1!$A:$H,3,FALSE),"") | K106: =IFERROR(VLOOKUP('Speed Hump'!H106,Main!$A:$G,6,FALSE),"") | L106: =IFERROR(VLOOKUP('Speed Hump'!H106,Main!$A:$G,7,FALSE),"") | M106: Yes | N106: 1 | O106: Will be Installed 2021 | P106: 0 | Q106: DTE Gas - GRP | R106: Design - Planning | S106: Gas Main Renewal | T106: SEGRID2021EDet1 | W106: 2021 MGA Grid | X106: Multiple | Y106: Multiple | Z106: Multiple | AA106: 44197 | AB106: 44561 | AC106: Dan Sand | AD106: 734-444-5737 | AE106: daniel.sand@dteenergy.com | AI106: 1/29/2020 | AJ106: NAD 1983 | AK106: Detroit | AL106: East Detroit 1 (EDet1) | AM106: EDet1 | AN106: 5670348.3 | AO106: 11251.905 | AP106: 280.84205 | AQ106: =IFERROR(VLOOKUP(I106,Service!$B:$G,5,FALSE),"") | AR106: =IFERROR(VLOOKUP(I106,Service!$B:$G,6,FALSE),"") | AS106: =IFERROR(VLOOKUP(I106,Rest!$B:$G,5,FALSE),"") | AT106: =IFERROR(VLOOKUP(I106,Rest!$B:$G,6,FALSE),"")
A107: 1339 | B107: 1 | C107: 10967 | D107: 13088 | E107: Kensington Ave | F107: Cornwall St | G107: E Warren Ave | H107: EDET1 507256 | I107: GRP-2021-ED1.5.1.2 | J107: =IFERROR(VLOOKUP(H107,[1]Sheet1!$A:$H,3,FALSE),"") -> Install Main - Kensington Ave (ASO E Warren & Waveney) | K107: =IFERROR(VLOOKUP('Speed Hump'!H107,Main!$A:$G,6,FALSE),"") -> 03-01-21 A | L107: =IFERROR(VLOOKUP('Speed Hump'!H107,Main!$A:$G,7,FALSE),"") -> 03-04-21 A | M107: Yes | N107: 1 | O107: Will be Installed 2021 | P107: 0 | Q107: DTE Gas - GRP | R107: Design - Planning | S107: Gas Main Renewal | T107: SEGRID2021EDet1 | W107: 2021 MGA Grid | X107: Multiple | Y107: Multiple | Z107: Multiple | AA107: 44197 | AB107: 44561 | AC107: Dan Sand | AD107: 734-444-5737 | AE107: daniel.sand@dteenergy.com | AI107: 1/29/2020 | AJ107: NAD 1983 | AK107: Detroit | AL107: East Detroit 1 (EDet1) | AM107: EDet1 | AN107: 5670348.3 | AO107: 11251.905 | AP107: 282.10373 | AQ107: =IFERROR(VLOOKUP(I107,Service!$B:$G,5,FALSE),"") -> 04-26-21 A | AR107: =IFERROR(VLOOKUP(I107,Service!$B:$G,6,FALSE),"") -> 04-27-21 A | AS107: =IFERROR(VLOOKUP(I107,Rest!$B:$G,5,FALSE),"") -> 05-27-21 A | AT107: =IFERROR(VLOOKUP(I107,Rest!$B:$G,6,FALSE),"") -> 05-27-21 A
A108: 1354 | B108: 1 | C108: 11100 | D108: 14107 | E108: Waveney St | F108: Kensington Ave | G108: Yorkshire Rd | H108: EDET1 506916 | I108: GRP-2021-ED1.65.3.2 | J108: =IFERROR(VLOOKUP(H108,[1]Sheet1!$A:$H,3,FALSE),"") -> Install Main - Waveney Ave (2) (Courville & E Outer Dr) | K108: =IFERROR(VLOOKUP('Speed Hump'!H108,Main!$A:$G,6,FALSE),"") -> 01-28-21 A | L108: =IFERROR(VLOOKUP('Speed Hump'!H108,Main!$A:$G,7,FALSE),"") -> 01-29-21 A | M108: Yes | N108: 1 | O108: Will be Installed 2021 | P108: 0 | Q108: DTE Gas - GRP | R108: Design - Planning | S108: Gas Main Renewal | T108: SEGRID2021EDet1 | W108: 2021 MGA Grid | X108: Multiple | Y108: Multiple | Z108: Multiple | AA108: 44197 | AB108: 44561 | AC108: Dan Sand | AD108: 734-444-5737 | AE108: daniel.sand@dteenergy.com | AI108: 1/29/2020 | AJ108: NAD 1983 | AK108: Detroit | AL108: East Detroit 1 (EDet1) | AM108: EDet1 | AN108: 5670348.3 | AO108: 11251.905 | AP108: 140.34736 | AQ108: =IFERROR(VLOOKUP(I108,Service!$B:$G,5,FALSE),"") | AR108: =IFERROR(VLOOKUP(I108,Service!$B:$G,6,FALSE),"") | AS108: =IFERROR(VLOOKUP(I108,Rest!$B:$G,5,FALSE),"") -> 44462 | AT108: =IFERROR(VLOOKUP(I108,Rest!$B:$G,6,FALSE),"") -> 44467
A109: 1377 | B109: 1 | C109: 11319 | D109: 12851 | E109: Fielding St | F109: Verne St | G109: Grove St | H109: RR1 7561 | I109: GRP-2021-RR.29.1.2 | J109: =IFERROR(VLOOKUP(H109,[1]Sheet1!$A:$H,3,FALSE),"") -> Install Main - Fielding (McNichols & Grand River) | K109: =IFERROR(VLOOKUP('Speed Hump'!H109,Main!$A:$G,6,FALSE),"") -> 03-01-21 A | L109: =IFERROR(VLOOKUP('Speed Hump'!H109,Main!$A:$G,7,FALSE),"") -> 03-10-21 A | M109: Yes | N109: 1 | O109: Will be Installed 2021 | P109: 0 | Q109: DTE Gas - GRP | R109: Design - Planning | S109: Gas Main Renewal | W109: 2021 Risk Rank | X109: Fielding | Y109: Grand River | Z109: McNichols | AA109: 44197 | AB109: 44561 | AC109: Dan Sand | AD109: 734-444-5737 | AE109: daniel.sand@dteenergy.com | AI109: 6/11/2020 | AJ109: NAD 1983 | AK109: Detroit | AL109: Fielding (Grand River-McNichols) | AN109: 66966.435 | AO109: 1426.558 | AP109: 271.02394 | AQ109: =IFERROR(VLOOKUP(I109,Service!$B:$G,5,FALSE),"") -> 03-29-21 A | AR109: =IFERROR(VLOOKUP(I109,Service!$B:$G,6,FALSE),"") -> 04-27-21 A | AS109: =IFERROR(VLOOKUP(I109,Rest!$B:$G,5,FALSE),"") -> 06-08-21 A | AT109: =IFERROR(VLOOKUP(I109,Rest!$B:$G,6,FALSE),"") -> 44467
A110: 1379 | B110: 1 | C110: 11335 | D110: 11959 | E110: Dwyer St | F110: Casmere St | G110: Sobieski St | H110: RR1 6981 | I110: GRP-2021-RR.21.1.2 | J110: =IFERROR(VLOOKUP(H110,[1]Sheet1!$A:$H,3,FALSE),"") -> Install Main - Dwyer (Charles & Casemere) | K110: =IFERROR(VLOOKUP('Speed Hump'!H110,Main!$A:$G,6,FALSE),"") -> 03-24-21 A | L110: =IFERROR(VLOOKUP('Speed Hump'!H110,Main!$A:$G,7,FALSE),"") -> 04-02-21 A | M110: Yes | N110: 1 | O110: Will be Installed 2021 | P110: 0 | Q110: DTE Gas - GRP | R110: Design - Planning | S110: Gas Main Renewal | W110: 2021 Risk Rank | X110: Dwyer | Y110: Charles | Z110: Casmere | AA110: 44197 | AB110: 44561 | AC110: Dan Sand | AD110: 734-444-5737 | AE110: daniel.sand@dteenergy.com | AI110: 6/11/2020 | AJ110: NAD 1983 | AK110: Detroit | AL110: Dwyer (Charles-Casmere) | AN110: 48317.663 | AO110: 1187.3566 | AP110: 282.26923 | AQ110: =IFERROR(VLOOKUP(I110,Service!$B:$G,5,FALSE),"") -> 44459 | AR110: =IFERROR(VLOOKUP(I110,Service!$B:$G,6,FALSE),"") -> 44461 | AS110: =IFERROR(VLOOKUP(I110,Rest!$B:$G,5,FALSE),"") -> 44467 | AT110: =IFERROR(VLOOKUP(I110,Rest!$B:$G,6,FALSE),"") -> 44470
A111: 1380 | B111: 1 | C111: 11339 | D111: 13666 | E111: Waveney St | F111: Grayton St | G111: Harvard Rd | H111: EDET1 50846 | I111: GRP-2021-ED1.48.1.2 | J111: =IFERROR(VLOOKUP(H111,[1]Sheet1!$A:$H,3,FALSE),"") -> Install Main - Wayburn Ave (2) (Waveney St & Mack Ave) | K111: =IFERROR(VLOOKUP('Speed Hump'!H111,Main!$A:$G,6,FALSE),"") -> 03-17-21 A | L111: =IFERROR(VLOOKUP('Speed Hump'!H111,Main!$A:$G,7,FALSE),"") -> 03-22-21 A | M111: Yes | N111: 1 | O111: Will be Installed 2021 | P111: 0 | Q111: DTE Gas - GRP | R111: Design - Planning | S111: Gas Main Renewal | T111: SEGRID2021EDet1 | W111: 2021 MGA Grid | X111: Multiple | Y111: Multiple | Z111: Multiple | AA111: 44197 | AB111: 44561 | AC111: Dan Sand | AD111: 734-444-5737 | AE111: daniel.sand@dteenergy.com | AI111: 1/29/2020 | AJ111: NAD 1983 | AK111: Detroit | AL111: East Detroit 1 (EDet1) | AM111: EDet1 | AN111: 5670348.3 | AO111: 11251.905 | AP111: 145.13159 | AQ111: =IFERROR(VLOOKUP(I111,Service!$B:$G,5,FALSE),"") -> 05-12-21 A | AR111: =IFERROR(VLOOKUP(I111,Service!$B:$G,6,FALSE),"") -> 05-19-21 A | AS111: =IFERROR(VLOOKUP(I111,Rest!$B:$G,5,FALSE),"") -> 06-10-21 A | AT111: =IFERROR(VLOOKUP(I111,Rest!$B:$G,6,FALSE),"") -> 06-14-21 A
A112: 1392 | B112: 1 | C112: 11450 | D112: 12093 | E112: Hereford St | F112: Munich St | G112: E Warren Ave | H112: EDET1 502806 | I112: GRP-2021-ED1.80.2.2 | J112: =IFERROR(VLOOKUP(H112,[1]Sheet1!$A:$H,3,FALSE),"") -> Install Main - ANO E Warren Ave (2) (Neff Ave & Hereford St) | K112: =IFERROR(VLOOKUP('Speed Hump'!H112,Main!$A:$G,6,FALSE),"") -> 05-24-21 A | L112: =IFERROR(VLOOKUP('Speed Hump'!H112,Main!$A:$G,7,FALSE),"") -> 05-27-21 A | M112: Yes | N112: 3 | O112: Will be Installed 2021 | P112: 0 | Q112: DTE Gas - GRP | R112: Design - Planning | S112: Gas Main Renewal | T112: SEGRID2021EDet1 | W112: 2021 MGA Grid | X112: Multiple | Y112: Multiple | Z112: Multiple | AA112: 44197 | AB112: 44561 | AC112: Dan Sand | AD112: 734-444-5737 | AE112: daniel.sand@dteenergy.com | AI112: 1/29/2020 | AJ112: NAD 1983 | AK112: Detroit | AL112: East Detroit 1 (EDet1) | AM112: EDet1 | AN112: 5670348.3 | AO112: 11251.905 | AP112: 575.56008 | AQ112: =IFERROR(VLOOKUP(I112,Service!$B:$G,5,FALSE),"") -> 44459 | AR112: =IFERROR(VLOOKUP(I112,Service!$B:$G,6,FALSE),"") -> 44459 | AS112: =IFERROR(VLOOKUP(I112,Rest!$B:$G,5,FALSE),"") -> 44463 | AT112: =IFERROR(VLOOKUP(I112,Rest!$B:$G,6,FALSE),"") -> 44468
A113: 1394 | B113: 1 | C113: 11473 | D113: 12498 | E113: Harvard Rd | F113: Cornwall St | G113: E Warren Ave | H113: EDET1 507796 | I113: GRP-2021-ED1.6.3.2 | J113: =IFERROR(VLOOKUP(H113,[1]Sheet1!$A:$H,3,FALSE),"") -> Install Main - Harvard Rd (1) (ASO Warren & Waveney) | K113: =IFERROR(VLOOKUP('Speed Hump'!H113,Main!$A:$G,6,FALSE),"") -> 01-25-21 A | L113: =IFERROR(VLOOKUP('Speed Hump'!H113,Main!$A:$G,7,FALSE),"") -> 02-03-21 A | M113: Yes | N113: 1 | O113: Will be Installed 2021 | P113: 0 | Q113: DTE Gas - GRP | R113: Design - Planning | S113: Gas Main Renewal | T113: SEGRID2021EDet1 | W113: 2021 MGA Grid | X113: Multiple | Y113: Multiple | Z113: Multiple | AA113: 44197 | AB113: 44561 | AC113: Dan Sand | AD113: 734-444-5737 | AE113: daniel.sand@dteenergy.com | AI113: 1/29/2020 | AJ113: NAD 1983 | AK113: Detroit | AL113: East Detroit 1 (EDet1) | AM113: EDet1 | AN113: 5670348.3 | AO113: 11251.905 | AP113: 282.27159 | AQ113: =IFERROR(VLOOKUP(I113,Service!$B:$G,5,FALSE),"") | AR113: =IFERROR(VLOOKUP(I113,Service!$B:$G,6,FALSE),"") | AS113: =IFERROR(VLOOKUP(I113,Rest!$B:$G,5,FALSE),"") -> 05-10-21 A | AT113: =IFERROR(VLOOKUP(I113,Rest!$B:$G,6,FALSE),"") -> 05-27-21 A
A114: 1428 | B114: 1 | C114: 11832 | D114: 9603 | E114: Engleside St | F114: Conner St | G114: Algonac St | H114: RR1 8841 | I114: GRP-2021-RR.45.1.2 | J114: =IFERROR(VLOOKUP(H114,[1]Sheet1!$A:$H,3,FALSE),"") -> Install Main - Engleside (Conner & Gunston) | K114: =IFERROR(VLOOKUP('Speed Hump'!H114,Main!$A:$G,6,FALSE),"") -> 04-23-21 A | L114: =IFERROR(VLOOKUP('Speed Hump'!H114,Main!$A:$G,7,FALSE),"") -> 04-30-21 A | M114: Yes | N114: 1 | O114: Will be Installed 2021 | P114: 0 | Q114: DTE Gas - GRP | R114: Design - Planning | S114: Gas Main Renewal | W114: 2021 Risk Rank | X114: Engleside | Y114: Conner | Z114: Gunston | AA114: 44197 | AB114: 44561 | AC114: Dan Sand | AD114: 734-444-5737 | AE114: daniel.sand@dteenergy.com | AI114: 6/11/2020 | AJ114: NAD 1983 | AK114: Detroit | AL114: Engleside (Connor-Gunston) | AN114: 97941.264 | AO114: 1888.7879 | AP114: 276.52925 | AQ114: =IFERROR(VLOOKUP(I114,Service!$B:$G,5,FALSE),"") -> 08-30-21 A | AR114: =IFERROR(VLOOKUP(I114,Service!$B:$G,6,FALSE),"") -> 09-01-21 A | AS114: =IFERROR(VLOOKUP(I114,Rest!$B:$G,5,FALSE),"") -> 09-16-21 A | AT114: =IFERROR(VLOOKUP(I114,Rest!$B:$G,6,FALSE),"") -> 09-16-21 A
A115: 1462 | B115: 1 | C115: 12185 | D115: 12088 | E115: Fielding St | F115: Grove St | G115: W McNichols Rd | H115: RR1 7561 | I115: GRP-2021-RR.29.1.2 | J115: =IFERROR(VLOOKUP(H115,[1]Sheet1!$A:$H,3,FALSE),"") -> Install Main - Fielding (McNichols & Grand River) | K115: =IFERROR(VLOOKUP('Speed Hump'!H115,Main!$A:$G,6,FALSE),"") -> 03-01-21 A | L115: =IFERROR(VLOOKUP('Speed Hump'!H115,Main!$A:$G,7,FALSE),"") -> 03-10-21 A | M115: Yes | N115: 1 | O115: Will be Installed 2021 | P115: 0 | Q115: DTE Gas - GRP | R115: Design - Planning | S115: Gas Main Renewal | W115: 2021 Risk Rank | X115: Fielding | Y115: Grand River | Z115: McNichols | AA115: 44197 | AB115: 44561 | AC115: Dan Sand | AD115: 734-444-5737 | AE115: daniel.sand@dteenergy.com | AI115: 6/11/2020 | AJ115: NAD 1983 | AK115: Detroit | AL115: Fielding (Grand River-McNichols) | AN115: 66966.435 | AO115: 1426.558 | AP115: 249.99968 | AQ115: =IFERROR(VLOOKUP(I115,Service!$B:$G,5,FALSE),"") -> 03-29-21 A | AR115: =IFERROR(VLOOKUP(I115,Service!$B:$G,6,FALSE),"") -> 04-27-21 A | AS115: =IFERROR(VLOOKUP(I115,Rest!$B:$G,5,FALSE),"") -> 06-08-21 A | AT115: =IFERROR(VLOOKUP(I115,Rest!$B:$G,6,FALSE),"") -> 44467
A116: 1466 | B116: 1 | C116: 12209 | D116: 12890 | E116: Bishop St | F116: Cornwall St | G116: E Warren Ave | H116: EDET1 501526 | I116: GRP-2021-ED1.21.3.2 | J116: =IFERROR(VLOOKUP(H116,[1]Sheet1!$A:$H,3,FALSE),"") -> Install Main - Bishop St (1) (ASO E Warrern Ave & Waveney St) | K116: =IFERROR(VLOOKUP('Speed Hump'!H116,Main!$A:$G,6,FALSE),"") -> 02-02-21 A | L116: =IFERROR(VLOOKUP('Speed Hump'!H116,Main!$A:$G,7,FALSE),"") -> 02-22-21 A | M116: Yes | N116: 1 | O116: Will be Installed 2021 | P116: 0 | Q116: DTE Gas - GRP | R116: Design - Planning | S116: Gas Main Renewal | T116: SEGRID2021EDet1 | W116: 2021 MGA Grid | X116: Multiple | Y116: Multiple | Z116: Multiple | AA116: 44197 | AB116: 44561 | AC116: Dan Sand | AD116: 734-444-5737 | AE116: daniel.sand@dteenergy.com | AI116: 1/29/2020 | AJ116: NAD 1983 | AK116: Detroit | AL116: East Detroit 1 (EDet1) | AM116: EDet1 | AN116: 5670348.3 | AO116: 11251.905 | AP116: 281.77337 | AQ116: =IFERROR(VLOOKUP(I116,Service!$B:$G,5,FALSE),"") -> 03-22-21 A | AR116: =IFERROR(VLOOKUP(I116,Service!$B:$G,6,FALSE),"") -> 03-24-21 A | AS116: =IFERROR(VLOOKUP(I116,Rest!$B:$G,5,FALSE),"") -> 44463 | AT116: =IFERROR(VLOOKUP(I116,Rest!$B:$G,6,FALSE),"") -> 44468
A117: 1469 | B117: 1 | C117: 12218 | D117: 11369 | E117: Dwyer St | F117: Sobieski St | G117: Charles St | H117: RR1 6981 | I117: GRP-2021-RR.21.1.2 | J117: =IFERROR(VLOOKUP(H117,[1]Sheet1!$A:$H,3,FALSE),"") -> Install Main - Dwyer (Charles & Casemere) | K117: =IFERROR(VLOOKUP('Speed Hump'!H117,Main!$A:$G,6,FALSE),"") -> 03-24-21 A | L117: =IFERROR(VLOOKUP('Speed Hump'!H117,Main!$A:$G,7,FALSE),"") -> 04-02-21 A | M117: Yes | N117: 1 | O117: Will be Installed 2021 | P117: 0 | Q117: DTE Gas - GRP | R117: Design - Planning | S117: Gas Main Renewal | W117: 2021 Risk Rank | X117: Dwyer | Y117: Charles | Z117: Casmere | AA117: 44197 | AB117: 44561 | AC117: Dan Sand | AD117: 734-444-5737 | AE117: daniel.sand@dteenergy.com | AI117: 6/11/2020 | AJ117: NAD 1983 | AK117: Detroit | AL117: Dwyer (Charles-Casmere) | AN117: 48317.663 | AO117: 1187.3566 | AP117: 225.09549 | AQ117: =IFERROR(VLOOKUP(I117,Service!$B:$G,5,FALSE),"") -> 44459 | AR117: =IFERROR(VLOOKUP(I117,Service!$B:$G,6,FALSE),"") -> 44461 | AS117: =IFERROR(VLOOKUP(I117,Rest!$B:$G,5,FALSE),"") -> 44467 | AT117: =IFERROR(VLOOKUP(I117,Rest!$B:$G,6,FALSE),"") -> 44470
A118: 1475 | B118: 1 | C118: 12278 | D118: 13381 | E118: Bedford St | F118: E Warren Ave | G118: Frankfort St | H118: EDET1 503756 | I118: GRP-2021-ED1.69.3.2 | J118: =IFERROR(VLOOKUP(H118,[1]Sheet1!$A:$H,3,FALSE),"") -> Install Main - Bedford St (1) (E Warren Ave & Waveney St) East | K118: =IFERROR(VLOOKUP('Speed Hump'!H118,Main!$A:$G,6,FALSE),"") -> 03-18-21 A | L118: =IFERROR(VLOOKUP('Speed Hump'!H118,Main!$A:$G,7,FALSE),"") -> 03-23-21 A | M118: Yes | N118: 1 | O118: Will be Installed 2021 | P118: 0 | Q118: DTE Gas - GRP | R118: Design - Planning | S118: Gas Main Renewal | T118: SEGRID2021EDet1 | W118: 2021 MGA Grid | X118: Multiple | Y118: Multiple | Z118: Multiple | AA118: 44197 | AB118: 44561 | AC118: Dan Sand | AD118: 734-444-5737 | AE118: daniel.sand@dteenergy.com | AI118: 1/29/2020 | AJ118: NAD 1983 | AK118: Detroit | AL118: East Detroit 1 (EDet1) | AM118: EDet1 | AN118: 5670348.3 | AO118: 11251.905 | AP118: 282.25878 | AQ118: =IFERROR(VLOOKUP(I118,Service!$B:$G,5,FALSE),"") -> 04-12-21 A | AR118: =IFERROR(VLOOKUP(I118,Service!$B:$G,6,FALSE),"") -> 05-19-21 A | AS118: =IFERROR(VLOOKUP(I118,Rest!$B:$G,5,FALSE),"") -> 05-27-21 A | AT118: =IFERROR(VLOOKUP(I118,Rest!$B:$G,6,FALSE),"") -> 06-07-21 A
A119: 1490 | B119: 1 | C119: 12389 | D119: 13929 | E119: Bedford St | F119: Cornwall St | G119: E Warren Ave | H119: EDET1 501116 | I119: GRP-2021-ED1.70.1.2 | J119: =IFERROR(VLOOKUP(H119,[1]Sheet1!$A:$H,3,FALSE),"") -> Install Main - Bedford St (2) West (Waveney St & Mack Ave) West | K119: =IFERROR(VLOOKUP('Speed Hump'!H119,Main!$A:$G,6,FALSE),"") -> 02-03-21 A | L119: =IFERROR(VLOOKUP('Speed Hump'!H119,Main!$A:$G,7,FALSE),"") -> 03-03-21 A | M119: Yes | N119: 1 | O119: Will be Installed 2021 | P119: 0 | Q119: DTE Gas - GRP | R119: Design - Planning | S119: Gas Main Renewal | T119: SEGRID2021EDet1 | W119: 2021 MGA Grid | X119: Multiple | Y119: Multiple | Z119: Multiple | AA119: 44197 | AB119: 44561 | AC119: Dan Sand | AD119: 734-444-5737 | AE119: daniel.sand@dteenergy.com | AI119: 1/29/2020 | AJ119: NAD 1983 | AK119: Detroit | AL119: East Detroit 1 (EDet1) | AM119: EDet1 | AN119: 5670348.3 | AO119: 11251.905 | AP119: 282.01611 | AQ119: =IFERROR(VLOOKUP(I119,Service!$B:$G,5,FALSE),"") -> 03-08-21 A | AR119: =IFERROR(VLOOKUP(I119,Service!$B:$G,6,FALSE),"") -> 03-24-21 A | AS119: =IFERROR(VLOOKUP(I119,Rest!$B:$G,5,FALSE),"") -> 44459 | AT119: =IFERROR(VLOOKUP(I119,Rest!$B:$G,6,FALSE),"") -> 44462
A120: 1495 | B120: 1 | C120: 12445 | D120: 13472 | E120: Audubon Rd | F120: Cornwall St | G120: E Warren Ave | H120: EDET1 50640 | I120: GRP-2021-ED1.19.1.2 | J120: =IFERROR(VLOOKUP(H120,[1]Sheet1!$A:$H,3,FALSE),"") -> Install Main - Audubon Rd (2) (E Warrern Ave & Waveney St) | K120: =IFERROR(VLOOKUP('Speed Hump'!H120,Main!$A:$G,6,FALSE),"") -> 02-01-21 A | L120: =IFERROR(VLOOKUP('Speed Hump'!H120,Main!$A:$G,7,FALSE),"") -> 03-09-21 A | M120: Yes | N120: 1 | O120: Will be Installed 2021 | P120: 0 | Q120: DTE Gas - GRP | R120: Design - Planning | S120: Gas Main Renewal | T120: SEGRID2021EDet1 | W120: 2021 MGA Grid | X120: Multiple | Y120: Multiple | Z120: Multiple | AA120: 44197 | AB120: 44561 | AC120: Dan Sand | AD120: 734-444-5737 | AE120: daniel.sand@dteenergy.com | AI120: 1/29/2020 | AJ120: NAD 1983 | AK120: Detroit | AL120: East Detroit 1 (EDet1) | AM120: EDet1 | AN120: 5670348.3 | AO120: 11251.905 | AP120: 281.86406 | AQ120: =IFERROR(VLOOKUP(I120,Service!$B:$G,5,FALSE),"") -> 03-29-21 A | AR120: =IFERROR(VLOOKUP(I120,Service!$B:$G,6,FALSE),"") -> 05-03-21 A | AS120: =IFERROR(VLOOKUP(I120,Rest!$B:$G,5,FALSE),"") -> 05-27-21 A | AT120: =IFERROR(VLOOKUP(I120,Rest!$B:$G,6,FALSE),"") -> 05-28-21 A
A121: 1512 | B121: 1 | C121: 12598 | D121: 12571 | E121: Cornwall St | F121: Grayton St | G121: Harvard Rd | H121: DNE IN P6 LAYOUT | J121: =IFERROR(VLOOKUP(H121,[1]Sheet1!$A:$H,3,FALSE),"") | K121: =IFERROR(VLOOKUP('Speed Hump'!H121,Main!$A:$G,6,FALSE),"") | L121: =IFERROR(VLOOKUP('Speed Hump'!H121,Main!$A:$G,7,FALSE),"") | M121: Yes | N121: 1 | O121: Will be Installed 2021 | P121: 0 | Q121: DTE Gas - GRP | R121: Design - Planning | S121: Gas Main Renewal | T121: SEGRID2021EDet1 | W121: 2021 MGA Grid | X121: Multiple | Y121: Multiple | Z121: Multiple | AA121: 44197 | AB121: 44561 | AC121: Dan Sand | AD121: 734-444-5737 | AE121: daniel.sand@dteenergy.com | AI121: 1/29/2020 | AJ121: NAD 1983 | AK121: Detroit | AL121: East Detroit 1 (EDet1) | AM121: EDet1 | AN121: 5670348.3 | AO121: 11251.905 | AP121: 145.5421 | AQ121: =IFERROR(VLOOKUP(I121,Service!$B:$G,5,FALSE),"") | AR121: =IFERROR(VLOOKUP(I121,Service!$B:$G,6,FALSE),"") | AS121: =IFERROR(VLOOKUP(I121,Rest!$B:$G,5,FALSE),"") | AT121: =IFERROR(VLOOKUP(I121,Rest!$B:$G,6,FALSE),"")
A122: 1521 | B122: 1 | C122: 12654 | D122: 11833 | E122: Wayburn St | F122: Evanston St | G122: Wade St | H122: RR1 5621 | I122: GRP-2021-RR.3.1.2 | J122: =IFERROR(VLOOKUP(H122,[1]Sheet1!$A:$H,3,FALSE),"") -> Install Main - Wayburn (Berkshire & Evanston) | K122: =IFERROR(VLOOKUP('Speed Hump'!H122,Main!$A:$G,6,FALSE),"") -> 08-13-21 A | L122: =IFERROR(VLOOKUP('Speed Hump'!H122,Main!$A:$G,7,FALSE),"") -> 08-23-21 A | M122: Yes | N122: 1 | O122: Will be Installed 2021 | P122: 0 | Q122: DTE Gas - GRP | R122: Design - Planning | S122: Gas Main Renewal | W122: 2021 Risk Rank | X122: Wayburn | Y122: Evanston | Z122: Berkshire | AA122: 44197 | AB122: 44561 | AC122: Dan Sand | AD122: 734-444-5737 | AE122: daniel.sand@dteenergy.com | AI122: 6/11/2020 | AJ122: NAD 1983 | AK122: Detroit | AL122: Wayburn (Evanston-Berkshire) | AN122: 90814.165 | AO122: 1790.2966 | AP122: 253.79029 | AQ122: =IFERROR(VLOOKUP(I122,Service!$B:$G,5,FALSE),"") -> 44459 | AR122: =IFERROR(VLOOKUP(I122,Service!$B:$G,6,FALSE),"") -> 44473 | AS122: =IFERROR(VLOOKUP(I122,Rest!$B:$G,5,FALSE),"") -> 44477 | AT122: =IFERROR(VLOOKUP(I122,Rest!$B:$G,6,FALSE),"") -> 44482
A123: 1535 | B123: 1 | C123: 12773 | D123: 11080 | E123: Wayburn St | F123: Wade St | G123: Elmdale St | H123: RR1 5621 | I123: GRP-2021-RR.3.1.2 | J123: =IFERROR(VLOOKUP(H123,[1]Sheet1!$A:$H,3,FALSE),"") -> Install Main - Wayburn (Berkshire & Evanston) | K123: =IFERROR(VLOOKUP('Speed Hump'!H123,Main!$A:$G,6,FALSE),"") -> 08-13-21 A | L123: =IFERROR(VLOOKUP('Speed Hump'!H123,Main!$A:$G,7,FALSE),"") -> 08-23-21 A | M123: Yes | N123: 1 | O123: Will be Installed 2021 | P123: 0 | Q123: DTE Gas - GRP | R123: Design - Planning | S123: Gas Main Renewal | W123: 2021 Risk Rank | X123: Wayburn | Y123: Evanston | Z123: Berkshire | AA123: 44197 | AB123: 44561 | AC123: Dan Sand | AD123: 734-444-5737 | AE123: daniel.sand@dteenergy.com | AI123: 6/11/2020 | AJ123: NAD 1983 | AK123: Detroit | AL123: Wayburn (Evanston-Berkshire) | AN123: 90814.165 | AO123: 1790.2966 | AP123: 273.09206 | AQ123: =IFERROR(VLOOKUP(I123,Service!$B:$G,5,FALSE),"") -> 44459 | AR123: =IFERROR(VLOOKUP(I123,Service!$B:$G,6,FALSE),"") -> 44473 | AS123: =IFERROR(VLOOKUP(I123,Rest!$B:$G,5,FALSE),"") -> 44477 | AT123: =IFERROR(VLOOKUP(I123,Rest!$B:$G,6,FALSE),"") -> 44482
...

Sheet Main
A1: Activity ID | B1: WBS | C1: Project Name | D1: Activity Name | E1: Budgeted Units | F1: Start | G1: Finish
A2: SCDet-4775 | B2: GRP-2021-SCDet1.36.1.2 | C2: 2021 GRP - South Central Detroit 1 | D2: Install Main - Roselawn (Joy & Tireman) | E2: 0 | F2: 11-17-20 A | G2: 12-09-20 A
A3: SCDet-4615 | B3: GRP-2021-SCDet1.34.1.2 | C3: 2021 GRP - South Central Detroit 1 | D3: Install Main - Northlawn (Joy & Tireman) | E3: 0 | F3: 11-24-20 A | G3: 12-07-20 A
A4: SCDet-4695 | B4: GRP-2021-SCDet1.35.1.2 | C4: 2021 GRP - South Central Detroit 1 | D4: Install Main - Cloverlawn (Joy & Tireman) | E4: 0 | F4: 12-07-20 A | G4: 12-16-20 A
A5: SCDet-4455 | B5: GRP-2021-SCDet1.32.1.2 | C5: 2021 GRP - South Central Detroit 1 | D5: Install Main - Wisconsin (Joy & Tireman) | E5: 0 | F5: 12-08-20 A | G5: 12-17-20 A
A6: SCDet-4855 | B6: GRP-2021-SCDet1.37.1.2 | C6: 2021 GRP - South Central Detroit 1 | D6: Install Main - Greenlawn (Joy & Tireman) | E6: 0 | F6: 12-14-20 A | G6: 12-21-20 A
A7: CDET-1960 | B7: PROJ-0951-CDET1-2.46.1.2 | C7: 2020 GRP - Carry Over - Central Detroit 1 | D7: Install Main - Tuxedo Stub (AWO Linwood & Linwood) - Completed 2020 | E7: 0 | F7: 12-21-20 A | G7: 12-22-20 A
A8: CDET-2270 | B8: PROJ-0951-CDET1-2.52.53.2 | C8: 2020 GRP - Carry Over - Central Detroit 1 | D8: Install Main - Wildemere (2) (Webb & Tuxedo) - Completed 2020 | E8: 120 | F8: 12-21-20 A | G8: 12-21-20 A
A9: CDET-1560 | B9: PROJ-0951-CDET1-2.41.1.2 | C9: 2020 GRP - Carry Over - Central Detroit 1 | D9: Install Main - Davison (4) (Dexter & Livernois) - Descoped | E9: 2400 | F9: 12-28-20 A | G9: 12-28-20 A
A10: CDET-1605 | B10: PROJ-0951-CDET1-2.23.1.2 | C10: 2020 GRP - Carry Over - Central Detroit 1 | D10: Install Main - Lawton (2) (Glendale & Leslie) - Completed 2020 | E10: 170 | F10: 12-28-20 A | G10: 12-28-20 A
A11: CDET-1740 | B11: PROJ-0951-CDET1-2.18.1.2 | C11: 2020 GRP - Carry Over - Central Detroit 1 | D11: Install Main - Dexter (2) (Waverly & Davison) - Descoped | E11: 200 | F11: 12-28-20 A | G11: 12-28-20 A
A12: CDET-2185 | B12: PROJ-0951-CDET1-2.51.1.2 | C12: 2020 GRP - Carry Over - Central Detroit 1 | D12: Install Main - Wildemere (1) (Davison & ANO Davison) - Completed 2020 | E12: 120 | F12: 12-29-20 A | G12: 12-29-20 A
A13: GP 41150 | B13: PROJ-0951-GP 5 -3.77.76.2 | C13: 2020 GRP - Carry Over - GP 5 | D13: Elevate Main - Kercheval Pl (ASO Kercheval & Kerchval) GP4 | E13: 540 | F13: 12-29-20 A | G13: 12-29-20 A
... A385: SCDet-2295 | B385: GRP-2021-SCDet1.5.1.2 | C385: 2021 GRP - South Central Detroit 1 | D385: Elevate Main - Oakman Blvd E 3 (Joy & Birwood) | E385: 1108 | F385: 04-06-21 A | G385: 04-12-21 A
A386: Ypsi 3-12690 | B386: PROJ-0951-YSP3.15.1.2 | C386: 2021 GRP - Ypsilanti 3 | D386: Install Main - Eugene (Tyler & 94 Service Drive) | E386: 285 | F386: 04-06-21 A | G386: 44489
A387: CDET-21010 | B387: PROJ-0951-CDET1-2.32.1.2 | C387: 2020 GRP - Carry Over - Central Detroit 1 | D387: Elevate Main - Ewald N (1) (Petoskey & Petoskey) | E387: 314 | F387: 04-07-21 A | G387: 04-08-21 A
A388: SWDET2-16965 | B388: PROJ-0951-SWDET2.78.3.2 | C388: 2021 GRP - South West Detroit 2 | D388: Install Main - Sharon (Woodmere & ANO W Vernor) | E388: 696 | F388: 04-07-21 A | G388: 04-12-21 A
A389: RR1 7641 | B389: GRP-2021-RR.30.1.2 | C389: 2021 GRP - Risk Rank | D389: Install Main - Grand River (61' NNPL Whitney & Whitney) | E389: 157 | F389: 04-07-21 A | G389: 04-14-21 A
A390: SWDET2-11175 | B390: PROJ-0951-SWDET2.13.2.2 | C390: 2021 GRP - South West Detroit 2 | D390: Install Main - Central 1 E (W Vernor & ASO Vernor) | E390: 127 | F390: 04-07-21 A | G390: 05-18-21 A
A391: SWDET2-5790 | B391: PROJ-0951-SWDET2.53.1.2 | C391: 2021 GRP - South West Detroit 2 | D391: Install Main - Pershing (Springwells & Central) | E391: 907 | F391: 04-07-21 A | G391: 04-15-21 A
A392: EDET1 505796 | B392: GRP-2021-ED1.3.1.2 | C392: 2021 GRP - East Detroit 1 | D392: Install Main - Mack Ave (ASO Mack Ave & ANO Mack Ave) | E392: 300 | F392: 04-07-21 A | G392: 04-07-21 A
A393: NDET3-4645 | B393: GRP-2021-ND3.4.1.2 | C393: 2021 GRP - North Detroit 3 | D393: Install Main - E Outer Dr (North) - (Anglin St & Mt Elliot St) | E393: 9590 | F393: 04-07-21 A | G393: 05-07-21 A
A394: CDET2-11130 | B394: GRP-2021-CDet2.51.1.2 | C394: 2021 GRP - Central Detroit 2 | D394: Install Main - Wildemere 3 (Pingree & Pingree) | E394: 139 | F394: 04-07-21 A | G394: 04-07-21 A
A395: Ypsi 3-4590 | B395: PROJ-0951-YSP3.11.1.2 | C395: 2021 GRP - Ypsilanti 3 | D395: Install Main - Fox (94 Service Drive & Tyler) | E395: 1325 | F395: 04-08-21 A | G395: 04-08-21 A
A396: SWDET2-2030 | B396: PROJ-0951-SWDET2.5.1.2 | C396: 2021 GRP - South West Detroit 2 | D396: Install Main - Fort (Woodmere & Distel) | E396: 161 | F396: 04-08-21 A | G396: 04-12-21 A
A397: EDET1 501052 | B397: GRP-2021-ED1.60.1.2 | C397: 2021 GRP - East Detroit 1 | D397: Install Main - Nottingham Rd (2) (Waveney St & ANO Mack Ave) | E397: 2260 | F397: 04-08-21 A | G397: 04-14-21 A
A398: NDET3-5135 | B398: GRP-2021-ND3.56.1.2 | C398: 2021 GRP - North Detroit 3 | D398: Install Main - Fenelon Ave (1) (8 Mile Rd (M102) & E Outer Dr) | E398: 2350 | F398: 04-08-21 A | G398: 04-15-21 A
... A800: RR1 5135 | B800: GRP-2021-RR1.50.1.2 | C800: 2021 GRP - River Rouge | D800: Install Main - Burke 1 (E James St & E Pleasant St) | E800: 225 | F800: 08-05-21 A | G800: 09-14-21 A
A801: RR1 56410 | B801: GRP-2021-RR1.44.2.2 | C801: 2021 GRP - River Rouge | D801: Install Main - E Pleasasnt North (4' EWPL Burke St & 8' WEPL Genessee St) | E801: 1175 | F801: 08-05-21 A | G801: 44459
A802: NDET3-4235 | B802: GRP-2021-ND3.70.1.2 | C802: 2021 GRP - North Detroit 3 | D802: Elevate Main - Gallagher (1) (8 Mile Rd (M102) & E Outer Dr) | E802: 2342 | F802: 08-05-21 A | G802: 08-10-21 A
A803: SWDET2-5950 | B803: PROJ-0951-SWDET2.55.1.2 | C803: 2021 GRP - South West Detroit 2 | D803: Install Main - Whitaker 1 (Mullane & Springwells) | E803: 765 | F803: 08-09-21 A | G803: 08-16-21 A
A804: RR1 5701 | B804: GRP-2021-RR.4.1.2 | C804: 2021 GRP - Risk Rank | D804: Install Main - Manistique (E Jefferson & Essex) | E804: 2300 | F804: 08-09-21 A | G804: 08-31-21 A
A805: NDET3-170 | B805: GRP-2021-ND3.80.1.2 | C805: 2021 GRP - North Detroit 3 | D805: Install Main - Tie-ins - Norwood At 8 Mile Rd | E805: 14 | F805: 08-09-21 A | G805: 08-09-21 A
A806: NDET3-8510 | B806: GRP-2021-ND3.88.4.2 | C806: 2021 GRP - North Detroit 3 | D806: Install Main - 7 Mile Rd (1) (Revere St & Revere St) | E806: 130 | F806: 08-09-21 A | G806: 08-09-21 A
A807: NDET3-9280 | B807: GRP-2021-ND3.9.15.2 | C807: 2021 GRP - North Detroit 3 | D807: Install Main - 7 Mile Rd (1) (At Albany Ave) | E807: 220 | F807: 08-09-21 A | G807: 08-09-21 A
A808: SWDET2-9646 | B808: GRP-2021-WCDet1.52.1.2 | C808: 2021 GRP - West Central Detroit 1 | D808: Install Main - Quincy 2 (Bourke & EOM) | E808: 503 | F808: 08-09-21 A | G808: 08-10-21 A
A809: RR1 51306 | B809: GRP-2021-RR1.66.1.2 | C809: 2021 GRP - River Rouge | D809: Install Main - Alexander 1 (139' SSPL E Great Lakes St & Abbott St) | E809: 550 | F809: 08-10-21 A | G809: 08-12-21 A
A810: RR1 60540 | B810: GRP-2021-RR1.2.9.2 | C810: 2021 GRP - River Rouge | D810: Install Main - W Jefferson Ave (1) (4' WEPL W Jefferson Ave & 0' WWPL W Jefferson Ave) | E810: 120 | F810: 08-10-21 A | G810: 08-12-21 A
A811: AA4 20382 | B811: GRP-2021-AA4.8.1.2 | C811: 2021 GRP - Ann Arbor 4 | D811: Elevate Main - W Liberty St (54' EEPL Crest Ave & 21' WWPL S 7Th St) | E811: 1165 | F811: 08-10-21 A | G811: 09-16-21 A
A812: WCDET1-15570 | B812: GRP-2021-WCDet1.61.1.2 | C812: 2021 GRP - West Central Detroit 1 | D812: Install Main - Bourke (North) (Livernois & Quincy) | E812: 549 | F812: 08-11-21 A | G812: 08-11-21 A
A813: NDET3-6725 | B813: GRP-2021-ND3.41.2.2 | C813: 2021 GRP - North Detroit 3 | D813: Install Main - Ryan Rd (2) (Emery St & ANO 7 Mile Rd) | E813: 935 | F813: 08-11-21 A | G813: 08-16-21 A
A814: Ypsi 3-1950 | B814: PROJ-0951-YSP3.2.1.2 | C814: 2021 GRP - Ypsilanti 3 | D814: Install Main - Desoto (State & Tyler) | E814: 2465 | F814: 08-11-21 A | G814: 08-30-21 A
A815: RR1 53850 | B815: GRP-2021-RR1.58.3.2 | C815: 2021 GRP - River Rouge | D815: Install Main - Coolidge Hwy 2 (Burke St & Richter St) | E815: 1970 | F815: 08-12-21 A | G815: 44504
A816: RR1 5183 | B816: GRP-2021-RR1.62.1.2 | C816: 2021 GRP - River Rouge | D816: Install Main - E Oak St (W Jefferson & 4' EWPL Burke St) | E816: 135 | F816: 08-12-21 A | G816: 08-12-21 A
A817: NDET3-6500 | B817: GRP-2021-ND3.41.1.2 | C817: 2021 GRP - North Detroit 3 | D817: Install Main - Ryan Rd (2) (E Outer Dr & Emery St) | E817: 1510 | F817: 08-12-21 A | G817: 08-16-21 A
A818: NDET3-6940 | B818: GRP-2021-ND3.65.1.2 | C818: 2021 GRP - North Detroit 3 | D818: Elevate Main - Charest St (1) (8 Mile Rd (M102) & E Outer Dr) | E818: 2352 | F818: 08-12-21 A | G818: 08-17-21 A
A819: WCDET1-15650 | B819: GRP-2021-WCDet1.27.3.2 | C819: 2021 GRP - West Central Detroit 1 | D819: Install Main - Stoepel 1 (Ewald & Oakman) | E819: 502 | F819: 08-12-21 A | G819: 08-17-21 A
A820: Ypsi 3-12240 | B820: PROJ-0951-YSP3.45.1.2 | C820: 2021 GRP - Ypsilanti 3 | D820: Install Main - US-12 (Gill & Gates) | E820: 365 | F820: 08-12-21 A | G820: 08-17-21 A
A821: RR1 5621 | B821: GRP-2021-RR.3.1.2 | C821: 2021 GRP - Risk Rank | D821: Install Main - Wayburn (Berkshire & Evanston) | E821: 1990 | F821: 08-13-21 A | G821: 08-23-21 A
A822: RR1 60460 | B822: GRP-2021-RR1.2.8.2 | C822: 2021 GRP - River Rouge | D822: Install Main - W Jefferson Ave (1) (Coolidge Hwy & Oak St) | E822: 345 | F822: 08-13-21 A | G822: 08-17-21 A
A823: NDET3-3695 | B823: GRP-2021-ND3.57.1.2 | C823: 2021 GRP - North Detroit 3 | D823: Install Main - Hamlet St (1) (Ryan Rd & Sunset St) - Removed from the scope | E823: 0 | F823: 08-16-21 A | G823: 08-17-21 A
A824: NDET3-110 | B824: GRP-2021-ND3.73.1.2 | C824: 2021 GRP - North Detroit 3 | D824: Install Main - Harned St (2) (At E Outer Dr) | E824: 60 | F824: 08-16-21 A | G824: 08-17-21 A
A825: NDET3-155 | B825: GRP-2021-ND3.81.1.2 | C825: 2021 GRP - North Detroit 3 | D825: Install Main - Tie-ins - (Norwood St & Outer Dr) | E825: 7 | F825: 08-16-21 A | G825: 08-17-21 A
A826: NDET3-160 | B826: GRP-2021-ND3.81.1.2 | C826: 2021 GRP - North Detroit 3 | D826: Install Main - Tie-ins - (Norwood St & ANO 7 Mile Rd) | E826: 27 | F826: 08-16-21 A | G826: 08-17-21 A
A827: NDET3-165 | B827: GRP-2021-ND3.81.1.2 | C827: 2021 GRP - North Detroit 3 | D827: Install Main - Tie-ins - (Norwood St & 7 Mile Rd) | E827: 4 | F827: 08-16-21 A | G827: 08-17-21 A
... A846: WCDET1-1785 | B846: GRP-2021-WCDet1.7.1.2 | C846: 2021 GRP - West Central Detroit 1 | D846: Install Main - Broadstreet (Waverly & Buena Vista) | E846: 814 | F846: 08-16-21 A | G846: 08-18-21 A
A847: Milestone 1 | B847: GRP-2021-ND3.23 | C847: 2021 GRP - North Detroit 3 | D847: Install Main Finish Milestone | E847: 0 | G847: 08-17-21 A
A848: SWDET2-4910 | B848: PROJ-0951-SWDET2.42.1.2 | C848: 2021 GRP - South West Detroit 2 | D848: Install Main - Logan 1 (Mullane & Springwells) | E848: 705 | F848: 08-17-21 A | G848: 08-18-21 A
A849: NDET3-6705 | B849: GRP-2021-ND3.41.3.2 | C849: 2021 GRP - North Detroit 3 | D849: Install Main - Ryan Rd (2) (Ryan Rd & Ryan Rd) | E849: 55 | F849: 08-17-21 A | G849: 08-17-21 A
A850: RR1 5120 | B850: GRP-2021-RR1.42.1.2 | C850: 2021 GRP - River Rouge | D850: Install Main - Genessee 1 (E Pleasant St & Coolidge Hwy) | E850: 1180 | F850: 08-17-21 A | G850: 44476
A851: RR1 51307 | B851: GRP-2021-RR1.67.1.2 | C851: 2021 GRP - River Rouge | D851: Install Main - Catherine St (Alexander St & 179' WWPL Ironton St) | E851: 460 | F851: 08-18-21 A | G851: 08-19-21 A
A852: WCDET1-9860 | B852: GRP-2021-WCDet1.27.2.2 | C852: 2021 GRP - West Central Detroit 1 | D852: Install Main - Stoepel 1 (Oakman & Buena Vista) | E852: 2125 | F852: 08-18-21 A | G852: 09-01-21 A
A853: WCDET1-3065 | B853: GRP-2021-WCDet1.13.2.2 | C853: 2021 GRP - West Central Detroit 1 | D853: Install Main - Ewald Cr North 1 (Schoolcraft & Livernois) | E853: 1920 | F853: 08-18-21 A | G853: 09-07-21 A
A854: RR1 11081 | B854: GRP-2021-RR.11.1.2 | C854: 2021 GRP - Risk Rank | D854: Install Main - Novara (Crusade & Kelly) | E854: 2911 | F854: 08-18-21 A | G854: 44473
A855: NCDET - 24225 | B855: NEWPROJ-6.16.1.1 | C855: 2020 GRP - Carry Over - North Central Detroit 3 | D855: Elevate Main - Ward (Puritan & Fenkell) | E855: 2581 | F855: 08-18-21 A | G855: 08-26-21 A
A856: SWDET2-19805 | B856: PROJ-0951-SWDET2.36.3.2 | C856: 2021 GRP - South West Detroit 2 | D856: Install Main - Longworth (Tie-in & Lawndale) | E856: 690 | F856: 08-19-21 A | G856: 08-24-21 A
A857: WCDET1-1625 | B857: GRP-2021-WCDet1.5.1.2 | C857: 2021 GRP - West Central Detroit 1 | D857: Install Main - Waverly (Broadstreet & Dexter) | E857: 2405 | F857: 08-19-21 A | G857: 08-27-21 A
A858: AA4 20774 | B858: GRP-2021-AA4.32.1.2 | C858: 2021 GRP - Ann Arbor 4 | D858: Install Main - 8th St (W Liberty St & EOM) | E858: 660 | F858: 08-19-21 A | G858: 08-19-21 A
A859: NDET3-7400 | B859: GRP-2021-ND3.78.1.2 | C859: 2021 GRP - North Detroit 3 | D859: Elevate Main - Mitchell St (1) (8 Mile Rd (M102) & E Outer Dr) | E859: 2367 | F859: 08-19-21 A | G859: 08-24-21 A
A860: RR1 53610 | B860: GRP-2021-RR1.4.3.2 | C860: 2021 GRP - River Rouge | D860: Install Main - Coolidge Hwy 1 (Division St & W Jefferson Ave) | E860: 680 | F860: 08-20-21 A | G860: 44470
A861: NWDET-21780 | B861: PROJ-0951-NWDET1CO.29.3.2 | C861: 2021 GRP - North West Detroit 1b | D861: Elevate Main - Artesian (3) (SO Glendale & EEOM Artesian) | E861: 359 | F861: 08-23-21 A | G861: 08-24-21 A
A862: SWDET2-14875 | B862: PROJ-0951-SWDET2.64.3.2 | C862: 2021 GRP - South West Detroit 2 | D862: Install Main - Whitaker 2 (Central & Green) | E862: 929 | F862: 08-23-21 A | G862: 08-25-21 A
A863: RR1 6821 | B863: GRP-2021-RR.19.1.2 | C863: 2021 GRP - Risk Rank | D863: Install Main - McDougall (Davison & Carpenter) | E863: 2460 | F863: 08-23-21 A | G863: 09-08-21 A
A864: RR1 9561 | B864: GRP-2021-FR.54.1.2 | C864: 2021 GRP - Field Recommendation | D864: Install Main - 16th (65' NNPL Lafayette & Lafayette) | E864: 168 | F864: 08-23-21 A | G864: 08-31-21 A
A865: RR1 9161 | B865: GRP-2021-FR.49.1.2 | C865: 2021 GRP - Field Recommendation | D865: Install Main - St Anne (Lafayette & Fort) | E865: 553 | F865: 08-23-21 A | G865: 08-31-21 A
A866: Ypsi 3-3090 | B866: PROJ-0951-YSP3.4.3.2 | C866: 2021 GRP - Ypsilanti 3 | D866: Install Main - Nash 2 (Tyler & State) | E866: 2685 | F866: 08-23-21 A | G866: 09-13-21 A
A867: RR1 9401 | B867: GRP-2021-FR.52.1.2 | C867: 2021 GRP - Field Recommendation | D867: Install Main - Lafayette (3' WWPL 17Th & 16Th) | E867: 298 | F867: 08-23-21 A | G867: 08-31-21 A
A868: RR1 10651 | B868: GRP-2021-FR.52.1.2 | C868: 2021 GRP - Field Recommendation | D868: Install Main - Lafayette (St. Anne & 110' EEPL St. Anne) | E868: 115 | F868: 08-23-21 A | G868: 08-31-21 A
A869: AA4 26908 | B869: GRP-2021-AA4.28.3.2 | C869: 2021 GRP - Ann Arbor 4 | D869: Install Main - W Jefferson St South (1' WEPL S 7Th St & S 1St St) | E869: 1240 | F869: 08-23-21 A | G869: 09-09-21 A
A870: NWDET-21840 | B870: PROJ-0951-NWDET1CO.29.3.2 | C870: 2021 GRP - North West Detroit 1b | D870: Elevate Main - Artesian (4) (Artesian & EOM) | E870: 2077 | F870: 08-24-21 A | G870: 08-24-21 A
A871: WCDET1-12190 | B871: GRP-2021-WCDet1.40.3.2 | C871: 2021 GRP - West Central Detroit 1 | D871: Install Main - Buena Vista 2 (Broadstreet & Petoskey) | E871: 1149 | F871: 08-24-21 A | G871: 08-30-21 A
A872: SWDET2-20125 | B872: PROJ-0951-SWDET2.36.4.2 | C872: 2021 GRP - South West Detroit 2 | D872: Install Main - Longworth (Tie-in & Springwells) | E872: 600 | F872: 08-25-21 A | G872: 08-25-21 A
A873: RR1 5141 | B873: GRP-2021-RR1.48.1.2 | C873: 2021 GRP - River Rouge | D873: Install Main - Delisle (W Jefferson & Burke) | E873: 380 | F873: 08-25-21 A | G873: 44462
A874: RR1 55850 | B874: GRP-2021-RR1.53.4.2 | C874: 2021 GRP - River Rouge | D874: Install Main - E James South (3' WEPL Burke St & 8' EWPL Harris St) 2" | E874: 1365 | F874: 08-25-21 A | G874: 09-02-21 A
A875: WCDET1-1705 | B875: GRP-2021-WCDet1.6.1.2 | C875: 2021 GRP - West Central Detroit 1 | D875: Install Main - Tyler (Broadstreet & Dexter) | E875: 2440 | F875: 08-26-21 A | G875: 09-08-21 A
A876: AA4 20526 | B876: GRP-2021-AA4.13.1.2 | C876: 2021 GRP - Ann Arbor 4 | D876: Install Main - 5th St (W Jefferson St & W Madison St) | E876: 749 | F876: 08-26-21 A | G876: 44460
A877: NDET3-4245 | B877: GRP-2021-ND3.72.1.2 | C877: 2021 GRP - North Detroit 3 | D877: Elevate Main - Harned St (1) (8 Mile Rd (M102) & E Outer Dr) | E877: 2329 | F877: 08-26-21 A | G877: 08-31-21 A
A878: RR1 587 | B878: GRP-2021-RR1.30.1.2 | C878: 2021 GRP - River Rouge | D878: Install Main - Myrtle (Division & W Jefferson) | E878: 590 | F878: 08-26-21 A | G878: 08-30-21 A
A879: RR1 58610 | B879: GRP-2021-RR1.56.3.2 | C879: 2021 GRP - River Rouge | D879: Install Main - Richter (Maple St & E Great Lakes St) | E879: 1080 | F879: 08-27-21 A | G879: 09-02-21 A
A880: SWDET2-15035 | B880: PROJ-0951-SWDET2.64.2.2 | C880: 2021 GRP - South West Detroit 2 | D880: Install Main - Whitaker 2 (Green & Beard) | E880: 737 | F880: 08-27-21 A | G880: 08-30-21 A
A881: Ypsi 3-2200 | B881: PROJ-0951-YSP3.42.1.2 | C881: 2021 GRP - Ypsilanti 3 | D881: Install Main - State (McCartney & Desoto) | E881: 1105 | F881: 08-30-21 A | G881: 09-07-21 A
A882: WCDET1-3545 | B882: GRP-2021-WCDet1.30.1.2 | C882: 2021 GRP - West Central Detroit 1 | D882: Install Main - Buena Vista 1 (Turner & Turner) Start | E882: 113 | F882: 08-30-21 A | G882: 08-30-21 A
A883: AA4 20377 | B883: GRP-2021-AA4.2.1.2 | C883: 2021 GRP - Ann Arbor 4 | D883: Install Main - Pauline Blvd (Redeemer & S 7th Stt) | E883: 1241 | F883: 08-30-21 A | G883: 09-15-21 A
A884: WCDET1-9460 | B884: GRP-2021-WCDet1.16.3.2 | C884: 2021 GRP - West Central Detroit 1 | D884: Install Main - Santa Rosa 2 (Buena Vista & Elmhurst) | E884: 2897 | F884: 08-30-21 A | G884: 09-16-21 A
A885: SWDET2-17685 | B885: PROJ-0951-SWDET2.61.2.2 | C885: 2021 GRP - South West Detroit 2 | D885: Install Main - Senator 2 (Springwells & Central) | E885: 905 | F885: 08-30-21 A | G885: 09-08-21 A
A886: RR1 58110 | B886: GRP-2021-RR1.54.3.2 | C886: 2021 GRP - River Rouge | D886: Install Main - Leroy (Genessee St & Richter St) | E886: 755 | F886: 08-30-21 A | G886: 44461
A887: RR1 55290 | B887: GRP-2021-RR1.45.2.2 | C887: 2021 GRP - River Rouge | D887: Install Main - E Henry (33' EEPL Genessee St & 110' WWPL Richter St) | E887: 610 | F887: 08-30-21 A | G887: 44504
A888: RR1 55610 | B888: GRP-2021-RR1.53.80.2 | C888: 2021 GRP - River Rouge | D888: Install Main - E James South (W Jefferson & 4' EWPL Burke St) 2" | E888: 395 | F888: 08-30-21 A | G888: 09-02-21 A
A889: RR1 55690 | B889: GRP-2021-RR1.53.2.2 | C889: 2021 GRP - River Rouge | D889: Install Main - E James South (4' EWPL Burke St & 3' WEPL Burke St) 3" | E889: 40 | F889: 08-30-21 A | G889: 09-02-21 A
A890: RR1 57290 | B890: GRP-2021-RR1.41.2.2 | C890: 2021 GRP - River Rouge | D890: Install Main - Harris (18' NNPL E James St & 18' NNPL E Pleasant St) | E890: 425 | F890: 08-31-21 A | G890: 09-03-21 A
...

Sheet Service
A1: Activity ID | B1: WBS | C1: Project Name | D1: Activity Name | E1: Budgeted Units | F1: Start | G1: Finish
A2: CDET-1350 | B2: PROJ-0951-CDET1-2.36.1.2 | C2: 2020 GRP - Carry Over - Central Detroit 1 | D2: Install Services - Sturtevant (1) (Linwood & Dexter) | E2: 48 | F2: 11-16-20 A | G2: 03-01-21 A
A3: RedfMMO1030 | B3: PROJ-0951-MMORedford-1.1.1.2 | C3: 2020 GRP - Carry Over - MMO 6382 Redford | D3: MMO - 7 Mile Rd (Inkster & Gaylord) | E3: 14 | F3: 11-17-20 A | G3: 12-31-20 A
A4: CDET-2410 | B4: PROJ-0951-CDET1-2.25.2.2 | C4: 2020 GRP - Carry Over - Central Detroit 1 | D4: Install Services - Buena Vista (1) (AEO Dexter & Linwood) | E4: 60 | F4: 12-07-20 A | G4: 03-09-21 A
A5: Muni7370 | B5: PROJ-0951-MUN-3.31.1.2 | C5: 2020 GRP - Carry Over - Municipality | D5: Install Services - Laslle (Longfellow & EOM) | E5: 1 | F5: 12-26-20 A | G5: 12-29-20 A
A6: CDET-1175 | B6: PROJ-0951-CDET1-2.6.2.2 | C6: 2020 GRP - Carry Over - Central Detroit 1 | D6: Install Services - Clements (2) (Livernois & Dexter) | E6: 16 | F6: 12-28-20 A | G6: 01-21-21 A
A7: Muni7840 | B7: PROJ-0951-MUN-3.34.1.2 | C7: 2020 GRP - Carry Over - Municipality | D7: Install Services - linwood (Off Joy) | E7: 1 | F7: 12-29-20 A | G7: 12-30-20 A
A8: Muni4450 | B8: PROJ-0951-MUN-3.18.1.2 | C8: 2020 GRP - Carry Over - Municipality | D8: Install Services - Rosa Parks (W Philadelphia & Longfellow) West and East | E8: 7 | F8: 12-30-20 A | G8: 12-30-20 A
A9: Muni5370 | B9: PROJ-0951-MUN-3.21.1.2 | C9: 2020 GRP - Carry Over - Municipality | D9: Install Services - Joy (Linwood & Dexter) | E9: 5 | F9: 12-30-20 A | G9: 12-30-20 A
A10: Muni7800 | B10: PROJ-0951-MUN-3.33.1.2 | C10: 2020 GRP - Carry Over - Municipality | D10: Install Services - Dexter (Off Joy) | E10: 0 | F10: 12-30-20 A | G10: 12-30-20 A
A11: CDET-10385 | B11: PROJ-0951-CDET1-2.53.1.2 | C11: 2020 GRP - Carry Over - Central Detroit 1 | D11: Install Services - Ewald (2) (Livernois & Dexter) | E11: 14 | F11: 01-07-21 A | G11: 02-16-21 A
A12: AA4 21868 | B12: GRP-2021-AA4.36.2.2 | C12: 2021 GRP - Ann Arbor 4 | D12: Install Services - Eberwhite Blvd West (Lutz & W Madison) | E12: 9 | F12: 01-11-21 A | G12: 02-01-21 A
A13: AA4 23978 | B13: GRP-2021-AA4.40.4.2 | C13: 2021 GRP - Ann Arbor 4 | D13: Install Services - Lutz Ave (Eberwhite Blvd & S 7th St) | E13: 12 | F13: 01-11-21 A | G13: 01-25-21 A
... A44: AA4 26768 | B44: GRP-2021-AA4.49.3.2 | C44: 2021 GRP - Ann Arbor 4 | D44: Install Services - Soule Blvd (102' SSPL Wakefield Ave & 373' SSPL Lutz Ave) | E44: 11 | F44: 02-01-21 A | G44: 03-10-21 A
A45: AP 4580 | B45: PROJ-0951-MMOAllen.71.1.2 | C45: 2021 GRP - Allen Park MMO | D45: MMO Services - Reeck 1 (Promenade & Goddard) | E45: 19 | F45: 02-02-21 A | G45: 44462
A46: AA4 23638 | B46: GRP-2021-AA4.40.3.2 | C46: 2021 GRP - Ann Arbor 4 | D46: Install Services - Lutz Ave (14' WEPL Soule Blvd & 11' EWPL Crest Ave) | E46: 4 | F46: 02-02-21 A | G46: 03-02-21 A
A47: AP 4330 | B47: PROJ-0951-MMOAllen.66.1.2 | C47: 2021 GRP - Allen Park MMO | D47: MMO Services - Pleasant (Reeck & Park) | E47: 20 | F47: 02-03-21 A | G47: 03-02-21 A
A48: AP 4730 | B48: PROJ-0951-MMOAllen.74.1.2 | C48: 2021 GRP - Allen Park MMO | D48: MMO Services - Rose (Reeck & Park) | E48: 20 | F48: 02-03-21 A | G48: 02-03-21 A
A49: AP 4380 | B49: PROJ-0951-MMOAllen.67.1.2 | C49: 2021 GRP - Allen Park MMO | D49: MMO Services - Promenade (Reeck & Park) | E49: 17 | F49: 02-03-21 A | G49: 03-02-21 A
A50: AA4 27568 | B50: GRP-2021-AA4.52.2.2 | C50: 2021 GRP - Ann Arbor 4 | D50: Install Services - W Madison St (6' WEPL Eberwhite Blvd & Madison Pl) | E50: 9 | F50: 02-03-21 A | G50: 03-10-21 A
A51: AA4 20846 | B51: GRP-2021-AA4.55.1.2 | C51: 2021 GRP - Ann Arbor 4 | D51: Install Services - Woodbridge Blvd (Eberwhite Blvd & EOM) | E51: 1 | F51: 02-03-21 A | G51: 02-26-21 A
A52: AA4 20827 | B52: GRP-2021-AA4.36.1.2 | C52: 2021 GRP - Ann Arbor 4 | D52: Install Services - Eberwhite Blvd East (Woodbridge & Elder) | E52: 14 | F52: 02-03-21 A | G52: 02-10-21 A
A53: SCDet-4545 | B53: GRP-2021-SCDet1.33.1.2 | C53: 2021 GRP - South Central Detroit 1 | D53: Install Services - Ohio (Joy & Tireman) | E53: 85 | F53: 02-04-21 A | G53: 03-16-21 A
A54: AA4 20842 | B54: GRP-2021-AA4.51.1.2 | C54: 2021 GRP - Ann Arbor 4 | D54: Install Services - Virginia St (Bemidji St & W Liberty St) | E54: 0 | F54: 02-04-21 A | G54: 02-04-21 A
A55: SCDet-4705 | B55: GRP-2021-SCDet1.35.1.2 | C55: 2021 GRP - South Central Detroit 1 | D55: Install Services - Cloverlawn (Joy & Tireman) | E55: 77 | F55: 02-08-21 A | G55: 03-08-21 A
A56: CDET-865 | B56: PROJ-0951-CDET1-2.31.1.2 | C56: 2020 GRP - Carry Over - Central Detroit 1 | D56: Install Services - Glendale (1) (Linwood & AEO Dexter) | E56: 71 | F56: 02-08-21 A | G56: 03-08-21 A
A57: EDET1 50755 | B57: GRP-2021-ED1.28.1.2 | C57: 2021 GRP - East Detroit 1 | D57: Install Services - Harvard Rd (2) (Waveney St & Mack Ave) | E57: 102 | F57: 02-08-21 A | G57: 03-18-21 A
... A61: SCDet-5825 | B61: GRP-2021-SCDet1.49.1.2 | C61: 2021 GRP - South Central Detroit 1 | D61: Install Services - Mackenzie 1 (Hartwell & Littlefield) | E61: 3 | F61: 02-22-21 A | G61: 03-08-21 A
A62: AP 2760 | B62: PROJ-0951-MMOAllen.59.1.2 | C62: 2021 GRP - Allen Park MMO | D62: MMO Services - Old Goddard (Goddard Rd & Pheasant Run) | E62: 2 | F62: 02-22-21 A | G62: 44459
A63: NWDET-18520 | B63: PROJ-0951-NWDET1CO.49.2.2 | C63: 2021 GRP - North West Detroit 1b | D63: Install Services - Piedmont (2) (Schoolcraft & Davison) | E63: 8 | F63: 02-22-21 A | G63: 02-23-21 A
A64: NWDET-17430 | B64: PROJ-0951-NWDET1CO.51.2.2 | C64: 2021 GRP - North West Detroit 1b | D64: Install Services - Greenview (2) (Davison & EOM) | E64: 14 | F64: 02-22-21 A | G64: 02-23-21 A
A65: NWDET-17200 | B65: PROJ-0951-NWDET1CO.51.3.2 | C65: 2021 GRP - North West Detroit 1b | D65: Install Services - Greenview (2) (Schoolcraft & Davison) | E65: 25 | F65: 02-22-21 A | G65: 03-01-21 A
A66: NWDET-16970 | B66: PROJ-0951-NWDET1CO.47.5.2 | C66: 2021 GRP - North West Detroit 1b | D66: Install Services - Minock (2) (ASO Schoolcraft & Davison) | E66: 14 | F66: 02-22-21 A | G66: 02-23-21 A
A67: NWDET-15230 | B67: PROJ-0951-NWDET1CO.32.2.2 | C67: 2021 GRP - North West Detroit 1b | D67: Install Services - Stahelin (2) (Schoolcraft & EOM) | E67: 12 | F67: 02-22-21 A | G67: 02-23-21 A
A68: NWDET-15140 | B68: PROJ-0951-NWDET1CO.32.3.2 | C68: 2021 GRP - North West Detroit 1b | D68: Install Services - Stahelin (2) (Schoolcraft & Davison) | E68: 22 | F68: 02-22-21 A | G68: 02-26-21 A
A69: NWDET-14420 | B69: PROJ-0951-NWDET1CO.34.3.2 | C69: 2021 GRP - North West Detroit 1b | D69: Install Services - Ashton (2) (Schoolcraft & EOM) | E69: 48 | F69: 02-22-21 A | G69: 03-02-21 A
A70: NWDET-11190 | B70: PROJ-0951-NWDET1CO.20.4.2 | C70: 2021 GRP - North West Detroit 1b | D70: Install Services - Rosemont (2) (Davison & EOM) | E70: 18 | F70: 02-22-21 A | G70: 02-24-21 A
A71: NWDET-11100 | B71: PROJ-0951-NWDET1CO.20.2.2 | C71: 2021 GRP - North West Detroit 1b | D71: Install Services - Rosemont (2) (Schoolcraft & Davison) | E71: 34 | F71: 02-22-21 A | G71: 02-26-21 A
A72: NWDET-9230 | B72: PROJ-0951-NWDET1CO.56.2.2 | C72: 2021 GRP - North West Detroit 1b | D72: Install Services - Glastonbury (4) (Davison & EOM) | E72: 5 | F72: 02-22-21 A | G72: 02-22-21 A
A73: NWDET-8990 | B73: PROJ-0951-NWDET1CO.56.3.2 | C73: 2021 GRP - North West Detroit 1b | D73: Install Services - Glastonbury (4) (Schoolcraft & Davison) | E73: 25 | F73: 02-22-21 A | G73: 03-02-21 A
A74: NWDET-7370 | B74: PROJ-0951-NWDET1CO.24.2.2 | C74: 2021 GRP - North West Detroit 1b | D74: Install Services - Auburn (1) (Glendale & EOM) | E74: 7 | F74: 02-22-21 A | G74: 02-22-21 A
... A115: AP 1680 | B115: PROJ-0951-MMOAllen.5.1.2 | C115: 2021 GRP - Allen Park MMO | D115: MMO Services - Andrews 2 (Allen & Midway) | E115: 15 | F115: 03-02-21 A | G115: 03-02-21 A
A116: AP 1720 | B116: PROJ-0951-MMOAllen.7.1.2 | C116: 2021 GRP - Allen Park MMO | D116: MMO Services - Balfour 1 (Southway & Goddard) | E116: 4 | F116: 03-02-21 A | G116: 44460
A117: SCDet-9350 | B117: GRP-2021-SCDet1.11.2.2 | C117: 2021 GRP - South Central Detroit 1 | D117: Install Services - Decatur (309' NNPL Tireman & Tireman) | E117: 3 | F117: 03-07-21 A | G117: 03-12-21 A
A118: NWDET-13550 | B118: PROJ-0951-NWDET1CO.13.3.2 | C118: 2021 GRP - North West Detroit 1b | D118: Install Services - Westwood (1) (ASO Schoolcraft & Davison) | E118: 9 | F118: 03-08-21 A | G118: 03-15-21 A
A119: CDET2-3385 | B119: GRP-2021-CDet2.27.1.2 | C119: 2021 GRP - Central Detroit 2 | D119: Install Services - Gladstone 1 (Dexter & Lawton) | E119: 29 | F119: 03-08-21 A | G119: 03-15-21 A
A120: CDET2-2505 | B120: GRP-2021-CDet2.15.1.2 | C120: 2021 GRP - Central Detroit 2 | D120: Install Services - Edison 2 (Linwood & Rosa Parks) | E120: 101 | F120: 03-08-21 A | G120: 04-15-21 A
A121: EDET1 50753 | B121: GRP-2021-ED1.26.1.2 | C121: 2021 GRP - East Detroit 1 | D121: Install Services - Grayton St (1) (E Warrern Ave & Waveney St) | E121: 77 | F121: 03-08-21 A | G121: 04-01-21 A
A122: EDET1 501212 | B122: GRP-2021-ED1.70.1.2 | C122: 2021 GRP - East Detroit 1 | D122: Install Services - Bedford St West (2) (Waveney St & Mack Ave) | E122: 94 | F122: 03-08-21 A | G122: 03-24-21 A
A123: SCDet-7820 | B123: GRP-2021-SCDet1.28.3.2 | C123: 2021 GRP - South Central Detroit 1 | D123: Install Services - Normile (Esper & Belton) | E123: 43 | F123: 03-08-21 A | G123: 04-09-21 A
A124: NWDET-20070 | B124: PROJ-0951-NWDET1CO.53.2.2 | C124: 2021 GRP - North West Detroit 1b | D124: Install Services - Penrod (2) (Davison & EOM) | E124: 7 | F124: 03-08-21 A | G124: 03-08-21 A
A125: NWDET-17740 | B125: PROJ-0951-NWDET1CO.52.2.2 | C125: 2021 GRP - North West Detroit 1b | D125: Install Services - Faust (2) (Davison & EOM) | E125: 18 | F125: 03-08-21 A | G125: 03-10-21 A
A126: NWDET-13640 | B126: PROJ-0951-NWDET1CO.13.2.2 | C126: 2021 GRP - North West Detroit 1b | D126: Install Services - Westwood (1) (Davison & Glendale) | E126: 7 | F126: 03-08-21 A | G126: 04-16-21 A
A127: RR1 7821 | B127: GRP-2021-RR.32.1.2 | C127: 2021 GRP - Risk Rank | D127: Install Services - Lamphere (Fenkell & Eaton) | E127: 18 | F127: 03-08-21 A | G127: 03-11-21 A
A128: CDET-565 | B128: PROJ-0951-CDET1-2.20.1.2 | C128: 2020 GRP - Carry Over - Central Detroit 1 | D128: Install Services - Linwood (1) (Davison & Cortland) | E128: 4 | F128: 03-08-21 A | G128: 03-08-21 A
... A148: CDET2-1545 | B148: GRP-2021-CDet2.2.1.2 | C148: 2021 GRP - Central Detroit 2 | D148: Install Services - Glynn 1 (Dexter & Linwood) | E148: 63 | F148: 03-11-21 A | G148: 04-12-21 A
A149: AP 2660 | B149: PROJ-0951-MMOAllen.54.1.2 | C149: 2021 GRP - Allen Park MMO | D149: MMO Services - Moore 1 (107' West Of Buckingham Ave & Marlborough) | E149: 14 | F149: 03-12-21 A | G149: 44466
A150: AP 2560 | B150: PROJ-0951-MMOAllen.49.1.2 | C150: 2021 GRP - Allen Park MMO | D150: MMO Services - Maylawn (Reeck & Becker) | E150: 0 | F150: 03-12-21 A | G150: 03-12-21 A
A151: CDET2-4585 | B151: GRP-2021-CDet2.42.1.2 | C151: 2021 GRP - Central Detroit 2 | D151: Install Services - Wildemere 1 (Glynn & W Chicago) | E151: 2 | F151: 03-14-21 A | G151: 03-31-21 A
A152: SCDet-3105 | B152: GRP-2021-SCDet1.15.1.2 | C152: 2021 GRP - South Central Detroit 1 | D152: Install Services - Hartwell (Joy & Tireman) | E152: 106 | F152: 03-15-21 A | G152: 03-16-21 A
A153: SCDet-5425 | B153: GRP-2021-SCDet1.44.1.2 | C153: 2021 GRP - South Central Detroit 1 | D153: Install Services - Van Buren (Meadowdale & Schaefer) | E153: 2 | F153: 03-15-21 A | G153: 03-15-21 A
A154: CDET2-2265 | B154: GRP-2021-CDet2.12.1.2 | C154: 2021 GRP - Central Detroit 2 | D154: Install Services - Longfellow 1 (Dexter & Lawton) | E154: 3 | F154: 03-15-21 A | G154: 03-15-21 A
A155: CDET2-2425 | B155: GRP-2021-CDet2.14.1.2 | C155: 2021 GRP - Central Detroit 2 | D155: Install Services - Edison 1 (Dexter & Savery) | E155: 8 | F155: 03-15-21 A | G155: 03-16-21 A
A156: CDET2-2665 | B156: GRP-2021-CDet2.17.1.2 | C156: 2021 GRP - Central Detroit 2 | D156: Install Services - Atkinson 1 (Dexter & Savery) | E156: 4 | F156: 03-15-21 A | G156: 03-15-21 A
A157: CDET2-4745 | B157: GRP-2021-CDet2.44.1.2 | C157: 2021 GRP - Central Detroit 2 | D157: Install Services - Savery (Chicago & Joy) | E157: 8 | F157: 03-15-21 A | G157: 03-16-21 A
A158: CDET2-6170 | B158: GRP-2021-CDet2.21.3.2 | C158: 2021 GRP - Central Detroit 2 | D158: Install Services - Clairmount 2 (La Salle & Rosa Parks) | E158: 43 | F158: 03-15-21 A | G158: 07-27-21 A
A159: CDET2-10210 | B159: GRP-2021-CDet2.21.1.2 | C159: 2021 GRP - Central Detroit 2 | D159: Install Services - Clairmount 2 (Linwood & La Salle) | E159: 13 | F159: 03-15-21 A | G159: 07-27-21 A
A160: CDET-20330 | B160: PROJ-0951-CDET1-2.17.1.2 | C160: 2020 GRP - Carry Over - Central Detroit 1 | D160: Install Services - Dexter (1) (Collingwood & Leslie) | E160: 7 | F160: 03-15-21 A | G160: 03-15-21 A
A161: CDET2-2585 | B161: GRP-2021-CDet2.16.1.2 | C161: 2021 GRP - Central Detroit 2 | D161: Install Services - Wagner (Dexter & Savery) | E161: 3 | F161: 03-16-21 A | G161: 03-22-21 A
... A172: CDET-1440 | B172: PROJ-0951-CDET1-2.38.1.2 | C172: 2020 GRP - Carry Over - Central Detroit 1 | D172: Install Services - Davison (1) (Livernois & Dexter) | E172: 39 | F172: 03-22-21 A | G172: 08-16-21 A
A173: CDET-14035 | B173: PROJ-0951-CDET1-2.69.1.2 | C173: 2020 GRP - Carry Over - Central Detroit 1 | D173: Install Services - Dexter (9) (Clarimount & Virgina Park) | E173: 23 | F173: 03-22-21 A | G173: 44461
A174: EDET1 50749 | B174: GRP-2021-ED1.21.1.2 | C174: 2021 GRP - East Detroit 1 | D174: Install Services - Bishop St (1) (E Warrern Ave & Waveney St) | E174: 1 | F174: 03-22-21 A | G174: 03-30-21 A
A175: EDET1 501546 | B175: GRP-2021-ED1.21.3.2 | C175: 2021 GRP - East Detroit 1 | D175: Install Services - Bishop St (1) (ASO E Warrern Ave & Waveney St) | E175: 78 | F175: 03-22-21 A | G175: 03-24-21 A
A176: SCDet-3185 | B176: GRP-2021-SCDet1.16.1.2 | C176: 2021 GRP - South Central Detroit 1 | D176: Install Services - Bingham (Littlefield & Tireman) | E176: 73 | F176: 03-22-21 A | G176: 03-28-21 A
A177: EDET1 506576 | B177: GRP-2021-ED1.76.3.2 | C177: 2021 GRP - East Detroit 1 | D177: Install Services - Devonshire Rd (2) (Brunswick St & Mack Ave) | E177: 16 | F177: 03-24-21 A | G177: 03-24-21 A
A178: EDET1 50763 | B178: GRP-2021-ED1.36.1.2 | C178: 2021 GRP - East Detroit 1 | D178: Install Services - Yorkshire Rd (1) (E Warrern Ave & Waveney St) | E178: 71 | F178: 03-24-21 A | G178: 03-31-21 A
A179: CDET2-10930 | B179: GRP-2021-CDet2.37.3 | C179: 2021 GRP - Central Detroit 2 | D179: Install Services - Euclid (14th & Rosa Parks) | E179: 6 | F179: 03-24-21 A | G179: 03-24-21 A
A180: AA4 20832 | B180: GRP-2021-AA4.41.1.2 | C180: 2021 GRP - Ann Arbor 4 | D180: Install Services - Manhattan Dr (Mt Vernon Ave& Mt Pleasant Dr) | E180: 3 | F180: 03-24-21 A | G180: 04-23-21 A
A181: EDET1 501220 | B181: GRP-2021-ED1.78.1.2 | C181: 2021 GRP - East Detroit 1 | D181: Install Services - Haverhill St (2) (Waveney St& ANO Mack Ave) | E181: 73 | F181: 03-25-21 A | G181: 04-27-21 A
A182: AA4 20460 | B182: GRP-2021-AA4.6.1.2 | C182: 2021 GRP - Ann Arbor 4 | D182: Install Services - S 7th St (12' SNPL W Madison St & 6' NNPL Pauline Blvd) | E182: 49 | F182: 03-25-21 A | G182: 04-19-21 A
A183: NWDET-13730 | B183: PROJ-0951-NWDET1CO.13.4.2 | C183: 2021 GRP - North West Detroit 1b | D183: Install Services - Westwood (1) (Glendale & EOM) | E183: 5 | F183: 03-26-21 A | G183: 03-29-21 A
A184: SCDet-4065 | B184: GRP-2021-SCDet1.4.1.2 | C184: 2021 GRP - South Central Detroit 1 | D184: Install Services - Freda (Esper & Tireman) | E184: 75 | F184: 03-29-21 A | G184: 04-07-21 A
A185: SCDet-4305 | B185: GRP-2021-SCDet1.30.1.2 | C185: 2021 GRP - South Central Detroit 1 | D185: Install Services - Kentucky (Joy & Tireman) | E185: 105 | F185: 03-29-21 A | G185: 03-30-21 A
... A191: CDET-1800 | B191: PROJ-0951-CDET1-2.19.1.2 | C191: 2020 GRP - Carry Over - Central Detroit 1 | D191: Install Services - Dexter (3) (Davison & Doris) | E191: 9 | F191: 03-29-21 A | G191: 03-30-21 A
A192: Muni1230 | B192: PROJ-0951-MUN-3.27.1.2 | C192: 2020 GRP - Carry Over - Municipality | D192: Install Services - Linwood (Davison & Doris) | E192: 6 | F192: 03-29-21 A | G192: 44459
A193: AA4 28658 | B193: GRP-2021-AA4.2.3.2 | C193: 2021 GRP - Ann Arbor 4 | D193: Install Services - Pauline Blvd (S 7th St & Hutchinst) | E193: 7 | F193: 03-29-21 A | G193: 06-15-21 A
A194: AP 5180 | B194: PROJ-0951-MMOAllen.82.1.2 | C194: 2021 GRP - Allen Park MMO | D194: MMO Services - Sterling (Moore & Pennsylvania) | E194: 42 | F194: 03-30-21 A | G194: 03-30-21 A
A195: AP 5030 | B195: PROJ-0951-MMOAllen.79.1.2 | C195: 2021 GRP - Allen Park MMO | D195: MMO Services - Ruth 2 (200' South Moore & Midway Ave) | E195: 39 | F195: 03-30-21 A | G195: 44489
A196: AP 2020 | B196: PROJ-0951-MMOAllen.22.1.2 | C196: 2021 GRP - Allen Park MMO | D196: MMO Services - Chatham (Wick & 420' South Of Maylawn Ave) | E196: 37 | F196: 03-30-21 A | G196: 04-06-21 A
A197: AP 2320 | B197: PROJ-0951-MMOAllen.37.1.2 | C197: 2021 GRP - Allen Park MMO | D197: MMO Services - Hubert 2 (Moore & Conrail Rr) | E197: 27 | F197: 03-30-21 A | G197: 44481
A198: CDET2-11020 | B198: GRP-2021-CDet2.19.1.2 | C198: 2021 GRP - Central Detroit 2 | D198: Install Services - ANO Joy (Savery & Savery) | E198: 1 | F198: 03-31-21 A | G198: 03-31-21 A
A199: EDET1 501218 | B199: GRP-2021-ED1.76.1.2 | C199: 2021 GRP - East Detroit 1 | D199: Install Services - Devonshire Rd (2) (Waveney Ave & Bremen St) | E199: 26 | F199: 03-31-21 A | G199: 03-31-21 A
A200: AA4 20843 | B200: GRP-2021-AA4.52.1.2 | C200: 2021 GRP - Ann Arbor 4 | D200: Install Services - W Madison St (Soule Blvd & Eberwhite Blvd) | E200: 13 | F200: 04-01-21 A | G200: 04-01-21 A
A201: CDET2-8530 | B201: GRP-2021-CDet2.50.3.2 | C201: 2021 GRP - Central Detroit 2 | D201: Install Services - LaSalle 1 (Gladstone & W Euclid) | E201: 30 | F201: 04-04-21 A | G201: 04-08-21 A
A202: SCDet-2065 | B202: GRP-2021-SCDet1.1.1.2 | C202: 2021 GRP - South Central Detroit 1 | D202: Install Services - Oakman Blvd W 3 (Joy & Birwood) | E202: 9 | F202: 04-05-21 A | G202: 04-13-21 A
A203: SCDet-2145 | B203: GRP-2021-SCDet1.2.1.2 | C203: 2021 GRP - South Central Detroit 1 | D203: Install Services - Oakman Blvd N 2 (Steel & Birwood) | E203: 15 | F203: 04-05-21 A | G203: 04-13-21 A
A204: EDET1 50751 | B204: GRP-2021-ED1.24.1.2 | C204: 2021 GRP - East Detroit 1 | D204: Install Services - Courville St (1) (E Warrern Ave & Waveney St) | E204: 59 | F204: 04-05-21 A | G204: 06-15-21 A
A205: SCDet-8470 | B205: GRP-2021-SCDet1.29.3.2 | C205: 2021 GRP - South Central Detroit 1 | D205: Install Services - Wyoming Ave West (Joy & Tireman) | E205: 51 | F205: 04-05-21 A | G205: 05-05-21 A
A206: CDET-21080 | B206: PROJ-0951-CDET1-2.28.1.2 | C206: 2020 GRP - Carry Over - Central Detroit 1 | D206: Install Services - AWO Linwood (1) (Cortland & Collingwood) | E206: 4 | F206: 04-05-21 A | G206: 04-05-21 A
A207: AA4 22758 | B207: GRP-2021-AA4.1.2.2 | C207: 2021 GRP - Ann Arbor 4 | D207: Install Services - Hutchins Ave (W Davis St & Pauline Blvd) | E207: 17 | F207: 04-06-21 A | G207: 04-20-21 A
...

Sheet Rest
A1: Activity ID | B1: WBS | C1: Project Name | D1: Activity Name | E1: Budgeted Units | F1: Start | G1: Finish
A2: NDET1-4580 | B2: PROJ-0951-NDET1-1.1.1.2 | C2: 2019 GRP - Carry Over - North Detroit 1 | D2: Restoration - Soft Surface - 7 Mile Rd (Outer Dr & Van Dyke) | E2: 9 | F2: 02-08-21 A | G2: 02-12-21 A
A3: NDET1-4660 | B3: PROJ-0951-NDET1-1.2.1.2 | C3: 2019 GRP - Carry Over - North Detroit 1 | D3: Restoration - Soft Surface - Anthos Garden Apts (Outer Dr E & EOM) | E3: 0 | F3: 02-08-21 A | G3: 02-12-21 A
A4: NDET1-4740 | B4: PROJ-0951-NDET1-1.3.1.2 | C4: 2019 GRP - Carry Over - North Detroit 1 | D4: Restoration - Soft Surface - Antwerp (7 Mile Rd and NO House) | E4: 0 | F4: 02-08-21 A | G4: 02-12-21 A
A5: NDET1-2240 | B5: PROJ-0951-NDET1-1.4.8.2 | C5: 2019 GRP - Carry Over - North Detroit 1 | D5: Restoration - Soft Surface - Bliss (Van Dyke & Outer Dr E) | E5: 97 | F5: 02-08-21 A | G5: 02-12-21 A
A6: NDET1-2330 | B6: PROJ-0951-NDET1-1.5.1.2 | C6: 2019 GRP - Carry Over - North Detroit 1 | D6: Restoration - Soft Surface - Conner (Outer Dr E & E State Fair) | E6: 0 | F6: 02-08-21 A | G6: 02-12-21 A
A7: NDET1-4310 | B7: PROJ-0951-NDET1-1.10.1.2 | C7: 2019 GRP - Carry Over - North Detroit 1 | D7: Restoration - Soft Surface - Outer Dr E 1 (Van Dyke & Conner) | E7: 50 | F7: 02-08-21 A | G7: 02-12-21 A
A8: NDET1-4220 | B8: PROJ-0951-NDET1-1.11.3.2 | C8: 2019 GRP - Carry Over - North Detroit 1 | D8: Restoration - Soft Surface - Outer Dr E 2 (Conner & Royalt) | E8: 7 | F8: 02-08-21 A | G8: 02-12-21 A
A9: NDET1-4490 | B9: PROJ-0951-NDET1-1.6.1.2 | C9: 2019 GRP - Carry Over - North Detroit 1 | D9: Restoration - Soft Surface - Lantz 2 (AEO Van Dyke & Van Dyke) | E9: 53 | F9: 02-08-21 A | G9: 02-12-21 A
A10: NDET1-4400 | B10: PROJ-0951-NDET1-1.7.1.2 | C10: 2019 GRP - Carry Over - North Detroit 1 | D10: Restoration - Soft Surface - House (Antwerp & Van Dyke) | E10: 52 | F10: 02-08-21 A | G10: 02-12-21 A
A11: NDET1-4140 | B11: PROJ-0951-NDET1-1.12.1.2 | C11: 2019 GRP - Carry Over - North Detroit 1 | D11: Restoration - Soft Surface - Rolyat (Van Dyke & Outer Dr) | E11: 52 | F11: 02-08-21 A | G11: 02-12-21 A
A12: NDET1-4050 | B12: PROJ-0951-NDET1-1.13.1.2 | C12: 2019 GRP - Carry Over - North Detroit 1 | D12: Restoration - Soft Surface - Sirron (Outer Dr & Van Dyke) | E12: 62 | F12: 02-08-21 A | G12: 02-12-21 A
A13: NDET1-3960 | B13: PROJ-0951-NDET1-1.14.1.2 | C13: 2019 GRP - Carry Over - North Detroit 1 | D13: Restoration - Soft Surface - Suzanne (Antwerp & Van Dyke) | E13: 37 | F13: 02-08-21 A | G13: 02-12-21 A
